Back to Multiple platform build/check report for BioC 3.12
[A]BCDEFGHIJKLMNOPQRSTUVWXYZ

BUILD BIN report for a4Reporting on merida1

This page was generated on 2020-08-07 12:25:39 -0400 (Fri, 07 Aug 2020).

TO THE DEVELOPERS/MAINTAINERS OF THE a4Reporting PACKAGE: Please make sure to use the following settings in order to reproduce any error or warning you see on this page.
Package 6/1882HostnameOS / ArchINSTALLBUILDCHECKBUILD BIN
a4Reporting 1.37.0
Tobias Verbeke
Snapshot Date: 2020-08-06 14:50:46 -0400 (Thu, 06 Aug 2020)
URL: https://git.bioconductor.org/packages/a4Reporting
Branch: master
Last Commit: 3d068f3
Last Changed Date: 2020-04-27 14:25:28 -0400 (Mon, 27 Apr 2020)
malbec1 Linux (Ubuntu 18.04.4 LTS) / x86_64  OK  OK  WARNINGS UNNEEDED, same version exists in internal repository
tokay1 Windows Server 2012 R2 Standard / x64  OK  OK  WARNINGS  OK UNNEEDED, same version exists in internal repository
merida1 macOS 10.14.6 Mojave / x86_64  OK  OK  WARNINGS [ OK ]UNNEEDED, same version exists in internal repository

Summary

Package: a4Reporting
Version: 1.37.0
Command: rm -rf a4Reporting.buildbin-libdir && mkdir a4Reporting.buildbin-libdir && /Users/biocbuild/BBS/utils/build-universal.sh a4Reporting_1.37.0.tar.gz /Library/Frameworks/R.framework/Versions/Current/Resources/bin/R a4Reporting.buildbin-libdir
StartedAt: 2020-08-07 06:18:33 -0400 (Fri, 07 Aug 2020)
EndedAt: 2020-08-07 06:19:29 -0400 (Fri, 07 Aug 2020)
EllapsedTime: 56.7 seconds
RetCode: 0
Status:  OK 
PackageFile: a4Reporting_1.37.0.tgz
PackageFileSize: 187.4 KiB

Command output

##############################################################################
##############################################################################
###
### Running command:
###
###   rm -rf a4Reporting.buildbin-libdir && mkdir a4Reporting.buildbin-libdir && /Users/biocbuild/BBS/utils/build-universal.sh a4Reporting_1.37.0.tar.gz /Library/Frameworks/R.framework/Versions/Current/Resources/bin/R a4Reporting.buildbin-libdir
###
##############################################################################
##############################################################################


>>>>>>> 
>>>>>>> INSTALLATION WITH 'R CMD INSTALL --preclean --no-multiarch --library=a4Reporting.buildbin-libdir a4Reporting_1.37.0.tar.gz'
>>>>>>> 

* installing *source* package ‘a4Reporting’ ...
** using staged installation
** R
** inst
** byte-compile and prepare package for lazy loading
Warning message:
Package 'KEGG.db' is deprecated and will be removed from Bioconductor
  version 3.12 
** help
*** installing help indices
** building package indices
** testing if installed package can be loaded from temporary location
Warning: Package 'KEGG.db' is deprecated and will be removed from Bioconductor
  version 3.12
** testing if installed package can be loaded from final location
Warning: Package 'KEGG.db' is deprecated and will be removed from Bioconductor
  version 3.12
** testing if installed package keeps a record of temporary installation path
* DONE (a4Reporting)