Back to Multiple platform build/check report for BioC 3.12
[A]BCDEFGHIJKLMNOPQRSTUVWXYZ

INSTALL report for ASICS on merida1

This page was generated on 2020-08-07 12:38:19 -0400 (Fri, 07 Aug 2020).

TO THE DEVELOPERS/MAINTAINERS OF THE ASICS PACKAGE: Please make sure to use the following settings in order to reproduce any error or warning you see on this page.
Package 87/1882HostnameOS / ArchINSTALLBUILDCHECKBUILD BIN
ASICS 2.5.3
Gaëlle Lefort
Snapshot Date: 2020-08-06 14:50:46 -0400 (Thu, 06 Aug 2020)
URL: https://git.bioconductor.org/packages/ASICS
Branch: master
Last Commit: 6bc5327
Last Changed Date: 2020-07-20 02:38:28 -0400 (Mon, 20 Jul 2020)
malbec1 Linux (Ubuntu 18.04.4 LTS) / x86_64  OK  OK  WARNINGS UNNEEDED, same version exists in internal repository
tokay1 Windows Server 2012 R2 Standard / x64  OK  OK  WARNINGS  OK UNNEEDED, same version exists in internal repository
merida1 macOS 10.14.6 Mojave / x86_64 [ OK ] OK  WARNINGS  OK UNNEEDED, same version exists in internal repository

Summary

Package: ASICS
Version: 2.5.3
Command: /Library/Frameworks/R.framework/Versions/Current/Resources/bin/R CMD INSTALL ASICS
StartedAt: 2020-08-06 17:16:16 -0400 (Thu, 06 Aug 2020)
EndedAt: 2020-08-06 17:16:50 -0400 (Thu, 06 Aug 2020)
EllapsedTime: 34.2 seconds
RetCode: 0
Status:  OK 

Command output

##############################################################################
##############################################################################
###
### Running command:
###
###   /Library/Frameworks/R.framework/Versions/Current/Resources/bin/R CMD INSTALL ASICS
###
##############################################################################
##############################################################################


* installing to library ‘/Library/Frameworks/R.framework/Versions/4.0/Resources/library’
* installing *source* package ‘ASICS’ ...
** using staged installation
** R
** data
*** moving datasets to lazyload DB
** inst
** byte-compile and prepare package for lazy loading
** help
*** installing help indices
** building package indices
** installing vignettes
   ‘ASICS.Rmd’ using ‘UTF-8’ 
   ‘ASICSUsersGuide.Rmd’ using ‘UTF-8’ 
** testing if installed package can be loaded from temporary location
** testing if installed package can be loaded from final location
** testing if installed package keeps a record of temporary installation path
* DONE (ASICS)