Back to Multiple platform build/check report for BioC 3.12
AB[C]DEFGHIJKLMNOPQRSTUVWXYZ

BUILD report for ChemmineOB on tokay1

This page was generated on 2020-08-10 12:15:43 -0400 (Mon, 10 Aug 2020).

TO THE DEVELOPERS/MAINTAINERS OF THE ChemmineOB PACKAGE: Please make sure to use the following settings in order to reproduce any error or warning you see on this page.
Package 263/1882HostnameOS / ArchINSTALLBUILDCHECKBUILD BIN
ChemmineOB 1.27.1
Thomas Girke
Snapshot Date: 2020-08-09 14:51:29 -0400 (Sun, 09 Aug 2020)
URL: https://git.bioconductor.org/packages/ChemmineOB
Branch: master
Last Commit: 07550fb
Last Changed Date: 2020-05-06 18:39:47 -0400 (Wed, 06 May 2020)
malbec1 Linux (Ubuntu 18.04.4 LTS) / x86_64  ERROR  ERROR  skipped 
nebbiolo1 Linux (Ubuntu 20.04.1 LTS) / x86_64  ERROR  ERROR  skipped 
tokay1 Windows Server 2012 R2 Standard / x64  ERROR [ ERROR ] skipped  skipped 
merida1 macOS 10.14.6 Mojave / x86_64  ERROR  ERROR  skipped  skipped 

Summary

Package: ChemmineOB
Version: 1.27.1
Command: chmod a+r ChemmineOB -R && C:\Users\biocbuild\bbs-3.12-bioc\R\bin\R.exe CMD build --keep-empty-dirs --no-resave-data ChemmineOB
StartedAt: 2020-08-09 20:02:08 -0400 (Sun, 09 Aug 2020)
EndedAt: 2020-08-09 20:02:26 -0400 (Sun, 09 Aug 2020)
EllapsedTime: 18.6 seconds
RetCode: 1
Status:  ERROR  
PackageFile: ChemmineOB_1.27.1.tar.gz
PackageFileSize: 1.039 MiB

Command output

##############################################################################
##############################################################################
###
### Running command:
###
###   chmod a+r ChemmineOB -R && C:\Users\biocbuild\bbs-3.12-bioc\R\bin\R.exe CMD build --keep-empty-dirs --no-resave-data ChemmineOB
###
##############################################################################
##############################################################################


* checking for file 'ChemmineOB/DESCRIPTION' ... OK
* preparing 'ChemmineOB':
* checking DESCRIPTION meta-information ... OK
* cleaning src
* installing the package to build vignettes
      -----------------------------------
* installing *source* package 'ChemmineOB' ...
** using staged installation

   **********************************************
   WARNING: this package has a configure script
         It probably needs manual configuration
   **********************************************


** libs
"C:/rtools40/mingw64/bin/"g++ -std=gnu++11  -I"C:/Users/BIOCBU~1/BBS-3~1.12-/R/include" -DNDEBUG  -I'C:/Users/biocbuild/bbs-3.12-bioc/R/library/BH/include' -I'C:/Users/biocbuild/bbs-3.12-bioc/R/library/Rcpp/include'   -I"C:/extsoft/include"  -Ic:/openbabel/src/x64/include   -O2 -Wall  -mfpmath=sse -msse2 -mstackrealign -c ChemmineOB.cpp -o ChemmineOB.o
In file included from ChemmineOB.cpp:1624:
c:/openbabel/src/x64/include/openbabel/math/align.h:26:10: fatal error: Eigen/Core: No such file or directory
 #include <Eigen/Core>
          ^~~~~~~~~~~~
compilation terminated.
make: *** [C:/Users/BIOCBU~1/BBS-3~1.12-/R/etc/x64/Makeconf:229: ChemmineOB.o] Error 1
ERROR: compilation failed for package 'ChemmineOB'
* removing 'C:/Users/biocbuild/bbs-3.12-bioc/tmpdir/RtmpcRCbsD/Rinst23d47ff947c/ChemmineOB'
      -----------------------------------
ERROR: package installation failed