Back to Multiple platform build/check report for BioC 3.12
AB[C]DEFGHIJKLMNOPQRSTUVWXYZ

BUILD BIN report for cellscape on merida1

This page was generated on 2020-08-10 12:40:20 -0400 (Mon, 10 Aug 2020).

TO THE DEVELOPERS/MAINTAINERS OF THE cellscape PACKAGE: Please make sure to use the following settings in order to reproduce any error or warning you see on this page.
Package 246/1882HostnameOS / ArchINSTALLBUILDCHECKBUILD BIN
cellscape 1.13.0
Maia Smith
Snapshot Date: 2020-08-09 14:51:29 -0400 (Sun, 09 Aug 2020)
URL: https://git.bioconductor.org/packages/cellscape
Branch: master
Last Commit: 3333ded
Last Changed Date: 2020-04-27 15:05:30 -0400 (Mon, 27 Apr 2020)
malbec1 Linux (Ubuntu 18.04.4 LTS) / x86_64  OK  OK  WARNINGS UNNEEDED, same version exists in internal repository
nebbiolo1 Linux (Ubuntu 20.04.1 LTS) / x86_64  OK  OK  WARNINGS 
tokay1 Windows Server 2012 R2 Standard / x64  OK  OK  WARNINGS  OK UNNEEDED, same version exists in internal repository
merida1 macOS 10.14.6 Mojave / x86_64  OK  OK  WARNINGS [ OK ]UNNEEDED, same version exists in internal repository

Summary

Package: cellscape
Version: 1.13.0
Command: rm -rf cellscape.buildbin-libdir && mkdir cellscape.buildbin-libdir && /Users/biocbuild/BBS/utils/build-universal.sh cellscape_1.13.0.tar.gz /Library/Frameworks/R.framework/Versions/Current/Resources/bin/R cellscape.buildbin-libdir
StartedAt: 2020-08-10 07:15:15 -0400 (Mon, 10 Aug 2020)
EndedAt: 2020-08-10 07:16:13 -0400 (Mon, 10 Aug 2020)
EllapsedTime: 57.8 seconds
RetCode: 0
Status:  OK 
PackageFile: cellscape_1.13.0.tgz
PackageFileSize: 884.3 KiB

Command output

##############################################################################
##############################################################################
###
### Running command:
###
###   rm -rf cellscape.buildbin-libdir && mkdir cellscape.buildbin-libdir && /Users/biocbuild/BBS/utils/build-universal.sh cellscape_1.13.0.tar.gz /Library/Frameworks/R.framework/Versions/Current/Resources/bin/R cellscape.buildbin-libdir
###
##############################################################################
##############################################################################


>>>>>>> 
>>>>>>> INSTALLATION WITH 'R CMD INSTALL --preclean --no-multiarch --library=cellscape.buildbin-libdir cellscape_1.13.0.tar.gz'
>>>>>>> 

* installing *source* package ‘cellscape’ ...
** using staged installation
** R
** inst
** byte-compile and prepare package for lazy loading
** help
*** installing help indices
** building package indices
** installing vignettes
** testing if installed package can be loaded from temporary location
** testing if installed package can be loaded from final location
** testing if installed package keeps a record of temporary installation path
* DONE (cellscape)