Back to Multiple platform build/check report for BioC 3.12
A[B]CDEFGHIJKLMNOPQRSTUVWXYZ

BUILD report for BayesKnockdown on malbec1

This page was generated on 2020-08-12 11:19:52 -0400 (Wed, 12 Aug 2020).

TO THE DEVELOPERS/MAINTAINERS OF THE BayesKnockdown PACKAGE: Please make sure to use the following settings in order to reproduce any error or warning you see on this page.
Package 118/1885HostnameOS / ArchINSTALLBUILDCHECKBUILD BIN
BayesKnockdown 1.15.0
William Chad Young
Snapshot Date: 2020-08-11 14:50:16 -0400 (Tue, 11 Aug 2020)
URL: https://git.bioconductor.org/packages/BayesKnockdown
Branch: master
Last Commit: 1ddb444
Last Changed Date: 2020-04-27 15:00:13 -0400 (Mon, 27 Apr 2020)
malbec1 Linux (Ubuntu 18.04.4 LTS) / x86_64  OK [ OK ] OK UNNEEDED, same version exists in internal repository
nebbiolo1 Linux (Ubuntu 20.04.1 LTS) / x86_64  OK  OK  OK 
tokay1 Windows Server 2012 R2 Standard / x64  OK  OK  OK  OK UNNEEDED, same version exists in internal repository
merida1 macOS 10.14.6 Mojave / x86_64  OK  OK  OK  OK UNNEEDED, same version exists in internal repository

Summary

Package: BayesKnockdown
Version: 1.15.0
Command: /home/biocbuild/bbs-3.12-bioc/R/bin/R CMD build --keep-empty-dirs --no-resave-data BayesKnockdown
StartedAt: 2020-08-11 20:42:00 -0400 (Tue, 11 Aug 2020)
EndedAt: 2020-08-11 20:42:11 -0400 (Tue, 11 Aug 2020)
EllapsedTime: 11.0 seconds
RetCode: 0
Status:  OK 
PackageFile: BayesKnockdown_1.15.0.tar.gz
PackageFileSize: 124 KiB

Command output

##############################################################################
##############################################################################
###
### Running command:
###
###   /home/biocbuild/bbs-3.12-bioc/R/bin/R CMD build --keep-empty-dirs --no-resave-data BayesKnockdown
###
##############################################################################
##############################################################################


* checking for file ‘BayesKnockdown/DESCRIPTION’ ... OK
* preparing ‘BayesKnockdown’:
* checking DESCRIPTION meta-information ... OK
* installing the package to build vignettes
* creating vignettes ... OK
* checking for LF line-endings in source and make files and shell scripts
* checking for empty or unneeded directories
* building ‘BayesKnockdown_1.15.0.tar.gz’