Back to Multiple platform build/check report for BioC 3.12
AB[C]DEFGHIJKLMNOPQRSTUVWXYZ

BUILD BIN report for CGHbase on merida1

This page was generated on 2020-09-21 11:23:55 -0400 (Mon, 21 Sep 2020).

TO THE DEVELOPERS/MAINTAINERS OF THE CGHbase PACKAGE: Please make sure to use the following settings in order to reproduce any error or warning you see on this page.
Package 258/1912HostnameOS / ArchINSTALLBUILDCHECKBUILD BIN
CGHbase 1.49.0
Mark van de Wiel
Snapshot Date: 2020-09-20 14:41:51 -0400 (Sun, 20 Sep 2020)
URL: https://git.bioconductor.org/packages/CGHbase
Branch: master
Last Commit: a77a421
Last Changed Date: 2020-04-27 14:17:17 -0400 (Mon, 27 Apr 2020)
malbec1 Linux (Ubuntu 18.04.4 LTS) / x86_64  OK  OK  OK UNNEEDED, same version exists in internal repository
nebbiolo1 Linux (Ubuntu 20.04.1 LTS) / x86_64  OK  OK  OK 
tokay1 Windows Server 2012 R2 Standard / x64  OK  OK  WARNINGS  OK UNNEEDED, same version exists in internal repository
riesling1 Windows Server 2019 Standard / x64  OK  OK  WARNINGS  OK 
merida1 macOS 10.14.6 Mojave / x86_64  OK  OK  OK [ OK ]UNNEEDED, same version exists in internal repository

Summary

Package: CGHbase
Version: 1.49.0
Command: rm -rf CGHbase.buildbin-libdir && mkdir CGHbase.buildbin-libdir && /Users/biocbuild/BBS/utils/build-universal.sh CGHbase_1.49.0.tar.gz /Library/Frameworks/R.framework/Versions/Current/Resources/bin/R CGHbase.buildbin-libdir
StartedAt: 2020-09-21 07:56:08 -0400 (Mon, 21 Sep 2020)
EndedAt: 2020-09-21 07:56:48 -0400 (Mon, 21 Sep 2020)
EllapsedTime: 40.2 seconds
RetCode: 0
Status:  OK 
PackageFile: CGHbase_1.49.0.tgz
PackageFileSize: 1.045 MiB

Command output

##############################################################################
##############################################################################
###
### Running command:
###
###   rm -rf CGHbase.buildbin-libdir && mkdir CGHbase.buildbin-libdir && /Users/biocbuild/BBS/utils/build-universal.sh CGHbase_1.49.0.tar.gz /Library/Frameworks/R.framework/Versions/Current/Resources/bin/R CGHbase.buildbin-libdir
###
##############################################################################
##############################################################################


>>>>>>> 
>>>>>>> INSTALLATION WITH 'R CMD INSTALL --preclean --no-multiarch --library=CGHbase.buildbin-libdir CGHbase_1.49.0.tar.gz'
>>>>>>> 

* installing *source* package ‘CGHbase’ ...
** using staged installation
** R
** data
** byte-compile and prepare package for lazy loading
** help
*** installing help indices
** building package indices
** testing if installed package can be loaded from temporary location
** testing if installed package can be loaded from final location
** testing if installed package keeps a record of temporary installation path
* DONE (CGHbase)