Back to Multiple platform build/check report for BioC 3.12
A[B]CDEFGHIJKLMNOPQRSTUVWXYZ

BUILD BIN report for bioassayR on merida1

This page was generated on 2020-08-10 12:35:02 -0400 (Mon, 10 Aug 2020).

TO THE DEVELOPERS/MAINTAINERS OF THE bioassayR PACKAGE: Please make sure to use the following settings in order to reproduce any error or warning you see on this page.
Package 143/1882HostnameOS / ArchINSTALLBUILDCHECKBUILD BIN
bioassayR 1.27.0
Tyler Backman
Snapshot Date: 2020-08-09 14:51:29 -0400 (Sun, 09 Aug 2020)
URL: https://git.bioconductor.org/packages/bioassayR
Branch: master
Last Commit: 288a60a
Last Changed Date: 2020-04-27 14:36:43 -0400 (Mon, 27 Apr 2020)
malbec1 Linux (Ubuntu 18.04.4 LTS) / x86_64  OK  OK  OK UNNEEDED, same version exists in internal repository
nebbiolo1 Linux (Ubuntu 20.04.1 LTS) / x86_64  OK  OK  OK 
tokay1 Windows Server 2012 R2 Standard / x64  OK  OK  WARNINGS  OK UNNEEDED, same version exists in internal repository
merida1 macOS 10.14.6 Mojave / x86_64  OK  OK  OK [ OK ]UNNEEDED, same version exists in internal repository

Summary

Package: bioassayR
Version: 1.27.0
Command: rm -rf bioassayR.buildbin-libdir && mkdir bioassayR.buildbin-libdir && /Users/biocbuild/BBS/utils/build-universal.sh bioassayR_1.27.0.tar.gz /Library/Frameworks/R.framework/Versions/Current/Resources/bin/R bioassayR.buildbin-libdir
StartedAt: 2020-08-10 06:33:02 -0400 (Mon, 10 Aug 2020)
EndedAt: 2020-08-10 06:33:59 -0400 (Mon, 10 Aug 2020)
EllapsedTime: 57.3 seconds
RetCode: 0
Status:  OK 
PackageFile: bioassayR_1.27.0.tgz
PackageFileSize: 893.6 KiB

Command output

##############################################################################
##############################################################################
###
### Running command:
###
###   rm -rf bioassayR.buildbin-libdir && mkdir bioassayR.buildbin-libdir && /Users/biocbuild/BBS/utils/build-universal.sh bioassayR_1.27.0.tar.gz /Library/Frameworks/R.framework/Versions/Current/Resources/bin/R bioassayR.buildbin-libdir
###
##############################################################################
##############################################################################


>>>>>>> 
>>>>>>> INSTALLATION WITH 'R CMD INSTALL --preclean --no-multiarch --library=bioassayR.buildbin-libdir bioassayR_1.27.0.tar.gz'
>>>>>>> 

* installing *source* package ‘bioassayR’ ...
** using staged installation
** R
** data
** inst
** byte-compile and prepare package for lazy loading
Creating a new generic function for ‘organism’ in package ‘bioassayR’
Creating a new generic function for ‘organism<-’ in package ‘bioassayR’
** help
*** installing help indices
** building package indices
** installing vignettes
** testing if installed package can be loaded from temporary location
** testing if installed package can be loaded from final location
** testing if installed package keeps a record of temporary installation path
* DONE (bioassayR)