Back to Multiple platform build/check report for BioC 3.12
AB[C]DEFGHIJKLMNOPQRSTUVWXYZ

INSTALL report for canceR on malbec1

This page was generated on 2020-08-13 11:16:39 -0400 (Thu, 13 Aug 2020).

TO THE DEVELOPERS/MAINTAINERS OF THE canceR PACKAGE: Please make sure to use the following settings in order to reproduce any error or warning you see on this page.
Package 217/1885HostnameOS / ArchINSTALLBUILDCHECKBUILD BIN
canceR 1.23.0
Karim Mezhoud
Snapshot Date: 2020-08-12 14:52:00 -0400 (Wed, 12 Aug 2020)
URL: https://git.bioconductor.org/packages/canceR
Branch: master
Last Commit: eaa1ca4
Last Changed Date: 2020-04-27 14:47:07 -0400 (Mon, 27 Apr 2020)
malbec1 Linux (Ubuntu 18.04.4 LTS) / x86_64 [ TIMEOUT ] OK  ERROR 
nebbiolo1 Linux (Ubuntu 20.04.1 LTS) / x86_64  OK  OK  OK 
tokay1 Windows Server 2012 R2 Standard / x64  OK  OK  OK  OK UNNEEDED, same version exists in internal repository
merida1 macOS 10.14.6 Mojave / x86_64  OK  OK  OK  OK UNNEEDED, same version exists in internal repository

Summary

Package: canceR
Version: 1.23.0
Command: /home/biocbuild/bbs-3.12-bioc/R/bin/R CMD INSTALL canceR
StartedAt: 2020-08-12 17:22:02 -0400 (Wed, 12 Aug 2020)
EndedAt: 2020-08-12 18:02:02 -0400 (Wed, 12 Aug 2020)
EllapsedTime: 2400.1 seconds
RetCode: None
Status:  TIMEOUT 

Command output

##############################################################################
##############################################################################
###
### Running command:
###
###   /home/biocbuild/bbs-3.12-bioc/R/bin/R CMD INSTALL canceR
###
##############################################################################
##############################################################################


* installing to library ‘/home/biocbuild/bbs-3.12-bioc/R/library’
* installing *source* package ‘canceR’ ...
** using staged installation
** R
** inst
** byte-compile and prepare package for lazy loading