Back to Multiple platform build/check report for BioC 3.12
[A]BCDEFGHIJKLMNOPQRSTUVWXYZ

BUILD BIN report for a4Reporting on tokay1

This page was generated on 2021-02-22 12:36:46 -0500 (Mon, 22 Feb 2021).

To the developers/maintainers of the a4Reporting package:
Please make sure to use the following settings in order to reproduce any error or warning you see on this page.
Package 6/1974HostnameOS / ArchINSTALLBUILDCHECKBUILD BIN
a4Reporting 1.38.0
Laure Cougnaud
Snapshot Date: 2021-02-21 14:52:07 -0500 (Sun, 21 Feb 2021)
URL: https://git.bioconductor.org/packages/a4Reporting
Branch: RELEASE_3_12
Last Commit: cd3cf24
Last Changed Date: 2020-10-27 10:41:23 -0500 (Tue, 27 Oct 2020)
malbec1Linux (Ubuntu 18.04.5 LTS) / x86_64  OK    OK    OK  UNNEEDED, same version exists in internal repository
nebbiolo1Linux (Ubuntu 20.04.2 LTS) / x86_64  OK    OK    OK  
tokay1Windows Server 2012 R2 Standard / x64  OK    OK    OK    OK  UNNEEDED, same version exists in internal repository
merida1macOS 10.14.6 Mojave / x86_64  OK    OK    OK    OK  UNNEEDED, same version exists in internal repository

Summary

Package: a4Reporting
Version: 1.38.0
Command: rm -rf a4Reporting.buildbin-libdir && mkdir a4Reporting.buildbin-libdir && C:\Users\biocbuild\bbs-3.12-bioc\R\bin\R.exe CMD INSTALL --merge-multiarch --build --library=a4Reporting.buildbin-libdir a4Reporting_1.38.0.tar.gz
StartedAt: 2021-02-22 08:29:08 -0500 (Mon, 22 Feb 2021)
EndedAt: 2021-02-22 08:29:28 -0500 (Mon, 22 Feb 2021)
EllapsedTime: 19.9 seconds
RetCode: 0
Status:   OK   
PackageFile: a4Reporting_1.38.0.zip
PackageFileSize: 419.4 KiB

Command output

##############################################################################
##############################################################################
###
### Running command:
###
###   rm -rf a4Reporting.buildbin-libdir && mkdir a4Reporting.buildbin-libdir && C:\Users\biocbuild\bbs-3.12-bioc\R\bin\R.exe CMD INSTALL --merge-multiarch --build --library=a4Reporting.buildbin-libdir a4Reporting_1.38.0.tar.gz
###
##############################################################################
##############################################################################



install for i386

* installing *source* package 'a4Reporting' ...
** using staged installation
** R
** inst
** byte-compile and prepare package for lazy loading
** help
*** installing help indices
  converting help for package 'a4Reporting'
    finding HTML links ... done
    annotationTable-class                   html  
    annotationTable                         html  
    generateEntrezIdLinks                   html  
    generateGOIdLinks                       html  
    print.xtableAnnotationTable             html  
    xtable-methods                          html  
** building package indices
** installing vignettes
** testing if installed package can be loaded from temporary location
** testing if installed package can be loaded from final location
** testing if installed package keeps a record of temporary installation path

install for x64

* installing *source* package 'a4Reporting' ...
** testing if installed package can be loaded
* MD5 sums
packaged installation of 'a4Reporting' as a4Reporting_1.38.0.zip
* DONE (a4Reporting)