Back to Multiple platform build/check report for BioC 3.12
[A]BCDEFGHIJKLMNOPQRSTUVWXYZ

BUILD BIN report for AnnotationHub on merida1

This page was generated on 2020-10-14 11:22:44 -0400 (Wed, 14 Oct 2020).

TO THE DEVELOPERS/MAINTAINERS OF THE AnnotationHub PACKAGE: Please make sure to use the following settings in order to reproduce any error or warning you see on this page.
Package 64/1930HostnameOS / ArchINSTALLBUILDCHECKBUILD BIN
AnnotationHub 2.21.5
Bioconductor Package Maintainer
Snapshot Date: 2020-10-13 14:40:34 -0400 (Tue, 13 Oct 2020)
URL: https://git.bioconductor.org/packages/AnnotationHub
Branch: master
Last Commit: 3c9b7ba
Last Changed Date: 2020-08-26 08:04:50 -0400 (Wed, 26 Aug 2020)
malbec1 Linux (Ubuntu 18.04.4 LTS) / x86_64  OK  OK  WARNINGS UNNEEDED, same version exists in internal repository
nebbiolo1 Linux (Ubuntu 20.04.1 LTS) / x86_64  OK  OK  WARNINGS 
tokay1 Windows Server 2012 R2 Standard / x64  OK  OK  WARNINGS  OK UNNEEDED, same version exists in internal repository
riesling1 Windows Server 2019 Standard / x64  OK  OK  WARNINGS  OK 
merida1 macOS 10.14.6 Mojave / x86_64  OK  OK  WARNINGS [ OK ]UNNEEDED, same version exists in internal repository

Summary

Package: AnnotationHub
Version: 2.21.5
Command: rm -rf AnnotationHub.buildbin-libdir && mkdir AnnotationHub.buildbin-libdir && /Users/biocbuild/BBS/utils/build-universal.sh AnnotationHub_2.21.5.tar.gz /Library/Frameworks/R.framework/Versions/Current/Resources/bin/R AnnotationHub.buildbin-libdir
StartedAt: 2020-10-14 09:18:06 -0400 (Wed, 14 Oct 2020)
EndedAt: 2020-10-14 09:20:11 -0400 (Wed, 14 Oct 2020)
EllapsedTime: 125.3 seconds
RetCode: 0
Status:  OK 
PackageFile: AnnotationHub_2.21.5.tgz
PackageFileSize: 1.427 MiB

Command output

##############################################################################
##############################################################################
###
### Running command:
###
###   rm -rf AnnotationHub.buildbin-libdir && mkdir AnnotationHub.buildbin-libdir && /Users/biocbuild/BBS/utils/build-universal.sh AnnotationHub_2.21.5.tar.gz /Library/Frameworks/R.framework/Versions/Current/Resources/bin/R AnnotationHub.buildbin-libdir
###
##############################################################################
##############################################################################


>>>>>>> 
>>>>>>> INSTALLATION WITH 'R CMD INSTALL --preclean --no-multiarch --library=AnnotationHub.buildbin-libdir AnnotationHub_2.21.5.tar.gz'
>>>>>>> 

* installing *source* package ‘AnnotationHub’ ...
** using staged installation
** R
** inst
** byte-compile and prepare package for lazy loading
** help
*** installing help indices
** building package indices
** installing vignettes
** testing if installed package can be loaded from temporary location
** testing if installed package can be loaded from final location
** testing if installed package keeps a record of temporary installation path
* DONE (AnnotationHub)