Back to Multiple platform build/check report for BioC 3.12
[A]BCDEFGHIJKLMNOPQRSTUVWXYZ

BUILD BIN report for ASAFE on tokay1

This page was generated on 2020-08-12 11:45:00 -0400 (Wed, 12 Aug 2020).

TO THE DEVELOPERS/MAINTAINERS OF THE ASAFE PACKAGE: Please make sure to use the following settings in order to reproduce any error or warning you see on this page.
Package 84/1885HostnameOS / ArchINSTALLBUILDCHECKBUILD BIN
ASAFE 1.15.0
Qian Zhang
Snapshot Date: 2020-08-11 14:50:16 -0400 (Tue, 11 Aug 2020)
URL: https://git.bioconductor.org/packages/ASAFE
Branch: master
Last Commit: e0273ce
Last Changed Date: 2020-04-27 14:59:36 -0400 (Mon, 27 Apr 2020)
malbec1 Linux (Ubuntu 18.04.4 LTS) / x86_64  OK  OK  OK UNNEEDED, same version exists in internal repository
nebbiolo1 Linux (Ubuntu 20.04.1 LTS) / x86_64  OK  OK  OK 
tokay1 Windows Server 2012 R2 Standard / x64  OK  OK  OK [ OK ]UNNEEDED, same version exists in internal repository
merida1 macOS 10.14.6 Mojave / x86_64  OK  OK  OK  OK UNNEEDED, same version exists in internal repository

Summary

Package: ASAFE
Version: 1.15.0
Command: rm -rf ASAFE.buildbin-libdir && mkdir ASAFE.buildbin-libdir && C:\Users\biocbuild\bbs-3.12-bioc\R\bin\R.exe CMD INSTALL --merge-multiarch --build --library=ASAFE.buildbin-libdir ASAFE_1.15.0.tar.gz
StartedAt: 2020-08-12 08:28:35 -0400 (Wed, 12 Aug 2020)
EndedAt: 2020-08-12 08:29:14 -0400 (Wed, 12 Aug 2020)
EllapsedTime: 38.7 seconds
RetCode: 0
Status:  OK  
PackageFile: ASAFE_1.15.0.zip
PackageFileSize: 620.5 KiB

Command output

##############################################################################
##############################################################################
###
### Running command:
###
###   rm -rf ASAFE.buildbin-libdir && mkdir ASAFE.buildbin-libdir && C:\Users\biocbuild\bbs-3.12-bioc\R\bin\R.exe CMD INSTALL --merge-multiarch --build --library=ASAFE.buildbin-libdir ASAFE_1.15.0.tar.gz
###
##############################################################################
##############################################################################



install for i386

* installing *source* package 'ASAFE' ...
** using staged installation
** R
** data
*** moving datasets to lazyload DB
** inst
** byte-compile and prepare package for lazy loading
** help
*** installing help indices
  converting help for package 'ASAFE'
    finding HTML links ... done
    adm_ancestries_test                     html  
    adm_genotypes_test                      html  
    algorithm_1snp                          html  
    algorithm_1snp_wrapper                  html  
** building package indices
** installing vignettes
** testing if installed package can be loaded from temporary location
** testing if installed package can be loaded from final location
** testing if installed package keeps a record of temporary installation path

install for x64

* installing *source* package 'ASAFE' ...
** testing if installed package can be loaded
* MD5 sums
packaged installation of 'ASAFE' as ASAFE_1.15.0.zip
* DONE (ASAFE)