Back to Multiple platform build/check report for BioC 3.12
A[B]CDEFGHIJKLMNOPQRSTUVWXYZ

BUILD BIN report for bioCancer on tokay1

This page was generated on 2020-08-12 11:44:48 -0400 (Wed, 12 Aug 2020).

TO THE DEVELOPERS/MAINTAINERS OF THE bioCancer PACKAGE: Please make sure to use the following settings in order to reproduce any error or warning you see on this page.
Package 147/1885HostnameOS / ArchINSTALLBUILDCHECKBUILD BIN
bioCancer 1.17.0
Karim Mezhoud
Snapshot Date: 2020-08-11 14:50:16 -0400 (Tue, 11 Aug 2020)
URL: https://git.bioconductor.org/packages/bioCancer
Branch: master
Last Commit: 9ab1d92
Last Changed Date: 2020-04-27 14:57:51 -0400 (Mon, 27 Apr 2020)
malbec1 Linux (Ubuntu 18.04.4 LTS) / x86_64  OK  OK  WARNINGS UNNEEDED, same version exists in internal repository
nebbiolo1 Linux (Ubuntu 20.04.1 LTS) / x86_64  OK  OK  WARNINGS 
tokay1 Windows Server 2012 R2 Standard / x64  OK  OK  WARNINGS [ OK ]UNNEEDED, same version exists in internal repository
merida1 macOS 10.14.6 Mojave / x86_64  OK  OK  WARNINGS  OK UNNEEDED, same version exists in internal repository

Summary

Package: bioCancer
Version: 1.17.0
Command: rm -rf bioCancer.buildbin-libdir && mkdir bioCancer.buildbin-libdir && C:\Users\biocbuild\bbs-3.12-bioc\R\bin\R.exe CMD INSTALL --merge-multiarch --build --library=bioCancer.buildbin-libdir bioCancer_1.17.0.tar.gz
StartedAt: 2020-08-12 08:26:25 -0400 (Wed, 12 Aug 2020)
EndedAt: 2020-08-12 08:27:51 -0400 (Wed, 12 Aug 2020)
EllapsedTime: 85.5 seconds
RetCode: 0
Status:  OK  
PackageFile: bioCancer_1.17.0.zip
PackageFileSize: 6.477 MiB

Command output

##############################################################################
##############################################################################
###
### Running command:
###
###   rm -rf bioCancer.buildbin-libdir && mkdir bioCancer.buildbin-libdir && C:\Users\biocbuild\bbs-3.12-bioc\R\bin\R.exe CMD INSTALL --merge-multiarch --build --library=bioCancer.buildbin-libdir bioCancer_1.17.0.tar.gz
###
##############################################################################
##############################################################################



install for i386

* installing *source* package 'bioCancer' ...
** using staged installation
** R
** data
*** moving datasets to lazyload DB
** inst
** byte-compile and prepare package for lazy loading
** help
*** installing help indices
  converting help for package 'bioCancer'
    finding HTML links ... done
    Edges_Diseases_obj                      html  
    Mutation_obj                            html  
    Node_Diseases_obj                       html  
    Node_df_FreqIn                          html  
    Node_obj_CNA_ProfData                   html  
    Node_obj_FreqIn                         html  
    Node_obj_Met_ProfData                   html  
    Node_obj_mRNA_Classifier                html  
    Studies_obj                             html  
    UnifyRowNames                           html  
    attriColorGene                          html  
    attriColorValue                         html  
    attriColorVector                        html  
    attriShape2Gene                         html  
    attriShape2Node                         html  
    bioCancer                               html  
    checkDimensions                         html  
    coffeewheel                             html  
    coffeewheelOutput                       html  
    displayTable                            html  
    epiGenomics                             html  
    findPhantom                             html  
    getFreqMutData                          html  
    getGenesClassification                  html  
    getListProfData                         html  
    getList_Cases                           html  
    getList_GenProfs                        html  
    getMegaProfData                         html  
    getSequensed_SampleSize                 html  
    grepRef                                 html  
    metabologram                            html  
    metabologramOutput                      html  
    reStrColorGene                          html  
    reStrDimension                          html  
    reStrDisease                            html  
    renderCoffeewheel                       html  
    renderMetabologram                      html  
    returnTextAreaInput                     html  
    switchButton                            html  
    user_CNA                                html  
    user_MetHM27                            html  
    user_MetHM450                           html  
    user_Mut                                html  
    user_mRNA                               html  
    whichGeneList                           html  
    widgetThumbnail                         html  
** building package indices
** installing vignettes
** testing if installed package can be loaded from temporary location
** testing if installed package can be loaded from final location
** testing if installed package keeps a record of temporary installation path

install for x64

* installing *source* package 'bioCancer' ...
** testing if installed package can be loaded
* MD5 sums
packaged installation of 'bioCancer' as bioCancer_1.17.0.zip
* DONE (bioCancer)