Back to Multiple platform build/check report for BioC 3.12
A[B]CDEFGHIJKLMNOPQRSTUVWXYZ

BUILD BIN report for Basic4Cseq on tokay1

This page was generated on 2020-10-25 12:06:04 -0400 (Sun, 25 Oct 2020).

TO THE DEVELOPERS/MAINTAINERS OF THE Basic4Cseq PACKAGE: Please make sure to use the following settings in order to reproduce any error or warning you see on this page.
Package 118/1974HostnameOS / ArchINSTALLBUILDCHECKBUILD BIN
Basic4Cseq 1.25.0
Carolin Walter
Snapshot Date: 2020-10-24 14:40:19 -0400 (Sat, 24 Oct 2020)
URL: https://git.bioconductor.org/packages/Basic4Cseq
Branch: master
Last Commit: e3986b9
Last Changed Date: 2020-04-27 14:38:54 -0400 (Mon, 27 Apr 2020)
malbec1 Linux (Ubuntu 18.04.4 LTS) / x86_64  OK  OK  OK UNNEEDED, same version exists in internal repository
nebbiolo1 Linux (Ubuntu 20.04.1 LTS) / x86_64  OK  OK  OK 
tokay1 Windows Server 2012 R2 Standard / x64  OK  OK  OK [ OK ]UNNEEDED, same version exists in internal repository
riesling1 Windows Server 2019 Standard / x64  OK  OK  OK  OK 
merida1 macOS 10.14.6 Mojave / x86_64  OK  OK  OK  OK UNNEEDED, same version exists in internal repository

Summary

Package: Basic4Cseq
Version: 1.25.0
Command: rm -rf Basic4Cseq.buildbin-libdir && mkdir Basic4Cseq.buildbin-libdir && C:\Users\biocbuild\bbs-3.12-bioc\R\bin\R.exe CMD INSTALL --merge-multiarch --build --library=Basic4Cseq.buildbin-libdir Basic4Cseq_1.25.0.tar.gz
StartedAt: 2020-10-25 08:20:34 -0400 (Sun, 25 Oct 2020)
EndedAt: 2020-10-25 08:21:44 -0400 (Sun, 25 Oct 2020)
EllapsedTime: 69.4 seconds
RetCode: 0
Status:  OK  
PackageFile: Basic4Cseq_1.25.0.zip
PackageFileSize: 849.8 KiB

Command output

##############################################################################
##############################################################################
###
### Running command:
###
###   rm -rf Basic4Cseq.buildbin-libdir && mkdir Basic4Cseq.buildbin-libdir && C:\Users\biocbuild\bbs-3.12-bioc\R\bin\R.exe CMD INSTALL --merge-multiarch --build --library=Basic4Cseq.buildbin-libdir Basic4Cseq_1.25.0.tar.gz
###
##############################################################################
##############################################################################



install for i386

* installing *source* package 'Basic4Cseq' ...
** using staged installation
** R
** data
** inst
** byte-compile and prepare package for lazy loading
** help
*** installing help indices
  converting help for package 'Basic4Cseq'
    finding HTML links ... done
    Data4Cseq-class                         html  
    Data4Cseq                               html  
    checkRestrictionEnzymeSequence          html  
    chooseNearCisFragments                  html  
    createVirtualFragmentLibrary            html  
    drawDigestionFragmentHistogram          html  
    drawHeatmap                             html  
    exportVisualizationFragmentData         html  
    getReadDistribution                     html  
    giveEnzymeSequence                      html  
    importVisualizationFragmentData         html  
    liverData                               html  
    liverDataRaw                            html  
    normalizeFragmentData                   html  
    plotTransInteractions                   html  
    prepare4CseqData                        html  
    printBEDFragmentLibrary                 html  
    printWigFile                            html  
    readPointsOfInterestFile                html  
    readsToFragments                        html  
    simulateDigestion                       html  
    visualizeViewpoint                      html  
** building package indices
** installing vignettes
** testing if installed package can be loaded from temporary location
** testing if installed package can be loaded from final location
** testing if installed package keeps a record of temporary installation path

install for x64

* installing *source* package 'Basic4Cseq' ...
** testing if installed package can be loaded
* MD5 sums
packaged installation of 'Basic4Cseq' as Basic4Cseq_1.25.0.zip
* DONE (Basic4Cseq)