Back to Multiple platform build/check report for BioC 3.12
A[B]CDEFGHIJKLMNOPQRSTUVWXYZ

BUILD report for basilisk.utils on tokay1

This page was generated on 2020-08-06 12:11:07 -0400 (Thu, 06 Aug 2020).

TO THE DEVELOPERS/MAINTAINERS OF THE basilisk.utils PACKAGE: Please make sure to use the following settings in order to reproduce any error or warning you see on this page.
Package 115/1882HostnameOS / ArchINSTALLBUILDCHECKBUILD BIN
basilisk.utils 1.1.7
Aaron Lun
Snapshot Date: 2020-08-05 14:50:59 -0400 (Wed, 05 Aug 2020)
URL: https://git.bioconductor.org/packages/basilisk.utils
Branch: master
Last Commit: e87edf5
Last Changed Date: 2020-05-25 02:54:20 -0400 (Mon, 25 May 2020)
malbec1 Linux (Ubuntu 18.04.4 LTS) / x86_64  OK  OK  OK UNNEEDED, same version exists in internal repository
tokay1 Windows Server 2012 R2 Standard / x64  OK [ OK ] OK  OK UNNEEDED, same version exists in internal repository
merida1 macOS 10.14.6 Mojave / x86_64  OK  OK  OK  OK UNNEEDED, same version exists in internal repository

Summary

Package: basilisk.utils
Version: 1.1.7
Command: chmod a+r basilisk.utils -R && C:\Users\biocbuild\bbs-3.12-bioc\R\bin\R.exe CMD build --keep-empty-dirs --no-resave-data basilisk.utils
StartedAt: 2020-08-05 23:14:13 -0400 (Wed, 05 Aug 2020)
EndedAt: 2020-08-05 23:14:25 -0400 (Wed, 05 Aug 2020)
EllapsedTime: 11.8 seconds
RetCode: 0
Status:  OK  
PackageFile: basilisk.utils_1.1.7.tar.gz
PackageFileSize: 229.7 KiB

Command output

##############################################################################
##############################################################################
###
### Running command:
###
###   chmod a+r basilisk.utils -R && C:\Users\biocbuild\bbs-3.12-bioc\R\bin\R.exe CMD build --keep-empty-dirs --no-resave-data basilisk.utils
###
##############################################################################
##############################################################################


* checking for file 'basilisk.utils/DESCRIPTION' ... OK
* preparing 'basilisk.utils':
* checking DESCRIPTION meta-information ... OK
* installing the package to build vignettes
* creating vignettes ... OK
* checking for LF line-endings in source and make files and shell scripts
* checking for empty or unneeded directories
* building 'basilisk.utils_1.1.7.tar.gz'