Back to Multiple platform build/check report for BioC 3.12
A[B]CDEFGHIJKLMNOPQRSTUVWXYZ

BUILD report for BioNet on malbec1

This page was generated on 2021-01-19 11:51:28 -0500 (Tue, 19 Jan 2021).

TO THE DEVELOPERS/MAINTAINERS OF THE BioNet PACKAGE: Please make sure to use the following settings in order to reproduce any error or warning you see on this page.
Package 182/1974HostnameOS / ArchINSTALLBUILDCHECKBUILD BIN
BioNet 1.50.0
Marcus Dittrich
Snapshot Date: 2021-01-18 14:42:24 -0500 (Mon, 18 Jan 2021)
URL: https://git.bioconductor.org/packages/BioNet
Branch: RELEASE_3_12
Last Commit: a4e5179
Last Changed Date: 2020-10-27 10:38:44 -0500 (Tue, 27 Oct 2020)
malbec1 Linux (Ubuntu 18.04.5 LTS) / x86_64  OK [ OK ] OK UNNEEDED, same version exists in internal repository
nebbiolo1 Linux (Ubuntu 20.04.1 LTS) / x86_64  OK  OK  OK 
tokay1 Windows Server 2012 R2 Standard / x64  OK  OK  OK  OK UNNEEDED, same version exists in internal repository
merida1 macOS 10.14.6 Mojave / x86_64  OK  OK  OK  OK UNNEEDED, same version exists in internal repository

Summary

Package: BioNet
Version: 1.50.0
Command: /home/biocbuild/bbs-3.12-bioc/R/bin/R CMD build --keep-empty-dirs --no-resave-data BioNet
StartedAt: 2021-01-18 18:04:53 -0500 (Mon, 18 Jan 2021)
EndedAt: 2021-01-18 18:05:49 -0500 (Mon, 18 Jan 2021)
EllapsedTime: 55.6 seconds
RetCode: 0
Status:  OK 
PackageFile: BioNet_1.50.0.tar.gz
PackageFileSize: 1.705 MiB

Command output

##############################################################################
##############################################################################
###
### Running command:
###
###   /home/biocbuild/bbs-3.12-bioc/R/bin/R CMD build --keep-empty-dirs --no-resave-data BioNet
###
##############################################################################
##############################################################################


* checking for file ‘BioNet/DESCRIPTION’ ... OK
* preparing ‘BioNet’:
* checking DESCRIPTION meta-information ... OK
* installing the package to build vignettes
* creating vignettes ... OK
* checking for LF line-endings in source and make files and shell scripts
* checking for empty or unneeded directories
* looking to see if a ‘data/datalist’ file should be added
* building ‘BioNet_1.50.0.tar.gz’