Back to Multiple platform build/check report for BioC 3.12
A[B]CDEFGHIJKLMNOPQRSTUVWXYZ

BUILD report for BiSeq on malbec1

This page was generated on 2020-08-10 11:37:17 -0400 (Mon, 10 Aug 2020).

TO THE DEVELOPERS/MAINTAINERS OF THE BiSeq PACKAGE: Please make sure to use the following settings in order to reproduce any error or warning you see on this page.
Package 183/1882HostnameOS / ArchINSTALLBUILDCHECKBUILD BIN
BiSeq 1.29.0
Katja Hebestreit
Snapshot Date: 2020-08-09 14:51:29 -0400 (Sun, 09 Aug 2020)
URL: https://git.bioconductor.org/packages/BiSeq
Branch: master
Last Commit: 6155da2
Last Changed Date: 2020-04-27 14:34:25 -0400 (Mon, 27 Apr 2020)
malbec1 Linux (Ubuntu 18.04.4 LTS) / x86_64  OK [ OK ] OK UNNEEDED, same version exists in internal repository
nebbiolo1 Linux (Ubuntu 20.04.1 LTS) / x86_64  OK  OK  OK 
tokay1 Windows Server 2012 R2 Standard / x64  OK  OK  OK  OK UNNEEDED, same version exists in internal repository
merida1 macOS 10.14.6 Mojave / x86_64  OK  OK  OK  OK UNNEEDED, same version exists in internal repository

Summary

Package: BiSeq
Version: 1.29.0
Command: /home/biocbuild/bbs-3.12-bioc/R/bin/R CMD build --keep-empty-dirs --no-resave-data BiSeq
StartedAt: 2020-08-09 18:33:42 -0400 (Sun, 09 Aug 2020)
EndedAt: 2020-08-09 18:35:52 -0400 (Sun, 09 Aug 2020)
EllapsedTime: 130.2 seconds
RetCode: 0
Status:  OK 
PackageFile: BiSeq_1.29.0.tar.gz
PackageFileSize: 948 KiB

Command output

##############################################################################
##############################################################################
###
### Running command:
###
###   /home/biocbuild/bbs-3.12-bioc/R/bin/R CMD build --keep-empty-dirs --no-resave-data BiSeq
###
##############################################################################
##############################################################################


* checking for file ‘BiSeq/DESCRIPTION’ ... OK
* preparing ‘BiSeq’:
* checking DESCRIPTION meta-information ... OK
* installing the package to build vignettes
* creating vignettes ... OK
* checking for LF line-endings in source and make files and shell scripts
* checking for empty or unneeded directories
* looking to see if a ‘data/datalist’ file should be added
* building ‘BiSeq_1.29.0.tar.gz’