Back to Multiple platform build/check report for BioC 3.12
A[B]CDEFGHIJKLMNOPQRSTUVWXYZ

BUILD BIN report for BAC on tokay1

This page was generated on 2021-02-22 12:37:00 -0500 (Mon, 22 Feb 2021).

To the developers/maintainers of the BAC package:
Please make sure to use the following settings in order to reproduce any error or warning you see on this page.
Package 106/1974HostnameOS / ArchINSTALLBUILDCHECKBUILD BIN
BAC 1.50.0
Raphael Gottardo
Snapshot Date: 2021-02-21 14:52:07 -0500 (Sun, 21 Feb 2021)
URL: https://git.bioconductor.org/packages/BAC
Branch: RELEASE_3_12
Last Commit: 102457c
Last Changed Date: 2020-10-27 10:32:43 -0500 (Tue, 27 Oct 2020)
malbec1Linux (Ubuntu 18.04.5 LTS) / x86_64  OK    OK    OK  UNNEEDED, same version exists in internal repository
nebbiolo1Linux (Ubuntu 20.04.2 LTS) / x86_64  OK    OK    OK  
tokay1Windows Server 2012 R2 Standard / x64  OK    OK    OK    OK  UNNEEDED, same version exists in internal repository
merida1macOS 10.14.6 Mojave / x86_64  OK    OK    OK    OK  UNNEEDED, same version exists in internal repository

Summary

Package: BAC
Version: 1.50.0
Command: rm -rf BAC.buildbin-libdir && mkdir BAC.buildbin-libdir && C:\Users\biocbuild\bbs-3.12-bioc\R\bin\R.exe CMD INSTALL --merge-multiarch --build --library=BAC.buildbin-libdir BAC_1.50.0.tar.gz
StartedAt: 2021-02-22 08:36:39 -0500 (Mon, 22 Feb 2021)
EndedAt: 2021-02-22 08:37:03 -0500 (Mon, 22 Feb 2021)
EllapsedTime: 24.0 seconds
RetCode: 0
Status:   OK   
PackageFile: BAC_1.50.0.zip
PackageFileSize: 1006 KiB

Command output

##############################################################################
##############################################################################
###
### Running command:
###
###   rm -rf BAC.buildbin-libdir && mkdir BAC.buildbin-libdir && C:\Users\biocbuild\bbs-3.12-bioc\R\bin\R.exe CMD INSTALL --merge-multiarch --build --library=BAC.buildbin-libdir BAC_1.50.0.tar.gz
###
##############################################################################
##############################################################################



install for i386

* installing *source* package 'BAC' ...
** using staged installation
** libs
"C:/rtools40/mingw32/bin/"gcc  -I"C:/Users/BIOCBU~1/BBS-3~1.12-/R/include" -DNDEBUG     -I"C:/extsoft/include"     -O2 -Wall  -std=gnu99 -mfpmath=sse -msse2 -mstackrealign -c BAC.c -o BAC.o
"C:/rtools40/mingw32/bin/"gcc  -I"C:/Users/BIOCBU~1/BBS-3~1.12-/R/include" -DNDEBUG     -I"C:/extsoft/include"     -O2 -Wall  -std=gnu99 -mfpmath=sse -msse2 -mstackrealign -c util.c -o util.o
C:/rtools40/mingw32/bin/gcc -shared -s -static-libgcc -o BAC.dll tmp.def BAC.o util.o -LC:/extsoft/lib/i386 -LC:/extsoft/lib -LC:/Users/BIOCBU~1/BBS-3~1.12-/R/bin/i386 -lR
installing to C:/Users/biocbuild/bbs-3.12-bioc/meat/BAC.buildbin-libdir/00LOCK-BAC/00new/BAC/libs/i386
** R
** data
** inst
** byte-compile and prepare package for lazy loading
** help
*** installing help indices
  converting help for package 'BAC'
    finding HTML links ... done
    BAC                                     html  
    CallRegions                             html  
    ER                                      html  
** building package indices
** installing vignettes
** testing if installed package can be loaded from temporary location
** testing if installed package can be loaded from final location
** testing if installed package keeps a record of temporary installation path

install for x64

* installing *source* package 'BAC' ...
** libs
"C:/rtools40/mingw64/bin/"gcc  -I"C:/Users/BIOCBU~1/BBS-3~1.12-/R/include" -DNDEBUG     -I"C:/extsoft/include"     -O2 -Wall  -std=gnu99 -mfpmath=sse -msse2 -mstackrealign -c BAC.c -o BAC.o
"C:/rtools40/mingw64/bin/"gcc  -I"C:/Users/BIOCBU~1/BBS-3~1.12-/R/include" -DNDEBUG     -I"C:/extsoft/include"     -O2 -Wall  -std=gnu99 -mfpmath=sse -msse2 -mstackrealign -c util.c -o util.o
C:/rtools40/mingw64/bin/gcc -shared -s -static-libgcc -o BAC.dll tmp.def BAC.o util.o -LC:/extsoft/lib/x64 -LC:/extsoft/lib -LC:/Users/BIOCBU~1/BBS-3~1.12-/R/bin/x64 -lR
installing to C:/Users/biocbuild/bbs-3.12-bioc/meat/BAC.buildbin-libdir/BAC/libs/x64
** testing if installed package can be loaded
* MD5 sums
packaged installation of 'BAC' as BAC_1.50.0.zip
* DONE (BAC)