Back to Multiple platform build/check report for BioC 3.12
ABCDEFGHIJKLMNOPQ[R]STUVWXYZ

BUILD report for RBM on malbec1

This page was generated on 2020-11-23 12:14:16 -0500 (Mon, 23 Nov 2020).

TO THE DEVELOPERS/MAINTAINERS OF THE RBM PACKAGE: Please make sure to use the following settings in order to reproduce any error or warning you see on this page.
Package 1460/1974HostnameOS / ArchINSTALLBUILDCHECKBUILD BIN
RBM 1.22.0
Dongmei Li
Snapshot Date: 2020-11-22 14:42:09 -0500 (Sun, 22 Nov 2020)
URL: https://git.bioconductor.org/packages/RBM
Branch: RELEASE_3_12
Last Commit: f15d3de
Last Changed Date: 2020-10-27 11:04:01 -0500 (Tue, 27 Oct 2020)
malbec1 Linux (Ubuntu 18.04.4 LTS) / x86_64  OK [ OK ] OK UNNEEDED, same version exists in internal repository
nebbiolo1 Linux (Ubuntu 20.04.1 LTS) / x86_64  OK  OK  OK 
tokay1 Windows Server 2012 R2 Standard / x64  OK  OK  OK  OK UNNEEDED, same version exists in internal repository
merida1 macOS 10.14.6 Mojave / x86_64  OK  OK  OK  OK UNNEEDED, same version exists in internal repository

Summary

Package: RBM
Version: 1.22.0
Command: /home/biocbuild/bbs-3.12-bioc/R/bin/R CMD build --keep-empty-dirs --no-resave-data RBM
StartedAt: 2020-11-22 21:43:59 -0500 (Sun, 22 Nov 2020)
EndedAt: 2020-11-22 21:44:44 -0500 (Sun, 22 Nov 2020)
EllapsedTime: 45.2 seconds
RetCode: 0
Status:  OK 
PackageFile: RBM_1.22.0.tar.gz
PackageFileSize: 291.6 KiB

Command output

##############################################################################
##############################################################################
###
### Running command:
###
###   /home/biocbuild/bbs-3.12-bioc/R/bin/R CMD build --keep-empty-dirs --no-resave-data RBM
###
##############################################################################
##############################################################################


* checking for file ‘RBM/DESCRIPTION’ ... OK
* preparing ‘RBM’:
* checking DESCRIPTION meta-information ... OK
* installing the package to build vignettes
* creating vignettes ... OK
* checking for LF line-endings in source and make files and shell scripts
* checking for empty or unneeded directories
* looking to see if a ‘data/datalist’ file should be added
* building ‘RBM_1.22.0.tar.gz’