Back to Multiple platform build/check report for BioC 3.12
AB[C]DEFGHIJKLMNOPQRSTUVWXYZ

BUILD BIN report for casper on merida1

This page was generated on 2020-08-12 11:55:38 -0400 (Wed, 12 Aug 2020).

TO THE DEVELOPERS/MAINTAINERS OF THE casper PACKAGE: Please make sure to use the following settings in order to reproduce any error or warning you see on this page.
Package 226/1885HostnameOS / ArchINSTALLBUILDCHECKBUILD BIN
casper 2.23.0
David Rossell
Snapshot Date: 2020-08-11 14:50:16 -0400 (Tue, 11 Aug 2020)
URL: https://git.bioconductor.org/packages/casper
Branch: master
Last Commit: 54a4ecc
Last Changed Date: 2020-04-27 14:32:47 -0400 (Mon, 27 Apr 2020)
malbec1 Linux (Ubuntu 18.04.4 LTS) / x86_64  OK  OK  OK UNNEEDED, same version exists in internal repository
nebbiolo1 Linux (Ubuntu 20.04.1 LTS) / x86_64  OK  OK  WARNINGS 
tokay1 Windows Server 2012 R2 Standard / x64  OK  OK  WARNINGS  OK UNNEEDED, same version exists in internal repository
merida1 macOS 10.14.6 Mojave / x86_64  OK  OK  WARNINGS [ OK ]UNNEEDED, same version exists in internal repository

Summary

Package: casper
Version: 2.23.0
Command: rm -rf casper.buildbin-libdir && mkdir casper.buildbin-libdir && /Users/biocbuild/BBS/utils/build-universal.sh casper_2.23.0.tar.gz /Library/Frameworks/R.framework/Versions/Current/Resources/bin/R casper.buildbin-libdir
StartedAt: 2020-08-12 06:50:39 -0400 (Wed, 12 Aug 2020)
EndedAt: 2020-08-12 06:52:03 -0400 (Wed, 12 Aug 2020)
EllapsedTime: 83.7 seconds
RetCode: 0
Status:  OK 
PackageFile: casper_2.23.0.tgz
PackageFileSize: 3.466 MiB

Command output

##############################################################################
##############################################################################
###
### Running command:
###
###   rm -rf casper.buildbin-libdir && mkdir casper.buildbin-libdir && /Users/biocbuild/BBS/utils/build-universal.sh casper_2.23.0.tar.gz /Library/Frameworks/R.framework/Versions/Current/Resources/bin/R casper.buildbin-libdir
###
##############################################################################
##############################################################################


>>>>>>> 
>>>>>>> INSTALLATION WITH 'R CMD INSTALL --preclean --no-multiarch --library=casper.buildbin-libdir casper_2.23.0.tar.gz'
>>>>>>> 

* installing *source* package ‘casper’ ...
** using staged installation
** libs
clang++ -mmacosx-version-min=10.13 -std=gnu++11 -I"/Library/Frameworks/R.framework/Resources/include" -DNDEBUG   -I/usr/local/include   -fPIC  -Wall -g -O2  -c casper.cpp -o casper.o
clang++ -mmacosx-version-min=10.13 -std=gnu++11 -I"/Library/Frameworks/R.framework/Resources/include" -DNDEBUG   -I/usr/local/include   -fPIC  -Wall -g -O2  -c cstat.cpp -o cstat.o
cstat.cpp:16:19: warning: unused variable 'interface_c_sccs_id' [-Wunused-const-variable]
static const char interface_c_sccs_id[] = "%W%";
                  ^
cstat.cpp:17:19: warning: unused variable 'mess_c_sccs_id' [-Wunused-const-variable]
static const char mess_c_sccs_id[] = "%W%";
                  ^
cstat.cpp:18:19: warning: unused variable 'nrutil_c_sccs_id' [-Wunused-const-variable]
static const char nrutil_c_sccs_id[] = "%W%"; 
                  ^
cstat.cpp:19:19: warning: unused variable 'vector_c_sccs_id' [-Wunused-const-variable]
static const char vector_c_sccs_id[] = "%W%";
                  ^
cstat.cpp:20:19: warning: unused variable 'rand_c_sccs_id' [-Wunused-const-variable]
static const char rand_c_sccs_id[] = "@(#)$Workfile: rand.c$ $Revision: 5$";
                  ^
cstat.cpp:21:19: warning: unused variable 'cstat_c_sccs_id' [-Wunused-const-variable]
static const char cstat_c_sccs_id[] = "@(#)$Workfile: cstat.c$ $Revision: 2011-08-23$";
                  ^
6 warnings generated.
clang++ -mmacosx-version-min=10.13 -std=gnu++11 -I"/Library/Frameworks/R.framework/Resources/include" -DNDEBUG   -I/usr/local/include   -fPIC  -Wall -g -O2  -c dataframe.cpp -o dataframe.o
clang++ -mmacosx-version-min=10.13 -std=gnu++11 -I"/Library/Frameworks/R.framework/Resources/include" -DNDEBUG   -I/usr/local/include   -fPIC  -Wall -g -O2  -c discretedf.cpp -o discretedf.o
clang++ -mmacosx-version-min=10.13 -std=gnu++11 -I"/Library/Frameworks/R.framework/Resources/include" -DNDEBUG   -I/usr/local/include   -fPIC  -Wall -g -O2  -c dropVariant.cpp -o dropVariant.o
clang++ -mmacosx-version-min=10.13 -std=gnu++11 -I"/Library/Frameworks/R.framework/Resources/include" -DNDEBUG   -I/usr/local/include   -fPIC  -Wall -g -O2  -c exon.cpp -o exon.o
clang -mmacosx-version-min=10.13 -I"/Library/Frameworks/R.framework/Resources/include" -DNDEBUG   -I/usr/local/include   -fPIC  -Wall -g -O2  -c fragFunc.c -o fragFunc.o
clang++ -mmacosx-version-min=10.13 -std=gnu++11 -I"/Library/Frameworks/R.framework/Resources/include" -DNDEBUG   -I/usr/local/include   -fPIC  -Wall -g -O2  -c fragment.cpp -o fragment.o
clang -mmacosx-version-min=10.13 -I"/Library/Frameworks/R.framework/Resources/include" -DNDEBUG   -I/usr/local/include   -fPIC  -Wall -g -O2  -c functions.c -o functions.o
clang -mmacosx-version-min=10.13 -I"/Library/Frameworks/R.framework/Resources/include" -DNDEBUG   -I/usr/local/include   -fPIC  -Wall -g -O2  -c hash.c -o hash.o
clang -mmacosx-version-min=10.13 -I"/Library/Frameworks/R.framework/Resources/include" -DNDEBUG   -I/usr/local/include   -fPIC  -Wall -g -O2  -c join_exons.c -o join_exons.o
clang -mmacosx-version-min=10.13 -I"/Library/Frameworks/R.framework/Resources/include" -DNDEBUG   -I/usr/local/include   -fPIC  -Wall -g -O2  -c makeIslands.c -o makeIslands.o
clang++ -mmacosx-version-min=10.13 -std=gnu++11 -I"/Library/Frameworks/R.framework/Resources/include" -DNDEBUG   -I/usr/local/include   -fPIC  -Wall -g -O2  -c model.cpp -o model.o
clang++ -mmacosx-version-min=10.13 -std=gnu++11 -I"/Library/Frameworks/R.framework/Resources/include" -DNDEBUG   -I/usr/local/include   -fPIC  -Wall -g -O2  -c model_cmp.cpp -o model_cmp.o
clang -mmacosx-version-min=10.13 -I"/Library/Frameworks/R.framework/Resources/include" -DNDEBUG   -I/usr/local/include   -fPIC  -Wall -g -O2  -c pathCounts.c -o pathCounts.o
clang -mmacosx-version-min=10.13 -I"/Library/Frameworks/R.framework/Resources/include" -DNDEBUG   -I/usr/local/include   -fPIC  -Wall -g -O2  -c procBam.c -o procBam.o
clang++ -mmacosx-version-min=10.13 -std=gnu++11 -I"/Library/Frameworks/R.framework/Resources/include" -DNDEBUG   -I/usr/local/include   -fPIC  -Wall -g -O2  -c rcasper.cpp -o rcasper.o
clang++ -mmacosx-version-min=10.13 -std=gnu++11 -I"/Library/Frameworks/R.framework/Resources/include" -DNDEBUG   -I/usr/local/include   -fPIC  -Wall -g -O2  -c seppel.cpp -o seppel.o
seppel.cpp:484:2: warning: 'delete[]' applied to a pointer that was allocated with 'new'; did you mean 'delete'? [-Wmismatched-new-delete]
        delete [] possiblemodels;
        ^     ~~~
seppel.cpp:402:36: note: allocated with 'new' here
  vector<Model*>* possiblemodels = new vector<Model*>();
                                   ^
1 warning generated.
clang -mmacosx-version-min=10.13 -I"/Library/Frameworks/R.framework/Resources/include" -DNDEBUG   -I/usr/local/include   -fPIC  -Wall -g -O2  -c simReads.c -o simReads.o
clang -mmacosx-version-min=10.13 -I"/Library/Frameworks/R.framework/Resources/include" -DNDEBUG   -I/usr/local/include   -fPIC  -Wall -g -O2  -c simReadsfunc.c -o simReadsfunc.o
clang++ -mmacosx-version-min=10.13 -std=gnu++11 -I"/Library/Frameworks/R.framework/Resources/include" -DNDEBUG   -I/usr/local/include   -fPIC  -Wall -g -O2  -c smartmodeldist.cpp -o smartmodeldist.o
clang -mmacosx-version-min=10.13 -I"/Library/Frameworks/R.framework/Resources/include" -DNDEBUG   -I/usr/local/include   -fPIC  -Wall -g -O2  -c uniqQname.c -o uniqQname.o
clang++ -mmacosx-version-min=10.13 -std=gnu++11 -I"/Library/Frameworks/R.framework/Resources/include" -DNDEBUG   -I/usr/local/include   -fPIC  -Wall -g -O2  -c variant.cpp -o variant.o
clang++ -mmacosx-version-min=10.13 -std=gnu++11 -I"/Library/Frameworks/R.framework/Resources/include" -DNDEBUG   -I/usr/local/include   -fPIC  -Wall -g -O2  -c variant_cmp.cpp -o variant_cmp.o
clang++ -mmacosx-version-min=10.13 -std=gnu++11 -dynamiclib -Wl,-headerpad_max_install_names -undefined dynamic_lookup -single_module -multiply_defined suppress -L/Library/Frameworks/R.framework/Resources/lib -L/usr/local/lib -o casper.so casper.o cstat.o dataframe.o discretedf.o dropVariant.o exon.o fragFunc.o fragment.o functions.o hash.o join_exons.o makeIslands.o model.o model_cmp.o pathCounts.o procBam.o rcasper.o seppel.o simReads.o simReadsfunc.o smartmodeldist.o uniqQname.o variant.o variant_cmp.o -F/Library/Frameworks/R.framework/.. -framework R -Wl,-framework -Wl,CoreFoundation
installing to /Users/biocbuild/bbs-3.12-bioc/meat/casper.buildbin-libdir/00LOCK-casper/00new/casper/libs
** R
** data
** inst
** byte-compile and prepare package for lazy loading
Creating a new generic function for ‘transcripts’ in package ‘casper’
** help
*** installing help indices
** building package indices
** installing vignettes
** testing if installed package can be loaded from temporary location
** checking absolute paths in shared objects and dynamic libraries
** testing if installed package can be loaded from final location
** testing if installed package keeps a record of temporary installation path
* DONE (casper)


>>>>>>> 
>>>>>>> FIXING LINKS FOR casper.buildbin-libdir/casper/libs/casper.so
>>>>>>> 

install_name_tool -change "/usr/local/lib/libgcc_s.1.dylib" "/Library/Frameworks/R.framework/Versions/4.0/Resources/lib/libgcc_s.1.dylib" "casper.buildbin-libdir/casper/libs/casper.so"
install_name_tool -change "/usr/local/lib/libgfortran.5.dylib" "/Library/Frameworks/R.framework/Versions/4.0/Resources/lib/libgfortran.5.dylib" "casper.buildbin-libdir/casper/libs/casper.so"
install_name_tool -change "/usr/local/lib/libquadmath.0.dylib" "/Library/Frameworks/R.framework/Versions/4.0/Resources/lib/libquadmath.0.dylib" "casper.buildbin-libdir/casper/libs/casper.so"