Back to Multiple platform build/check report for BioC 3.12
AB[C]DEFGHIJKLMNOPQRSTUVWXYZ

BUILD BIN report for CHETAH on tokay1

This page was generated on 2020-08-07 12:16:55 -0400 (Fri, 07 Aug 2020).

TO THE DEVELOPERS/MAINTAINERS OF THE CHETAH PACKAGE: Please make sure to use the following settings in order to reproduce any error or warning you see on this page.
Package 265/1882HostnameOS / ArchINSTALLBUILDCHECKBUILD BIN
CHETAH 1.5.0
Jurrian de Kanter
Snapshot Date: 2020-08-06 14:50:46 -0400 (Thu, 06 Aug 2020)
URL: https://git.bioconductor.org/packages/CHETAH
Branch: master
Last Commit: f10a8b9
Last Changed Date: 2020-04-27 15:24:40 -0400 (Mon, 27 Apr 2020)
malbec1 Linux (Ubuntu 18.04.4 LTS) / x86_64  OK  OK  OK UNNEEDED, same version exists in internal repository
tokay1 Windows Server 2012 R2 Standard / x64  OK  OK  OK [ OK ]UNNEEDED, same version exists in internal repository
merida1 macOS 10.14.6 Mojave / x86_64  OK  OK  OK  OK UNNEEDED, same version exists in internal repository

Summary

Package: CHETAH
Version: 1.5.0
Command: rm -rf CHETAH.buildbin-libdir && mkdir CHETAH.buildbin-libdir && C:\Users\biocbuild\bbs-3.12-bioc\R\bin\R.exe CMD INSTALL --merge-multiarch --build --library=CHETAH.buildbin-libdir CHETAH_1.5.0.tar.gz
StartedAt: 2020-08-07 08:32:18 -0400 (Fri, 07 Aug 2020)
EndedAt: 2020-08-07 08:33:12 -0400 (Fri, 07 Aug 2020)
EllapsedTime: 54.7 seconds
RetCode: 0
Status:  OK  
PackageFile: CHETAH_1.5.0.zip
PackageFileSize: 10.71 MiB

Command output

##############################################################################
##############################################################################
###
### Running command:
###
###   rm -rf CHETAH.buildbin-libdir && mkdir CHETAH.buildbin-libdir && C:\Users\biocbuild\bbs-3.12-bioc\R\bin\R.exe CMD INSTALL --merge-multiarch --build --library=CHETAH.buildbin-libdir CHETAH_1.5.0.tar.gz
###
##############################################################################
##############################################################################



install for i386

* installing *source* package 'CHETAH' ...
** using staged installation
** R
** data
*** moving datasets to lazyload DB
** inst
** byte-compile and prepare package for lazy loading
** help
*** installing help indices
  converting help for package 'CHETAH'
    finding HTML links ... done
    CHETAHclassifier                        html  
    CHETAHshiny                             html  
    Classify                                html  
    ClassifyReference                       html  
    CorrelateReference                      html  
    PlotCHETAH                              html  
    PlotTSNE                                html  
    PlotTree                                html  
    RenameBelowNode                         html  
    headneck_ref                            html  
    input_mel                               html  
** building package indices
** installing vignettes
** testing if installed package can be loaded from temporary location
** testing if installed package can be loaded from final location
** testing if installed package keeps a record of temporary installation path

install for x64

* installing *source* package 'CHETAH' ...
** testing if installed package can be loaded
* MD5 sums
packaged installation of 'CHETAH' as CHETAH_1.5.0.zip
* DONE (CHETAH)