Back to Multiple platform build/check report for BioC 3.12
A[B]CDEFGHIJKLMNOPQRSTUVWXYZ

BUILD BIN report for biobroom on tokay1

This page was generated on 2020-08-10 12:19:34 -0400 (Mon, 10 Aug 2020).

TO THE DEVELOPERS/MAINTAINERS OF THE biobroom PACKAGE: Please make sure to use the following settings in order to reproduce any error or warning you see on this page.
Package 145/1882HostnameOS / ArchINSTALLBUILDCHECKBUILD BIN
biobroom 1.21.0
John D. Storey and Andrew J. Bass
Snapshot Date: 2020-08-09 14:51:29 -0400 (Sun, 09 Aug 2020)
URL: https://git.bioconductor.org/packages/biobroom
Branch: master
Last Commit: b8fc28f
Last Changed Date: 2020-04-27 14:52:30 -0400 (Mon, 27 Apr 2020)
malbec1 Linux (Ubuntu 18.04.4 LTS) / x86_64  OK  OK  OK UNNEEDED, same version exists in internal repository
nebbiolo1 Linux (Ubuntu 20.04.1 LTS) / x86_64  OK  OK  OK 
tokay1 Windows Server 2012 R2 Standard / x64  OK  OK  WARNINGS [ OK ]UNNEEDED, same version exists in internal repository
merida1 macOS 10.14.6 Mojave / x86_64  OK  OK  OK  OK UNNEEDED, same version exists in internal repository

Summary

Package: biobroom
Version: 1.21.0
Command: rm -rf biobroom.buildbin-libdir && mkdir biobroom.buildbin-libdir && C:\Users\biocbuild\bbs-3.12-bioc\R\bin\R.exe CMD INSTALL --merge-multiarch --build --library=biobroom.buildbin-libdir biobroom_1.21.0.tar.gz
StartedAt: 2020-08-10 07:55:52 -0400 (Mon, 10 Aug 2020)
EndedAt: 2020-08-10 07:56:33 -0400 (Mon, 10 Aug 2020)
EllapsedTime: 40.9 seconds
RetCode: 0
Status:  OK  
PackageFile: biobroom_1.21.0.zip
PackageFileSize: 712 KiB

Command output

##############################################################################
##############################################################################
###
### Running command:
###
###   rm -rf biobroom.buildbin-libdir && mkdir biobroom.buildbin-libdir && C:\Users\biocbuild\bbs-3.12-bioc\R\bin\R.exe CMD INSTALL --merge-multiarch --build --library=biobroom.buildbin-libdir biobroom_1.21.0.tar.gz
###
##############################################################################
##############################################################################



install for i386

* installing *source* package 'biobroom' ...
** using staged installation
** R
** data
*** moving datasets to lazyload DB
** inst
** byte-compile and prepare package for lazy loading
** help
*** installing help indices
  converting help for package 'biobroom'
    finding HTML links ... done
    DESeq2_tidiers                          html  
    ExpressionSet_tidiers                   html  
Rd warning: C:/Users/biocbuild/bbs-3.12-bioc/tmpdir/Rtmpo9hRQx/R.INSTALLc181b768d1/biobroom/man/ExpressionSet_tidiers.Rd:17: file link 'assayDataElement' in package 'Biobase' does not exist and so has been treated as a topic
    GRanges_tidiers                         html  
    MSnSet_tidiers                          html  
    SummarizedExperiment_tidiers            html  
    biobroom                                html  
    edgeR_tidiers                           html  
    edge_tidiers                            html  
    hammer                                  html  
    limma_tidiers                           html  
    list_tidiers                            html  
    qvalue_tidiers                          html  
    sva_tidiers                             html  
** building package indices
** installing vignettes
** testing if installed package can be loaded from temporary location
** testing if installed package can be loaded from final location
** testing if installed package keeps a record of temporary installation path

install for x64

* installing *source* package 'biobroom' ...
** testing if installed package can be loaded
* MD5 sums
packaged installation of 'biobroom' as biobroom_1.21.0.zip
* DONE (biobroom)