Back to Multiple platform build/check report for BioC 3.12
ABC[D]EFGHIJKLMNOPQRSTUVWXYZ

BUILD report for dualKS on tokay1

This page was generated on 2021-01-19 11:55:10 -0500 (Tue, 19 Jan 2021).

TO THE DEVELOPERS/MAINTAINERS OF THE dualKS PACKAGE: Please make sure to use the following settings in order to reproduce any error or warning you see on this page.
Package 515/1974HostnameOS / ArchINSTALLBUILDCHECKBUILD BIN
dualKS 1.50.0
Eric J. Kort
Snapshot Date: 2021-01-18 14:42:24 -0500 (Mon, 18 Jan 2021)
URL: https://git.bioconductor.org/packages/dualKS
Branch: RELEASE_3_12
Last Commit: 5eb36a6
Last Changed Date: 2020-10-27 10:55:06 -0500 (Tue, 27 Oct 2020)
malbec1 Linux (Ubuntu 18.04.5 LTS) / x86_64  OK  OK  OK UNNEEDED, same version exists in internal repository
nebbiolo1 Linux (Ubuntu 20.04.1 LTS) / x86_64  OK  OK  OK 
tokay1 Windows Server 2012 R2 Standard / x64  OK [ OK ] OK  OK UNNEEDED, same version exists in internal repository
merida1 macOS 10.14.6 Mojave / x86_64  OK  OK  OK  OK UNNEEDED, same version exists in internal repository

Summary

Package: dualKS
Version: 1.50.0
Command: chmod a+r dualKS -R && C:\Users\biocbuild\bbs-3.12-bioc\R\bin\R.exe CMD build --keep-empty-dirs --no-resave-data dualKS
StartedAt: 2021-01-18 20:43:08 -0500 (Mon, 18 Jan 2021)
EndedAt: 2021-01-18 20:43:57 -0500 (Mon, 18 Jan 2021)
EllapsedTime: 49.2 seconds
RetCode: 0
Status:  OK  
PackageFile: dualKS_1.50.0.tar.gz
PackageFileSize: 375.3 KiB

Command output

##############################################################################
##############################################################################
###
### Running command:
###
###   chmod a+r dualKS -R && C:\Users\biocbuild\bbs-3.12-bioc\R\bin\R.exe CMD build --keep-empty-dirs --no-resave-data dualKS
###
##############################################################################
##############################################################################


* checking for file 'dualKS/DESCRIPTION' ... OK
* preparing 'dualKS':
* checking DESCRIPTION meta-information ... OK
* installing the package to build vignettes
* creating vignettes ... OK
* checking for LF line-endings in source and make files and shell scripts
* checking for empty or unneeded directories
* looking to see if a 'data/datalist' file should be added
* building 'dualKS_1.50.0.tar.gz'