Back to Multiple platform build/check report for BioC 3.12
ABCDEFGHIJKLMNOPQR[S]TUVWXYZ

BUILD BIN report for scruff on merida1

This page was generated on 2020-11-23 12:27:18 -0500 (Mon, 23 Nov 2020).

TO THE DEVELOPERS/MAINTAINERS OF THE scruff PACKAGE: Please make sure to use the following settings in order to reproduce any error or warning you see on this page.
Package 1660/1974HostnameOS / ArchINSTALLBUILDCHECKBUILD BIN
scruff 1.8.2
Zhe Wang
Snapshot Date: 2020-11-22 14:42:09 -0500 (Sun, 22 Nov 2020)
URL: https://git.bioconductor.org/packages/scruff
Branch: RELEASE_3_12
Last Commit: eef2cdd
Last Changed Date: 2020-11-19 17:29:00 -0500 (Thu, 19 Nov 2020)
malbec1 Linux (Ubuntu 18.04.4 LTS) / x86_64  OK  OK  OK UNNEEDED, same version exists in internal repository
nebbiolo1 Linux (Ubuntu 20.04.1 LTS) / x86_64  OK  OK  OK 
tokay1 Windows Server 2012 R2 Standard / x64  OK  OK  OK  OK UNNEEDED, same version exists in internal repository
merida1 macOS 10.14.6 Mojave / x86_64  OK  OK  OK [ OK ]UNNEEDED, same version exists in internal repository

Summary

Package: scruff
Version: 1.8.2
Command: rm -rf scruff.buildbin-libdir && mkdir scruff.buildbin-libdir && /Users/biocbuild/BBS/utils/build-universal.sh scruff_1.8.2.tar.gz /Library/Frameworks/R.framework/Versions/Current/Resources/bin/R scruff.buildbin-libdir
StartedAt: 2020-11-23 09:50:39 -0500 (Mon, 23 Nov 2020)
EndedAt: 2020-11-23 09:52:11 -0500 (Mon, 23 Nov 2020)
EllapsedTime: 91.5 seconds
RetCode: 0
Status:  OK 
PackageFile: scruff_1.8.2.tgz
PackageFileSize: 1.127 MiB

Command output

##############################################################################
##############################################################################
###
### Running command:
###
###   rm -rf scruff.buildbin-libdir && mkdir scruff.buildbin-libdir && /Users/biocbuild/BBS/utils/build-universal.sh scruff_1.8.2.tar.gz /Library/Frameworks/R.framework/Versions/Current/Resources/bin/R scruff.buildbin-libdir
###
##############################################################################
##############################################################################


>>>>>>> 
>>>>>>> INSTALLATION WITH 'R CMD INSTALL --preclean --no-multiarch --library=scruff.buildbin-libdir scruff_1.8.2.tar.gz'
>>>>>>> 

* installing *source* package ‘scruff’ ...
** using staged installation
** R
** data
** inst
** byte-compile and prepare package for lazy loading
** help
*** installing help indices
** building package indices
** installing vignettes
** testing if installed package can be loaded from temporary location
** testing if installed package can be loaded from final location
** testing if installed package keeps a record of temporary installation path
* DONE (scruff)