Back to Multiple platform build/check report for BioC 3.12
ABCDEFGHIJKL[M]NOPQRSTUVWXYZ

BUILD BIN report for multiClust on tokay1

This page was generated on 2021-01-19 11:55:52 -0500 (Tue, 19 Jan 2021).

TO THE DEVELOPERS/MAINTAINERS OF THE multiClust PACKAGE: Please make sure to use the following settings in order to reproduce any error or warning you see on this page.
Package 1176/1974HostnameOS / ArchINSTALLBUILDCHECKBUILD BIN
multiClust 1.20.0
Nathan Lawlor
Snapshot Date: 2021-01-18 14:42:24 -0500 (Mon, 18 Jan 2021)
URL: https://git.bioconductor.org/packages/multiClust
Branch: RELEASE_3_12
Last Commit: 4aec467
Last Changed Date: 2020-10-27 11:09:35 -0500 (Tue, 27 Oct 2020)
malbec1 Linux (Ubuntu 18.04.5 LTS) / x86_64  OK  OK  OK UNNEEDED, same version exists in internal repository
nebbiolo1 Linux (Ubuntu 20.04.1 LTS) / x86_64  OK  OK  OK 
tokay1 Windows Server 2012 R2 Standard / x64  OK  OK  OK [ OK ]UNNEEDED, same version exists in internal repository
merida1 macOS 10.14.6 Mojave / x86_64  OK  OK  OK  OK UNNEEDED, same version exists in internal repository

Summary

Package: multiClust
Version: 1.20.0
Command: rm -rf multiClust.buildbin-libdir && mkdir multiClust.buildbin-libdir && C:\Users\biocbuild\bbs-3.12-bioc\R\bin\R.exe CMD INSTALL --merge-multiarch --build --library=multiClust.buildbin-libdir multiClust_1.20.0.tar.gz
StartedAt: 2021-01-19 10:07:04 -0500 (Tue, 19 Jan 2021)
EndedAt: 2021-01-19 10:07:48 -0500 (Tue, 19 Jan 2021)
EllapsedTime: 44.2 seconds
RetCode: 0
Status:  OK  
PackageFile: multiClust_1.20.0.zip
PackageFileSize: 2.996 MiB

Command output

##############################################################################
##############################################################################
###
### Running command:
###
###   rm -rf multiClust.buildbin-libdir && mkdir multiClust.buildbin-libdir && C:\Users\biocbuild\bbs-3.12-bioc\R\bin\R.exe CMD INSTALL --merge-multiarch --build --library=multiClust.buildbin-libdir multiClust_1.20.0.tar.gz
###
##############################################################################
##############################################################################



install for i386

* installing *source* package 'multiClust' ...
** using staged installation
** R
** inst
** byte-compile and prepare package for lazy loading
** help
*** installing help indices
  converting help for package 'multiClust'
    finding HTML links ... done
    WriteMatrixToFile                       html  
    avg_probe_exp                           html  
    cluster_analysis                        html  
    input_file                              html  
    nor.min.max                             html  
    number_clusters                         html  
    number_probes                           html  
    probe_ranking                           html  
    surv_analysis                           html  
** building package indices
** installing vignettes
** testing if installed package can be loaded from temporary location
** testing if installed package can be loaded from final location
** testing if installed package keeps a record of temporary installation path

install for x64

* installing *source* package 'multiClust' ...
** testing if installed package can be loaded
* MD5 sums
packaged installation of 'multiClust' as multiClust_1.20.0.zip
* DONE (multiClust)