Back to Multiple platform build/check report for BioC 3.12
AB[C]DEFGHIJKLMNOPQRSTUVWXYZ

BUILD report for cancerclass on merida1

This page was generated on 2020-08-07 12:26:49 -0400 (Fri, 07 Aug 2020).

TO THE DEVELOPERS/MAINTAINERS OF THE cancerclass PACKAGE: Please make sure to use the following settings in order to reproduce any error or warning you see on this page.
Package 218/1882HostnameOS / ArchINSTALLBUILDCHECKBUILD BIN
cancerclass 1.33.0
Daniel Kosztyla
Snapshot Date: 2020-08-06 14:50:46 -0400 (Thu, 06 Aug 2020)
URL: https://git.bioconductor.org/packages/cancerclass
Branch: master
Last Commit: 9510177
Last Changed Date: 2020-04-27 14:29:45 -0400 (Mon, 27 Apr 2020)
malbec1 Linux (Ubuntu 18.04.4 LTS) / x86_64  OK  OK  OK UNNEEDED, same version exists in internal repository
tokay1 Windows Server 2012 R2 Standard / x64  OK  OK  OK  OK UNNEEDED, same version exists in internal repository
merida1 macOS 10.14.6 Mojave / x86_64  OK [ OK ] WARNINGS  OK UNNEEDED, same version exists in internal repository

Summary

Package: cancerclass
Version: 1.33.0
Command: /Library/Frameworks/R.framework/Versions/Current/Resources/bin/R CMD build --keep-empty-dirs --no-resave-data cancerclass
StartedAt: 2020-08-06 18:42:11 -0400 (Thu, 06 Aug 2020)
EndedAt: 2020-08-06 18:42:46 -0400 (Thu, 06 Aug 2020)
EllapsedTime: 34.7 seconds
RetCode: 0
Status:  OK 
PackageFile: cancerclass_1.33.0.tar.gz
PackageFileSize: 1.482 MiB

Command output

##############################################################################
##############################################################################
###
### Running command:
###
###   /Library/Frameworks/R.framework/Versions/Current/Resources/bin/R CMD build --keep-empty-dirs --no-resave-data cancerclass
###
##############################################################################
##############################################################################


* checking for file ‘cancerclass/DESCRIPTION’ ... OK
* preparing ‘cancerclass’:
* checking DESCRIPTION meta-information ... OK
* cleaning src
* installing the package to build vignettes
* creating vignettes ... OK
* cleaning src
* checking for LF line-endings in source and make files and shell scripts
* checking for empty or unneeded directories
* looking to see if a ‘data/datalist’ file should be added
* building ‘cancerclass_1.33.0.tar.gz’