Back to Multiple platform build/check report for BioC 3.12
A[B]CDEFGHIJKLMNOPQRSTUVWXYZ

INSTALL report for BioNetStat on tokay1

This page was generated on 2020-08-12 11:47:50 -0400 (Wed, 12 Aug 2020).

TO THE DEVELOPERS/MAINTAINERS OF THE BioNetStat PACKAGE: Please make sure to use the following settings in order to reproduce any error or warning you see on this page.
Package 173/1885HostnameOS / ArchINSTALLBUILDCHECKBUILD BIN
BioNetStat 1.9.4
Vinicius Jardim
Snapshot Date: 2020-08-11 14:50:16 -0400 (Tue, 11 Aug 2020)
URL: https://git.bioconductor.org/packages/BioNetStat
Branch: master
Last Commit: a7e646c
Last Changed Date: 2020-05-31 18:41:56 -0400 (Sun, 31 May 2020)
malbec1 Linux (Ubuntu 18.04.4 LTS) / x86_64  OK  OK  OK UNNEEDED, same version exists in internal repository
nebbiolo1 Linux (Ubuntu 20.04.1 LTS) / x86_64  OK  OK  OK 
tokay1 Windows Server 2012 R2 Standard / x64 [ OK ] OK  OK  OK UNNEEDED, same version exists in internal repository
merida1 macOS 10.14.6 Mojave / x86_64  OK  OK  OK  OK UNNEEDED, same version exists in internal repository

Summary

Package: BioNetStat
Version: 1.9.4
Command: C:\cygwin\bin\curl.exe -O https://malbec1.bioconductor.org/BBS/3.12/bioc/src/contrib/BioNetStat_1.9.4.tar.gz && rm -rf BioNetStat.buildbin-libdir && mkdir BioNetStat.buildbin-libdir && C:\Users\biocbuild\bbs-3.12-bioc\R\bin\R.exe CMD INSTALL --merge-multiarch --build --library=BioNetStat.buildbin-libdir BioNetStat_1.9.4.tar.gz && C:\Users\biocbuild\bbs-3.12-bioc\R\bin\R.exe CMD INSTALL BioNetStat_1.9.4.zip && rm BioNetStat_1.9.4.tar.gz BioNetStat_1.9.4.zip
StartedAt: 2020-08-11 17:59:05 -0400 (Tue, 11 Aug 2020)
EndedAt: 2020-08-11 18:00:31 -0400 (Tue, 11 Aug 2020)
EllapsedTime: 86.0 seconds
RetCode: 0
Status:  OK  

Command output

##############################################################################
##############################################################################
###
### Running command:
###
###   C:\cygwin\bin\curl.exe -O https://malbec1.bioconductor.org/BBS/3.12/bioc/src/contrib/BioNetStat_1.9.4.tar.gz && rm -rf BioNetStat.buildbin-libdir && mkdir BioNetStat.buildbin-libdir && C:\Users\biocbuild\bbs-3.12-bioc\R\bin\R.exe CMD INSTALL --merge-multiarch --build --library=BioNetStat.buildbin-libdir BioNetStat_1.9.4.tar.gz && C:\Users\biocbuild\bbs-3.12-bioc\R\bin\R.exe CMD INSTALL BioNetStat_1.9.4.zip && rm BioNetStat_1.9.4.tar.gz BioNetStat_1.9.4.zip
###
##############################################################################
##############################################################################


  % Total    % Received % Xferd  Average Speed   Time    Time     Time  Current
                                 Dload  Upload   Total   Spent    Left  Speed

  0     0    0     0    0     0      0      0 --:--:-- --:--:-- --:--:--     0
100 2932k  100 2932k    0     0  30.6M      0 --:--:-- --:--:-- --:--:-- 31.8M

install for i386

* installing *source* package 'BioNetStat' ...
** using staged installation
** R
** data
** inst
** byte-compile and prepare package for lazy loading
** help
*** installing help indices
  converting help for package 'BioNetStat'
    finding HTML links ... done
    KLdegree                                html  
    KLspectrum                              html  
    adjacencyMatrix                         html  
    bnsDataTest                             html  
    centralityPathPlot                      html  
    diffNetAnalysis                         html  
    doLabels                                html  
    edgeTest                                html  
    labels                                  html  
    nDegreeDensities                        html  
    nSpectralDensities                      html  
    networkFeature                          html  
    networkTest                             html  
    nodeScores                              html  
    nodeTest                                html  
    pathPlot                                html  
    readSetFile                             html  
    readVarFile                             html  
    runBioNetStat                           html  
    varFile                                 html  
** building package indices
** installing vignettes
   'BNS_tutorial_by_command_line.Rmd' using 'UTF-8' 
   'vignette.Rmd' using 'UTF-8' 
** testing if installed package can be loaded from temporary location
** testing if installed package can be loaded from final location
** testing if installed package keeps a record of temporary installation path

install for x64

* installing *source* package 'BioNetStat' ...
** testing if installed package can be loaded
* MD5 sums
packaged installation of 'BioNetStat' as BioNetStat_1.9.4.zip
* DONE (BioNetStat)
* installing to library 'C:/Users/biocbuild/bbs-3.12-bioc/R/library'
package 'BioNetStat' successfully unpacked and MD5 sums checked