Back to Multiple platform build/check report for BioC 3.12
A[B]CDEFGHIJKLMNOPQRSTUVWXYZ

BUILD BIN report for blima on merida1

This page was generated on 2020-09-20 10:21:45 -0400 (Sun, 20 Sep 2020).

TO THE DEVELOPERS/MAINTAINERS OF THE blima PACKAGE: Please make sure to use the following settings in order to reproduce any error or warning you see on this page.
Package 188/1912HostnameOS / ArchINSTALLBUILDCHECKBUILD BIN
blima 1.23.0
Vojtěch Kulvait
Snapshot Date: 2020-09-19 14:40:23 -0400 (Sat, 19 Sep 2020)
URL: https://git.bioconductor.org/packages/blima
Branch: master
Last Commit: aa0de00
Last Changed Date: 2020-04-27 14:40:34 -0400 (Mon, 27 Apr 2020)
malbec1 Linux (Ubuntu 18.04.4 LTS) / x86_64  OK  OK  WARNINGS UNNEEDED, same version exists in internal repository
nebbiolo1 Linux (Ubuntu 20.04.1 LTS) / x86_64  OK  OK  WARNINGS 
tokay1 Windows Server 2012 R2 Standard / x64  OK  OK  WARNINGS  OK UNNEEDED, same version exists in internal repository
riesling1 Windows Server 2019 Standard / x64  OK  OK  WARNINGS  OK 
merida1 macOS 10.14.6 Mojave / x86_64  OK  OK  WARNINGS [ OK ]UNNEEDED, same version exists in internal repository

Summary

Package: blima
Version: 1.23.0
Command: rm -rf blima.buildbin-libdir && mkdir blima.buildbin-libdir && /Users/biocbuild/BBS/utils/build-universal.sh blima_1.23.0.tar.gz /Library/Frameworks/R.framework/Versions/Current/Resources/bin/R blima.buildbin-libdir
StartedAt: 2020-09-20 08:28:50 -0400 (Sun, 20 Sep 2020)
EndedAt: 2020-09-20 08:29:43 -0400 (Sun, 20 Sep 2020)
EllapsedTime: 52.8 seconds
RetCode: 0
Status:  OK 
PackageFile: blima_1.23.0.tgz
PackageFileSize: 404.7 KiB

Command output

##############################################################################
##############################################################################
###
### Running command:
###
###   rm -rf blima.buildbin-libdir && mkdir blima.buildbin-libdir && /Users/biocbuild/BBS/utils/build-universal.sh blima_1.23.0.tar.gz /Library/Frameworks/R.framework/Versions/Current/Resources/bin/R blima.buildbin-libdir
###
##############################################################################
##############################################################################


>>>>>>> 
>>>>>>> INSTALLATION WITH 'R CMD INSTALL --preclean --no-multiarch --library=blima.buildbin-libdir blima_1.23.0.tar.gz'
>>>>>>> 

* installing *source* package ‘blima’ ...
** using staged installation
** libs
clang++ -mmacosx-version-min=10.13 -std=gnu++11 -I"/Library/Frameworks/R.framework/Resources/include" -DNDEBUG  -I'/Library/Frameworks/R.framework/Versions/4.0/Resources/library/Rcpp/include' -I/usr/local/include   -fPIC  -Wall -g -O2  -c RcppExports.cpp -o RcppExports.o
clang++ -mmacosx-version-min=10.13 -std=gnu++11 -I"/Library/Frameworks/R.framework/Resources/include" -DNDEBUG  -I'/Library/Frameworks/R.framework/Versions/4.0/Resources/library/Rcpp/include' -I/usr/local/include   -fPIC  -Wall -g -O2  -c interpolateSortedVector.cpp -o interpolateSortedVector.o
clang++ -mmacosx-version-min=10.13 -std=gnu++11 -dynamiclib -Wl,-headerpad_max_install_names -undefined dynamic_lookup -single_module -multiply_defined suppress -L/Library/Frameworks/R.framework/Resources/lib -L/usr/local/lib -o blima.so RcppExports.o interpolateSortedVector.o -F/Library/Frameworks/R.framework/.. -framework R -Wl,-framework -Wl,CoreFoundation
installing to /Users/biocbuild/bbs-3.12-bioc/meat/blima.buildbin-libdir/00LOCK-blima/00new/blima/libs
** R
** inst
** byte-compile and prepare package for lazy loading
** help
*** installing help indices
** building package indices
** installing vignettes
** testing if installed package can be loaded from temporary location
** checking absolute paths in shared objects and dynamic libraries
** testing if installed package can be loaded from final location
** testing if installed package keeps a record of temporary installation path
* DONE (blima)


>>>>>>> 
>>>>>>> FIXING LINKS FOR blima.buildbin-libdir/blima/libs/blima.so
>>>>>>> 

install_name_tool -change "/usr/local/lib/libgcc_s.1.dylib" "/Library/Frameworks/R.framework/Versions/4.0/Resources/lib/libgcc_s.1.dylib" "blima.buildbin-libdir/blima/libs/blima.so"
install_name_tool -change "/usr/local/lib/libgfortran.5.dylib" "/Library/Frameworks/R.framework/Versions/4.0/Resources/lib/libgfortran.5.dylib" "blima.buildbin-libdir/blima/libs/blima.so"
install_name_tool -change "/usr/local/lib/libquadmath.0.dylib" "/Library/Frameworks/R.framework/Versions/4.0/Resources/lib/libquadmath.0.dylib" "blima.buildbin-libdir/blima/libs/blima.so"