Back to Multiple platform build/check report for BioC 3.12
A[B]CDEFGHIJKLMNOPQRSTUVWXYZ

BUILD BIN report for BEAT on tokay1

This page was generated on 2020-08-06 11:56:49 -0400 (Thu, 06 Aug 2020).

TO THE DEVELOPERS/MAINTAINERS OF THE BEAT PACKAGE: Please make sure to use the following settings in order to reproduce any error or warning you see on this page.
Package 130/1882HostnameOS / ArchINSTALLBUILDCHECKBUILD BIN
BEAT 1.27.0
Kemal Akman
Snapshot Date: 2020-08-05 14:50:59 -0400 (Wed, 05 Aug 2020)
URL: https://git.bioconductor.org/packages/BEAT
Branch: master
Last Commit: c69043d
Last Changed Date: 2020-04-27 14:37:58 -0400 (Mon, 27 Apr 2020)
malbec1 Linux (Ubuntu 18.04.4 LTS) / x86_64  OK  OK  OK UNNEEDED, same version exists in internal repository
tokay1 Windows Server 2012 R2 Standard / x64  OK  OK  OK [ OK ]UNNEEDED, same version exists in internal repository
merida1 macOS 10.14.6 Mojave / x86_64  OK  OK  OK  OK UNNEEDED, same version exists in internal repository

Summary

Package: BEAT
Version: 1.27.0
Command: rm -rf BEAT.buildbin-libdir && mkdir BEAT.buildbin-libdir && C:\Users\biocbuild\bbs-3.12-bioc\R\bin\R.exe CMD INSTALL --merge-multiarch --build --library=BEAT.buildbin-libdir BEAT_1.27.0.tar.gz
StartedAt: 2020-08-06 07:39:13 -0400 (Thu, 06 Aug 2020)
EndedAt: 2020-08-06 07:40:26 -0400 (Thu, 06 Aug 2020)
EllapsedTime: 72.5 seconds
RetCode: 0
Status:  OK  
PackageFile: BEAT_1.27.0.zip
PackageFileSize: 3.092 MiB

Command output

##############################################################################
##############################################################################
###
### Running command:
###
###   rm -rf BEAT.buildbin-libdir && mkdir BEAT.buildbin-libdir && C:\Users\biocbuild\bbs-3.12-bioc\R\bin\R.exe CMD INSTALL --merge-multiarch --build --library=BEAT.buildbin-libdir BEAT_1.27.0.tar.gz
###
##############################################################################
##############################################################################



install for i386

* installing *source* package 'BEAT' ...
** using staged installation
** R
** data
** inst
** byte-compile and prepare package for lazy loading
** help
*** installing help indices
  converting help for package 'BEAT'
    finding HTML links ... done
    BEAT                                    html  
    epimutation_calls                       html  
    generate_results                        html  
    makeParams                              html  
    positions                               html  
    positions.reference                     html  
    positions_to_regions                    html  
** building package indices
** installing vignettes
** testing if installed package can be loaded from temporary location
** testing if installed package can be loaded from final location
** testing if installed package keeps a record of temporary installation path

install for x64

* installing *source* package 'BEAT' ...
** testing if installed package can be loaded
* MD5 sums
packaged installation of 'BEAT' as BEAT_1.27.0.zip
* DONE (BEAT)