Back to Multiple platform build/check report for BioC 3.12
[A]BCDEFGHIJKLMNOPQRSTUVWXYZ

BUILD report for affyio on tokay1

This page was generated on 2020-08-07 11:56:05 -0400 (Fri, 07 Aug 2020).

TO THE DEVELOPERS/MAINTAINERS OF THE affyio PACKAGE: Please make sure to use the following settings in order to reproduce any error or warning you see on this page.
Package 30/1882HostnameOS / ArchINSTALLBUILDCHECKBUILD BIN
affyio 1.59.0
Ben Bolstad
Snapshot Date: 2020-08-06 14:50:46 -0400 (Thu, 06 Aug 2020)
URL: https://git.bioconductor.org/packages/affyio
Branch: master
Last Commit: 3ed1f95
Last Changed Date: 2020-04-27 14:08:04 -0400 (Mon, 27 Apr 2020)
malbec1 Linux (Ubuntu 18.04.4 LTS) / x86_64  OK  OK  OK UNNEEDED, same version exists in internal repository
tokay1 Windows Server 2012 R2 Standard / x64  OK [ OK ] WARNINGS  OK UNNEEDED, same version exists in internal repository
merida1 macOS 10.14.6 Mojave / x86_64  OK  OK  OK  OK UNNEEDED, same version exists in internal repository

Summary

Package: affyio
Version: 1.59.0
Command: chmod a+r affyio -R && C:\Users\biocbuild\bbs-3.12-bioc\R\bin\R.exe CMD build --keep-empty-dirs --no-resave-data affyio
StartedAt: 2020-08-06 19:05:17 -0400 (Thu, 06 Aug 2020)
EndedAt: 2020-08-06 19:05:20 -0400 (Thu, 06 Aug 2020)
EllapsedTime: 3.0 seconds
RetCode: 0
Status:  OK  
PackageFile: affyio_1.59.0.tar.gz
PackageFileSize: 106.7 KiB

Command output

##############################################################################
##############################################################################
###
### Running command:
###
###   chmod a+r affyio -R && C:\Users\biocbuild\bbs-3.12-bioc\R\bin\R.exe CMD build --keep-empty-dirs --no-resave-data affyio
###
##############################################################################
##############################################################################


* checking for file 'affyio/DESCRIPTION' ... OK
* preparing 'affyio':
* checking DESCRIPTION meta-information ... OK
* cleaning src
* checking for LF line-endings in source and make files and shell scripts
* checking for empty or unneeded directories
* building 'affyio_1.59.0.tar.gz'
Warning: file 'affyio/configure' did not have execute permissions: corrected