Back to Multiple platform build/check report for BioC 3.12
A[B]CDEFGHIJKLMNOPQRSTUVWXYZ

CHECK report for BiocSingular on tokay1

This page was generated on 2021-02-22 12:37:06 -0500 (Mon, 22 Feb 2021).

To the developers/maintainers of the BiocSingular package:
Please make sure to use the following settings in order to reproduce any error or warning you see on this page.
Package 169/1974HostnameOS / ArchINSTALLBUILDCHECKBUILD BIN
BiocSingular 1.6.0
Aaron Lun
Snapshot Date: 2021-02-21 14:52:07 -0500 (Sun, 21 Feb 2021)
URL: https://git.bioconductor.org/packages/BiocSingular
Branch: RELEASE_3_12
Last Commit: 11baf10
Last Changed Date: 2020-10-27 11:42:55 -0500 (Tue, 27 Oct 2020)
malbec1Linux (Ubuntu 18.04.5 LTS) / x86_64  OK    OK    OK  UNNEEDED, same version exists in internal repository
nebbiolo1Linux (Ubuntu 20.04.2 LTS) / x86_64  OK    OK    OK  
tokay1Windows Server 2012 R2 Standard / x64  OK    OK    OK    OK  UNNEEDED, same version exists in internal repository
merida1macOS 10.14.6 Mojave / x86_64  OK    OK    OK    OK  UNNEEDED, same version exists in internal repository

Summary

Package: BiocSingular
Version: 1.6.0
Command: C:\Users\biocbuild\bbs-3.12-bioc\R\bin\R.exe CMD check --force-multiarch --install=check:BiocSingular.install-out.txt --library=C:\Users\biocbuild\bbs-3.12-bioc\R\library --no-vignettes --timings BiocSingular_1.6.0.tar.gz
StartedAt: 2021-02-22 00:48:05 -0500 (Mon, 22 Feb 2021)
EndedAt: 2021-02-22 00:52:24 -0500 (Mon, 22 Feb 2021)
EllapsedTime: 259.5 seconds
RetCode: 0
Status:   OK   
CheckDir: BiocSingular.Rcheck
Warnings: 0

Command output

##############################################################################
##############################################################################
###
### Running command:
###
###   C:\Users\biocbuild\bbs-3.12-bioc\R\bin\R.exe CMD check --force-multiarch --install=check:BiocSingular.install-out.txt --library=C:\Users\biocbuild\bbs-3.12-bioc\R\library --no-vignettes --timings BiocSingular_1.6.0.tar.gz
###
##############################################################################
##############################################################################


* using log directory 'C:/Users/biocbuild/bbs-3.12-bioc/meat/BiocSingular.Rcheck'
* using R version 4.0.3 (2020-10-10)
* using platform: x86_64-w64-mingw32 (64-bit)
* using session charset: ISO8859-1
* using option '--no-vignettes'
* checking for file 'BiocSingular/DESCRIPTION' ... OK
* this is package 'BiocSingular' version '1.6.0'
* checking package namespace information ... OK
* checking package dependencies ... OK
* checking if this is a source package ... OK
* checking if there is a namespace ... OK
* checking for hidden files and directories ... OK
* checking for portable file names ... OK
* checking whether package 'BiocSingular' can be installed ... OK
* checking installed package size ... OK
* checking package directory ... OK
* checking 'build' directory ... OK
* checking DESCRIPTION meta-information ... OK
* checking top-level files ... OK
* checking for left-over files ... OK
* checking index information ... OK
* checking package subdirectories ... OK
* checking R files for non-ASCII characters ... OK
* checking R files for syntax errors ... OK
* loading checks for arch 'i386'
** checking whether the package can be loaded ... OK
** checking whether the package can be loaded with stated dependencies ... OK
** checking whether the package can be unloaded cleanly ... OK
** checking whether the namespace can be loaded with stated dependencies ... OK
** checking whether the namespace can be unloaded cleanly ... OK
* loading checks for arch 'x64'
** checking whether the package can be loaded ... OK
** checking whether the package can be loaded with stated dependencies ... OK
** checking whether the package can be unloaded cleanly ... OK
** checking whether the namespace can be loaded with stated dependencies ... OK
** checking whether the namespace can be unloaded cleanly ... OK
* checking dependencies in R code ... OK
* checking S3 generic/method consistency ... OK
* checking replacement functions ... OK
* checking foreign function calls ... OK
* checking R code for possible problems ... OK
* checking Rd files ... OK
* checking Rd metadata ... OK
* checking Rd cross-references ... OK
* checking for missing documentation entries ... OK
* checking for code/documentation mismatches ... OK
* checking Rd \usage sections ... OK
* checking Rd contents ... OK
* checking for unstated dependencies in examples ... OK
* checking line endings in C/C++/Fortran sources/headers ... OK
* checking compiled code ... NOTE
Note: information on .o files for i386 is not available
Note: information on .o files for x64 is not available
File 'C:/Users/biocbuild/bbs-3.12-bioc/R/library/BiocSingular/libs/i386/BiocSingular.dll':
  Found 'abort', possibly from 'abort' (C), 'runtime' (Fortran)
  Found 'exit', possibly from 'exit' (C), 'stop' (Fortran)
  Found 'printf', possibly from 'printf' (C)
File 'C:/Users/biocbuild/bbs-3.12-bioc/R/library/BiocSingular/libs/x64/BiocSingular.dll':
  Found 'abort', possibly from 'abort' (C), 'runtime' (Fortran)
  Found 'exit', possibly from 'exit' (C), 'stop' (Fortran)
  Found 'printf', possibly from 'printf' (C)

Compiled code should not call entry points which might terminate R nor
write to stdout/stderr instead of to the console, nor use Fortran I/O
nor system RNGs. The detected symbols are linked into the code but
might come from libraries and not actually be called.

See 'Writing portable packages' in the 'Writing R Extensions' manual.
* checking files in 'vignettes' ... OK
* checking examples ...
** running examples for arch 'i386' ... OK
** running examples for arch 'x64' ... OK
* checking for unstated dependencies in 'tests' ... OK
* checking tests ...
** running tests for arch 'i386' ...
  Running 'testthat.R'
 OK
** running tests for arch 'x64' ...
  Running 'testthat.R'
 OK
* checking for unstated dependencies in vignettes ... OK
* checking package vignettes in 'inst/doc' ... OK
* checking running R code from vignettes ... SKIPPED
* checking re-building of vignette outputs ... SKIPPED
* checking PDF version of manual ... OK
* DONE

Status: 1 NOTE
See
  'C:/Users/biocbuild/bbs-3.12-bioc/meat/BiocSingular.Rcheck/00check.log'
for details.



Installation output

BiocSingular.Rcheck/00install.out

##############################################################################
##############################################################################
###
### Running command:
###
###   C:\cygwin\bin\curl.exe -O https://malbec1.bioconductor.org/BBS/3.12/bioc/src/contrib/BiocSingular_1.6.0.tar.gz && rm -rf BiocSingular.buildbin-libdir && mkdir BiocSingular.buildbin-libdir && C:\Users\biocbuild\bbs-3.12-bioc\R\bin\R.exe CMD INSTALL --merge-multiarch --build --library=BiocSingular.buildbin-libdir BiocSingular_1.6.0.tar.gz && C:\Users\biocbuild\bbs-3.12-bioc\R\bin\R.exe CMD INSTALL BiocSingular_1.6.0.zip && rm BiocSingular_1.6.0.tar.gz BiocSingular_1.6.0.zip
###
##############################################################################
##############################################################################


  % Total    % Received % Xferd  Average Speed   Time    Time     Time  Current
                                 Dload  Upload   Total   Spent    Left  Speed

  0     0    0     0    0     0      0      0 --:--:-- --:--:-- --:--:--     0
100 31478  100 31478    0     0   424k      0 --:--:-- --:--:-- --:--:--  445k

install for i386

* installing *source* package 'BiocSingular' ...
** using staged installation
** libs
"C:/rtools40/mingw32/bin/"g++  -std=gnu++11 -I"C:/Users/BIOCBU~1/BBS-3~1.12-/R/include" -DNDEBUG  -I'C:/Users/biocbuild/bbs-3.12-bioc/R/library/Rcpp/include' -I'C:/Users/biocbuild/bbs-3.12-bioc/R/library/beachmat/include'   -I"C:/extsoft/include"     -O2 -Wall  -mfpmath=sse -msse2 -mstackrealign -c RcppExports.cpp -o RcppExports.o
"C:/rtools40/mingw32/bin/"g++  -std=gnu++11 -I"C:/Users/BIOCBU~1/BBS-3~1.12-/R/include" -DNDEBUG  -I'C:/Users/biocbuild/bbs-3.12-bioc/R/library/Rcpp/include' -I'C:/Users/biocbuild/bbs-3.12-bioc/R/library/beachmat/include'   -I"C:/extsoft/include"     -O2 -Wall  -mfpmath=sse -msse2 -mstackrealign -c compute_scale.cpp -o compute_scale.o
compute_scale.cpp: In function 'Rcpp::NumericVector compute_scale(Rcpp::RObject, Rcpp::RObject)':
compute_scale.cpp:21:35: warning: comparison of integer expressions of different signedness: 'R_xlen_t' {aka 'int'} and 'size_t' {aka 'unsigned int'} [-Wsign-compare]
         if (numeric_centers.size()!=ncols) {
             ~~~~~~~~~~~~~~~~~~~~~~^~~~~~~
In file included from C:/Users/biocbuild/bbs-3.12-bioc/R/library/beachmat/include/beachmat3/lin_matrix.h:12,
                 from C:/Users/biocbuild/bbs-3.12-bioc/R/library/beachmat/include/beachmat3/read_lin_block.h:11,
                 from C:/Users/biocbuild/bbs-3.12-bioc/R/library/beachmat/include/beachmat3/beachmat.h:24,
                 from compute_scale.cpp:2:
C:/Users/biocbuild/bbs-3.12-bioc/R/library/beachmat/include/beachmat3/Csparse_reader.h: In instantiation of 'beachmat::SparseArraySeed_reader<V, TIT>::SparseArraySeed_reader(Rcpp::RObject) [with V = Rcpp::Vector<13>; TIT = const int*; Rcpp::RObject = Rcpp::RObject_Impl<Rcpp::PreserveStorage>]':
C:/Users/biocbuild/bbs-3.12-bioc/R/library/beachmat/include/beachmat3/lin_matrix.h:561:56:   required from 'beachmat::lin_SparseArraySeed<V, TIT>::lin_SparseArraySeed(Rcpp::RObject) [with V = Rcpp::Vector<13>; TIT = const int*; Rcpp::RObject = Rcpp::RObject_Impl<Rcpp::PreserveStorage>]'
C:/Users/biocbuild/bbs-3.12-bioc/R/library/beachmat/include/beachmat3/read_lin_block.h:36:39:   required from 'std::unique_ptr<_Codecvt> beachmat::read_lin_sparse_block_raw(Rcpp::RObject) [with M = beachmat::lin_matrix; Rcpp::RObject = Rcpp::RObject_Impl<Rcpp::PreserveStorage>]'
C:/Users/biocbuild/bbs-3.12-bioc/R/library/beachmat/include/beachmat3/read_lin_block.h:65:63:   required from here
C:/Users/biocbuild/bbs-3.12-bioc/R/library/beachmat/include/beachmat3/Csparse_reader.h:535:17: warning: comparison of integer expressions of different signedness: 'const size_t' {aka 'const unsigned int'} and 'R_xlen_t' {aka 'int'} [-Wsign-compare]
         if (nnz != x.size()) {
C:/Users/biocbuild/bbs-3.12-bioc/R/library/beachmat/include/beachmat3/Csparse_reader.h:551:45: warning: comparison of integer expressions of different signedness: 'int' and 'const size_t' {aka 'const unsigned int'} [-Wsign-compare]
                     if (lastR <= 0 || lastR > NR || lastC <= 0 || lastC > NC) {
                                       ~~~~~~^~~~
C:/Users/biocbuild/bbs-3.12-bioc/R/library/beachmat/include/beachmat3/Csparse_reader.h:551:73: warning: comparison of integer expressions of different signedness: 'int' and 'const size_t' {aka 'const unsigned int'} [-Wsign-compare]
                     if (lastR <= 0 || lastR > NR || lastC <= 0 || lastC > NC) {
                                                                   ~~~~~~^~~~
C:/Users/biocbuild/bbs-3.12-bioc/R/library/beachmat/include/beachmat3/Csparse_reader.h:593:35: warning: comparison of integer expressions of different signedness: 'int' and 'const size_t' {aka 'const unsigned int'} [-Wsign-compare]
                 for (int v = 0; v < nnz; ++v, ++rowIt, ++colIt, ++xIt) {
                                 ~~^~~~~
C:/Users/biocbuild/bbs-3.12-bioc/R/library/beachmat/include/beachmat3/Csparse_reader.h: In instantiation of 'beachmat::SparseArraySeed_reader<V, TIT>::SparseArraySeed_reader(Rcpp::RObject) [with V = Rcpp::Vector<14, Rcpp::PreserveStorage>; TIT = const double*; Rcpp::RObject = Rcpp::RObject_Impl<Rcpp::PreserveStorage>]':
C:/Users/biocbuild/bbs-3.12-bioc/R/library/beachmat/include/beachmat3/lin_matrix.h:561:56:   required from 'beachmat::lin_SparseArraySeed<V, TIT>::lin_SparseArraySeed(Rcpp::RObject) [with V = Rcpp::Vector<14, Rcpp::PreserveStorage>; TIT = const double*; Rcpp::RObject = Rcpp::RObject_Impl<Rcpp::PreserveStorage>]'
C:/Users/biocbuild/bbs-3.12-bioc/R/library/beachmat/include/beachmat3/read_lin_block.h:38:39:   required from 'std::unique_ptr<_Codecvt> beachmat::read_lin_sparse_block_raw(Rcpp::RObject) [with M = beachmat::lin_matrix; Rcpp::RObject = Rcpp::RObject_Impl<Rcpp::PreserveStorage>]'
C:/Users/biocbuild/bbs-3.12-bioc/R/library/beachmat/include/beachmat3/read_lin_block.h:65:63:   required from here
C:/Users/biocbuild/bbs-3.12-bioc/R/library/beachmat/include/beachmat3/Csparse_reader.h:535:17: warning: comparison of integer expressions of different signedness: 'const size_t' {aka 'const unsigned int'} and 'R_xlen_t' {aka 'int'} [-Wsign-compare]
         if (nnz != x.size()) {
C:/Users/biocbuild/bbs-3.12-bioc/R/library/beachmat/include/beachmat3/Csparse_reader.h:551:45: warning: comparison of integer expressions of different signedness: 'int' and 'const size_t' {aka 'const unsigned int'} [-Wsign-compare]
                     if (lastR <= 0 || lastR > NR || lastC <= 0 || lastC > NC) {
                                       ~~~~~~^~~~
C:/Users/biocbuild/bbs-3.12-bioc/R/library/beachmat/include/beachmat3/Csparse_reader.h:551:73: warning: comparison of integer expressions of different signedness: 'int' and 'const size_t' {aka 'const unsigned int'} [-Wsign-compare]
                     if (lastR <= 0 || lastR > NR || lastC <= 0 || lastC > NC) {
                                                                   ~~~~~~^~~~
C:/Users/biocbuild/bbs-3.12-bioc/R/library/beachmat/include/beachmat3/Csparse_reader.h:593:35: warning: comparison of integer expressions of different signedness: 'int' and 'const size_t' {aka 'const unsigned int'} [-Wsign-compare]
                 for (int v = 0; v < nnz; ++v, ++rowIt, ++colIt, ++xIt) {
                                 ~~^~~~~
C:/Users/biocbuild/bbs-3.12-bioc/R/library/beachmat/include/beachmat3/Csparse_reader.h: In instantiation of 'beachmat::SparseArraySeed_reader<V, TIT>::SparseArraySeed_reader(Rcpp::RObject) [with V = Rcpp::Vector<10, Rcpp::PreserveStorage>; TIT = const int*; Rcpp::RObject = Rcpp::RObject_Impl<Rcpp::PreserveStorage>]':
C:/Users/biocbuild/bbs-3.12-bioc/R/library/beachmat/include/beachmat3/lin_matrix.h:561:56:   required from 'beachmat::lin_SparseArraySeed<V, TIT>::lin_SparseArraySeed(Rcpp::RObject) [with V = Rcpp::Vector<10, Rcpp::PreserveStorage>; TIT = const int*; Rcpp::RObject = Rcpp::RObject_Impl<Rcpp::PreserveStorage>]'
C:/Users/biocbuild/bbs-3.12-bioc/R/library/beachmat/include/beachmat3/read_lin_block.h:40:39:   required from 'std::unique_ptr<_Codecvt> beachmat::read_lin_sparse_block_raw(Rcpp::RObject) [with M = beachmat::lin_matrix; Rcpp::RObject = Rcpp::RObject_Impl<Rcpp::PreserveStorage>]'
C:/Users/biocbuild/bbs-3.12-bioc/R/library/beachmat/include/beachmat3/read_lin_block.h:65:63:   required from here
C:/Users/biocbuild/bbs-3.12-bioc/R/library/beachmat/include/beachmat3/Csparse_reader.h:535:17: warning: comparison of integer expressions of different signedness: 'const size_t' {aka 'const unsigned int'} and 'R_xlen_t' {aka 'int'} [-Wsign-compare]
         if (nnz != x.size()) {
C:/Users/biocbuild/bbs-3.12-bioc/R/library/beachmat/include/beachmat3/Csparse_reader.h:551:45: warning: comparison of integer expressions of different signedness: 'int' and 'const size_t' {aka 'const unsigned int'} [-Wsign-compare]
                     if (lastR <= 0 || lastR > NR || lastC <= 0 || lastC > NC) {
                                       ~~~~~~^~~~
C:/Users/biocbuild/bbs-3.12-bioc/R/library/beachmat/include/beachmat3/Csparse_reader.h:551:73: warning: comparison of integer expressions of different signedness: 'int' and 'const size_t' {aka 'const unsigned int'} [-Wsign-compare]
                     if (lastR <= 0 || lastR > NR || lastC <= 0 || lastC > NC) {
                                                                   ~~~~~~^~~~
C:/Users/biocbuild/bbs-3.12-bioc/R/library/beachmat/include/beachmat3/Csparse_reader.h:593:35: warning: comparison of integer expressions of different signedness: 'int' and 'const size_t' {aka 'const unsigned int'} [-Wsign-compare]
                 for (int v = 0; v < nnz; ++v, ++rowIt, ++colIt, ++xIt) {
                                 ~~^~~~~
C:/Users/biocbuild/bbs-3.12-bioc/R/library/beachmat/include/beachmat3/Csparse_reader.h: In instantiation of 'beachmat::sparse_index<OUT, I> beachmat::Csparse_core<TIT, I, P>::get_row(size_t, ALT, I*, size_t, size_t) [with OUT = const int*; ALT = int*; TIT = const double*; I = int; P = unsigned int; size_t = unsigned int]':
C:/Users/biocbuild/bbs-3.12-bioc/R/library/beachmat/include/beachmat3/Csparse_reader.h:650:73:   required from 'beachmat::sparse_index<OUT, int> beachmat::SparseArraySeed_reader<V, TIT>::get_row(size_t, ALT, int*, size_t, size_t) [with OUT = const int*; ALT = int*; V = Rcpp::Vector<14, Rcpp::PreserveStorage>; TIT = const double*; size_t = unsigned int]'
C:/Users/biocbuild/bbs-3.12-bioc/R/library/beachmat/include/beachmat3/lin_matrix.h:596:82:   required from 'beachmat::sparse_index<const int*, int> beachmat::lin_SparseArraySeed<V, TIT>::get_row(size_t, int*, int*, size_t, size_t) [with V = Rcpp::Vector<14, Rcpp::PreserveStorage>; TIT = const double*; size_t = unsigned int]'
C:/Users/biocbuild/bbs-3.12-bioc/R/library/beachmat/include/beachmat3/lin_matrix.h:595:35:   required from here
C:/Users/biocbuild/bbs-3.12-bioc/R/library/beachmat/include/beachmat3/Csparse_reader.h:250:22: warning: comparison of integer expressions of different signedness: 'const int' and 'const unsigned int' [-Wsign-compare]
             if (idex != *pIt && static_cast<size_t>(i[idex]) == r) {
                 ~~~~~^~~~~~~
C:/Users/biocbuild/bbs-3.12-bioc/R/library/beachmat/include/beachmat3/Csparse_reader.h: In instantiation of 'beachmat::sparse_index<OUT, I> beachmat::Csparse_core<TIT, I, P>::get_row(size_t, ALT, I*, size_t, size_t) [with OUT = const double*; ALT = double*; TIT = const double*; I = int; P = unsigned int; size_t = unsigned int]':
C:/Users/biocbuild/bbs-3.12-bioc/R/library/beachmat/include/beachmat3/Csparse_reader.h:650:73:   required from 'beachmat::sparse_index<OUT, int> beachmat::SparseArraySeed_reader<V, TIT>::get_row(size_t, ALT, int*, size_t, size_t) [with OUT = const double*; ALT = double*; V = Rcpp::Vector<14, Rcpp::PreserveStorage>; TIT = const double*; size_t = unsigned int]'
C:/Users/biocbuild/bbs-3.12-bioc/R/library/beachmat/include/beachmat3/lin_matrix.h:602:85:   required from 'beachmat::sparse_index<const double*, int> beachmat::lin_SparseArraySeed<V, TIT>::get_row(size_t, double*, int*, size_t, size_t) [with V = Rcpp::Vector<14, Rcpp::PreserveStorage>; TIT = const double*; size_t = unsigned int]'
C:/Users/biocbuild/bbs-3.12-bioc/R/library/beachmat/include/beachmat3/lin_matrix.h:601:38:   required from here
C:/Users/biocbuild/bbs-3.12-bioc/R/library/beachmat/include/beachmat3/Csparse_reader.h:250:22: warning: comparison of integer expressions of different signedness: 'const int' and 'const unsigned int' [-Wsign-compare]
C:/Users/biocbuild/bbs-3.12-bioc/R/library/beachmat/include/beachmat3/Csparse_reader.h: In instantiation of 'beachmat::sparse_index<OUT, I> beachmat::Csparse_core<TIT, I, P>::get_row(size_t, ALT, I*, size_t, size_t) [with OUT = const int*; ALT = int*; TIT = const int*; I = int; P = unsigned int; size_t = unsigned int]':
C:/Users/biocbuild/bbs-3.12-bioc/R/library/beachmat/include/beachmat3/Csparse_reader.h:650:73:   required from 'beachmat::sparse_index<OUT, int> beachmat::SparseArraySeed_reader<V, TIT>::get_row(size_t, ALT, int*, size_t, size_t) [with OUT = const int*; ALT = int*; V = Rcpp::Vector<10, Rcpp::PreserveStorage>; TIT = const int*; size_t = unsigned int]'
C:/Users/biocbuild/bbs-3.12-bioc/R/library/beachmat/include/beachmat3/lin_matrix.h:596:82:   required from 'beachmat::sparse_index<const int*, int> beachmat::lin_SparseArraySeed<V, TIT>::get_row(size_t, int*, int*, size_t, size_t) [with V = Rcpp::Vector<10, Rcpp::PreserveStorage>; TIT = const int*; size_t = unsigned int]'
C:/Users/biocbuild/bbs-3.12-bioc/R/library/beachmat/include/beachmat3/lin_matrix.h:595:35:   required from here
C:/Users/biocbuild/bbs-3.12-bioc/R/library/beachmat/include/beachmat3/Csparse_reader.h:250:22: warning: comparison of integer expressions of different signedness: 'const int' and 'const unsigned int' [-Wsign-compare]
C:/Users/biocbuild/bbs-3.12-bioc/R/library/beachmat/include/beachmat3/Csparse_reader.h: In instantiation of 'beachmat::sparse_index<OUT, I> beachmat::Csparse_core<TIT, I, P>::get_row(size_t, ALT, I*, size_t, size_t) [with OUT = const double*; ALT = double*; TIT = const int*; I = int; P = unsigned int; size_t = unsigned int]':
C:/Users/biocbuild/bbs-3.12-bioc/R/library/beachmat/include/beachmat3/Csparse_reader.h:650:73:   required from 'beachmat::sparse_index<OUT, int> beachmat::SparseArraySeed_reader<V, TIT>::get_row(size_t, ALT, int*, size_t, size_t) [with OUT = const double*; ALT = double*; V = Rcpp::Vector<10, Rcpp::PreserveStorage>; TIT = const int*; size_t = unsigned int]'
C:/Users/biocbuild/bbs-3.12-bioc/R/library/beachmat/include/beachmat3/lin_matrix.h:602:85:   required from 'beachmat::sparse_index<const double*, int> beachmat::lin_SparseArraySeed<V, TIT>::get_row(size_t, double*, int*, size_t, size_t) [with V = Rcpp::Vector<10, Rcpp::PreserveStorage>; TIT = const int*; size_t = unsigned int]'
C:/Users/biocbuild/bbs-3.12-bioc/R/library/beachmat/include/beachmat3/lin_matrix.h:601:38:   required from here
C:/Users/biocbuild/bbs-3.12-bioc/R/library/beachmat/include/beachmat3/Csparse_reader.h:250:22: warning: comparison of integer expressions of different signedness: 'const int' and 'const unsigned int' [-Wsign-compare]
C:/rtools40/mingw32/bin/g++ -shared -s -static-libgcc -o BiocSingular.dll tmp.def RcppExports.o compute_scale.o -LC:/extsoft/lib/i386 -LC:/extsoft/lib -LC:/Users/BIOCBU~1/BBS-3~1.12-/R/bin/i386 -lR
installing to C:/Users/biocbuild/bbs-3.12-bioc/meat/BiocSingular.buildbin-libdir/00LOCK-BiocSingular/00new/BiocSingular/libs/i386
** R
** inst
** byte-compile and prepare package for lazy loading
** help
*** installing help indices
  converting help for package 'BiocSingular'
    finding HTML links ... done
    BiocSingularParam                       html  
    finding level-2 HTML links ... done

    DeferredMatrix                          html  
    LowRankMatrix                           html  
    ResidualMatrix                          html  
    options                                 html  
    runExactSVD                             html  
    runIrlbaSVD                             html  
    runPCA                                  html  
    runRandomSVD                            html  
    runSVD                                  html  
** building package indices
** installing vignettes
** testing if installed package can be loaded from temporary location
** testing if installed package can be loaded from final location
** testing if installed package keeps a record of temporary installation path

install for x64

* installing *source* package 'BiocSingular' ...
** libs
"C:/rtools40/mingw64/bin/"g++  -std=gnu++11 -I"C:/Users/BIOCBU~1/BBS-3~1.12-/R/include" -DNDEBUG  -I'C:/Users/biocbuild/bbs-3.12-bioc/R/library/Rcpp/include' -I'C:/Users/biocbuild/bbs-3.12-bioc/R/library/beachmat/include'   -I"C:/extsoft/include"     -O2 -Wall  -mfpmath=sse -msse2 -mstackrealign -c RcppExports.cpp -o RcppExports.o
"C:/rtools40/mingw64/bin/"g++  -std=gnu++11 -I"C:/Users/BIOCBU~1/BBS-3~1.12-/R/include" -DNDEBUG  -I'C:/Users/biocbuild/bbs-3.12-bioc/R/library/Rcpp/include' -I'C:/Users/biocbuild/bbs-3.12-bioc/R/library/beachmat/include'   -I"C:/extsoft/include"     -O2 -Wall  -mfpmath=sse -msse2 -mstackrealign -c compute_scale.cpp -o compute_scale.o
compute_scale.cpp: In function 'Rcpp::NumericVector compute_scale(Rcpp::RObject, Rcpp::RObject)':
compute_scale.cpp:21:35: warning: comparison of integer expressions of different signedness: 'R_xlen_t' {aka 'long long int'} and 'size_t' {aka 'long long unsigned int'} [-Wsign-compare]
         if (numeric_centers.size()!=ncols) {
             ~~~~~~~~~~~~~~~~~~~~~~^~~~~~~
In file included from C:/Users/biocbuild/bbs-3.12-bioc/R/library/beachmat/include/beachmat3/lin_matrix.h:12,
                 from C:/Users/biocbuild/bbs-3.12-bioc/R/library/beachmat/include/beachmat3/read_lin_block.h:11,
                 from C:/Users/biocbuild/bbs-3.12-bioc/R/library/beachmat/include/beachmat3/beachmat.h:24,
                 from compute_scale.cpp:2:
C:/Users/biocbuild/bbs-3.12-bioc/R/library/beachmat/include/beachmat3/Csparse_reader.h: In instantiation of 'beachmat::SparseArraySeed_reader<V, TIT>::SparseArraySeed_reader(Rcpp::RObject) [with V = Rcpp::Vector<13>; TIT = const int*; Rcpp::RObject = Rcpp::RObject_Impl<Rcpp::PreserveStorage>]':
C:/Users/biocbuild/bbs-3.12-bioc/R/library/beachmat/include/beachmat3/lin_matrix.h:561:56:   required from 'beachmat::lin_SparseArraySeed<V, TIT>::lin_SparseArraySeed(Rcpp::RObject) [with V = Rcpp::Vector<13>; TIT = const int*; Rcpp::RObject = Rcpp::RObject_Impl<Rcpp::PreserveStorage>]'
C:/Users/biocbuild/bbs-3.12-bioc/R/library/beachmat/include/beachmat3/read_lin_block.h:36:39:   required from 'std::unique_ptr<_Codecvt> beachmat::read_lin_sparse_block_raw(Rcpp::RObject) [with M = beachmat::lin_matrix; Rcpp::RObject = Rcpp::RObject_Impl<Rcpp::PreserveStorage>]'
C:/Users/biocbuild/bbs-3.12-bioc/R/library/beachmat/include/beachmat3/read_lin_block.h:65:63:   required from here
C:/Users/biocbuild/bbs-3.12-bioc/R/library/beachmat/include/beachmat3/Csparse_reader.h:535:17: warning: comparison of integer expressions of different signedness: 'const size_t' {aka 'const long long unsigned int'} and 'R_xlen_t' {aka 'long long int'} [-Wsign-compare]
         if (nnz != x.size()) {
C:/Users/biocbuild/bbs-3.12-bioc/R/library/beachmat/include/beachmat3/Csparse_reader.h:551:45: warning: comparison of integer expressions of different signedness: 'int' and 'const size_t' {aka 'const long long unsigned int'} [-Wsign-compare]
                     if (lastR <= 0 || lastR > NR || lastC <= 0 || lastC > NC) {
                                       ~~~~~~^~~~
C:/Users/biocbuild/bbs-3.12-bioc/R/library/beachmat/include/beachmat3/Csparse_reader.h:551:73: warning: comparison of integer expressions of different signedness: 'int' and 'const size_t' {aka 'const long long unsigned int'} [-Wsign-compare]
                     if (lastR <= 0 || lastR > NR || lastC <= 0 || lastC > NC) {
                                                                   ~~~~~~^~~~
C:/Users/biocbuild/bbs-3.12-bioc/R/library/beachmat/include/beachmat3/Csparse_reader.h:593:35: warning: comparison of integer expressions of different signedness: 'int' and 'const size_t' {aka 'const long long unsigned int'} [-Wsign-compare]
                 for (int v = 0; v < nnz; ++v, ++rowIt, ++colIt, ++xIt) {
                                 ~~^~~~~
C:/Users/biocbuild/bbs-3.12-bioc/R/library/beachmat/include/beachmat3/Csparse_reader.h: In instantiation of 'beachmat::SparseArraySeed_reader<V, TIT>::SparseArraySeed_reader(Rcpp::RObject) [with V = Rcpp::Vector<14, Rcpp::PreserveStorage>; TIT = const double*; Rcpp::RObject = Rcpp::RObject_Impl<Rcpp::PreserveStorage>]':
C:/Users/biocbuild/bbs-3.12-bioc/R/library/beachmat/include/beachmat3/lin_matrix.h:561:56:   required from 'beachmat::lin_SparseArraySeed<V, TIT>::lin_SparseArraySeed(Rcpp::RObject) [with V = Rcpp::Vector<14, Rcpp::PreserveStorage>; TIT = const double*; Rcpp::RObject = Rcpp::RObject_Impl<Rcpp::PreserveStorage>]'
C:/Users/biocbuild/bbs-3.12-bioc/R/library/beachmat/include/beachmat3/read_lin_block.h:38:39:   required from 'std::unique_ptr<_Codecvt> beachmat::read_lin_sparse_block_raw(Rcpp::RObject) [with M = beachmat::lin_matrix; Rcpp::RObject = Rcpp::RObject_Impl<Rcpp::PreserveStorage>]'
C:/Users/biocbuild/bbs-3.12-bioc/R/library/beachmat/include/beachmat3/read_lin_block.h:65:63:   required from here
C:/Users/biocbuild/bbs-3.12-bioc/R/library/beachmat/include/beachmat3/Csparse_reader.h:535:17: warning: comparison of integer expressions of different signedness: 'const size_t' {aka 'const long long unsigned int'} and 'R_xlen_t' {aka 'long long int'} [-Wsign-compare]
         if (nnz != x.size()) {
C:/Users/biocbuild/bbs-3.12-bioc/R/library/beachmat/include/beachmat3/Csparse_reader.h:551:45: warning: comparison of integer expressions of different signedness: 'int' and 'const size_t' {aka 'const long long unsigned int'} [-Wsign-compare]
                     if (lastR <= 0 || lastR > NR || lastC <= 0 || lastC > NC) {
                                       ~~~~~~^~~~
C:/Users/biocbuild/bbs-3.12-bioc/R/library/beachmat/include/beachmat3/Csparse_reader.h:551:73: warning: comparison of integer expressions of different signedness: 'int' and 'const size_t' {aka 'const long long unsigned int'} [-Wsign-compare]
                     if (lastR <= 0 || lastR > NR || lastC <= 0 || lastC > NC) {
                                                                   ~~~~~~^~~~
C:/Users/biocbuild/bbs-3.12-bioc/R/library/beachmat/include/beachmat3/Csparse_reader.h:593:35: warning: comparison of integer expressions of different signedness: 'int' and 'const size_t' {aka 'const long long unsigned int'} [-Wsign-compare]
                 for (int v = 0; v < nnz; ++v, ++rowIt, ++colIt, ++xIt) {
                                 ~~^~~~~
C:/Users/biocbuild/bbs-3.12-bioc/R/library/beachmat/include/beachmat3/Csparse_reader.h: In instantiation of 'beachmat::SparseArraySeed_reader<V, TIT>::SparseArraySeed_reader(Rcpp::RObject) [with V = Rcpp::Vector<10, Rcpp::PreserveStorage>; TIT = const int*; Rcpp::RObject = Rcpp::RObject_Impl<Rcpp::PreserveStorage>]':
C:/Users/biocbuild/bbs-3.12-bioc/R/library/beachmat/include/beachmat3/lin_matrix.h:561:56:   required from 'beachmat::lin_SparseArraySeed<V, TIT>::lin_SparseArraySeed(Rcpp::RObject) [with V = Rcpp::Vector<10, Rcpp::PreserveStorage>; TIT = const int*; Rcpp::RObject = Rcpp::RObject_Impl<Rcpp::PreserveStorage>]'
C:/Users/biocbuild/bbs-3.12-bioc/R/library/beachmat/include/beachmat3/read_lin_block.h:40:39:   required from 'std::unique_ptr<_Codecvt> beachmat::read_lin_sparse_block_raw(Rcpp::RObject) [with M = beachmat::lin_matrix; Rcpp::RObject = Rcpp::RObject_Impl<Rcpp::PreserveStorage>]'
C:/Users/biocbuild/bbs-3.12-bioc/R/library/beachmat/include/beachmat3/read_lin_block.h:65:63:   required from here
C:/Users/biocbuild/bbs-3.12-bioc/R/library/beachmat/include/beachmat3/Csparse_reader.h:535:17: warning: comparison of integer expressions of different signedness: 'const size_t' {aka 'const long long unsigned int'} and 'R_xlen_t' {aka 'long long int'} [-Wsign-compare]
         if (nnz != x.size()) {
C:/Users/biocbuild/bbs-3.12-bioc/R/library/beachmat/include/beachmat3/Csparse_reader.h:551:45: warning: comparison of integer expressions of different signedness: 'int' and 'const size_t' {aka 'const long long unsigned int'} [-Wsign-compare]
                     if (lastR <= 0 || lastR > NR || lastC <= 0 || lastC > NC) {
                                       ~~~~~~^~~~
C:/Users/biocbuild/bbs-3.12-bioc/R/library/beachmat/include/beachmat3/Csparse_reader.h:551:73: warning: comparison of integer expressions of different signedness: 'int' and 'const size_t' {aka 'const long long unsigned int'} [-Wsign-compare]
                     if (lastR <= 0 || lastR > NR || lastC <= 0 || lastC > NC) {
                                                                   ~~~~~~^~~~
C:/Users/biocbuild/bbs-3.12-bioc/R/library/beachmat/include/beachmat3/Csparse_reader.h:593:35: warning: comparison of integer expressions of different signedness: 'int' and 'const size_t' {aka 'const long long unsigned int'} [-Wsign-compare]
                 for (int v = 0; v < nnz; ++v, ++rowIt, ++colIt, ++xIt) {
                                 ~~^~~~~
C:/Users/biocbuild/bbs-3.12-bioc/R/library/beachmat/include/beachmat3/Csparse_reader.h: In instantiation of 'beachmat::sparse_index<OUT, I> beachmat::Csparse_core<TIT, I, P>::get_row(size_t, ALT, I*, size_t, size_t) [with OUT = const int*; ALT = int*; TIT = const double*; I = int; P = long long unsigned int; size_t = long long unsigned int]':
C:/Users/biocbuild/bbs-3.12-bioc/R/library/beachmat/include/beachmat3/Csparse_reader.h:650:73:   required from 'beachmat::sparse_index<OUT, int> beachmat::SparseArraySeed_reader<V, TIT>::get_row(size_t, ALT, int*, size_t, size_t) [with OUT = const int*; ALT = int*; V = Rcpp::Vector<14, Rcpp::PreserveStorage>; TIT = const double*; size_t = long long unsigned int]'
C:/Users/biocbuild/bbs-3.12-bioc/R/library/beachmat/include/beachmat3/lin_matrix.h:596:82:   required from 'beachmat::sparse_index<const int*, int> beachmat::lin_SparseArraySeed<V, TIT>::get_row(size_t, int*, int*, size_t, size_t) [with V = Rcpp::Vector<14, Rcpp::PreserveStorage>; TIT = const double*; size_t = long long unsigned int]'
C:/Users/biocbuild/bbs-3.12-bioc/R/library/beachmat/include/beachmat3/lin_matrix.h:595:35:   required from here
C:/Users/biocbuild/bbs-3.12-bioc/R/library/beachmat/include/beachmat3/Csparse_reader.h:250:22: warning: comparison of integer expressions of different signedness: 'const int' and 'const long long unsigned int' [-Wsign-compare]
             if (idex != *pIt && static_cast<size_t>(i[idex]) == r) {
                 ~~~~~^~~~~~~
C:/Users/biocbuild/bbs-3.12-bioc/R/library/beachmat/include/beachmat3/Csparse_reader.h: In instantiation of 'beachmat::sparse_index<OUT, I> beachmat::Csparse_core<TIT, I, P>::get_row(size_t, ALT, I*, size_t, size_t) [with OUT = const double*; ALT = double*; TIT = const double*; I = int; P = long long unsigned int; size_t = long long unsigned int]':
C:/Users/biocbuild/bbs-3.12-bioc/R/library/beachmat/include/beachmat3/Csparse_reader.h:650:73:   required from 'beachmat::sparse_index<OUT, int> beachmat::SparseArraySeed_reader<V, TIT>::get_row(size_t, ALT, int*, size_t, size_t) [with OUT = const double*; ALT = double*; V = Rcpp::Vector<14, Rcpp::PreserveStorage>; TIT = const double*; size_t = long long unsigned int]'
C:/Users/biocbuild/bbs-3.12-bioc/R/library/beachmat/include/beachmat3/lin_matrix.h:602:85:   required from 'beachmat::sparse_index<const double*, int> beachmat::lin_SparseArraySeed<V, TIT>::get_row(size_t, double*, int*, size_t, size_t) [with V = Rcpp::Vector<14, Rcpp::PreserveStorage>; TIT = const double*; size_t = long long unsigned int]'
C:/Users/biocbuild/bbs-3.12-bioc/R/library/beachmat/include/beachmat3/lin_matrix.h:601:38:   required from here
C:/Users/biocbuild/bbs-3.12-bioc/R/library/beachmat/include/beachmat3/Csparse_reader.h:250:22: warning: comparison of integer expressions of different signedness: 'const int' and 'const long long unsigned int' [-Wsign-compare]
C:/Users/biocbuild/bbs-3.12-bioc/R/library/beachmat/include/beachmat3/Csparse_reader.h: In instantiation of 'beachmat::sparse_index<OUT, I> beachmat::Csparse_core<TIT, I, P>::get_row(size_t, ALT, I*, size_t, size_t) [with OUT = const int*; ALT = int*; TIT = const int*; I = int; P = long long unsigned int; size_t = long long unsigned int]':
C:/Users/biocbuild/bbs-3.12-bioc/R/library/beachmat/include/beachmat3/Csparse_reader.h:650:73:   required from 'beachmat::sparse_index<OUT, int> beachmat::SparseArraySeed_reader<V, TIT>::get_row(size_t, ALT, int*, size_t, size_t) [with OUT = const int*; ALT = int*; V = Rcpp::Vector<10, Rcpp::PreserveStorage>; TIT = const int*; size_t = long long unsigned int]'
C:/Users/biocbuild/bbs-3.12-bioc/R/library/beachmat/include/beachmat3/lin_matrix.h:596:82:   required from 'beachmat::sparse_index<const int*, int> beachmat::lin_SparseArraySeed<V, TIT>::get_row(size_t, int*, int*, size_t, size_t) [with V = Rcpp::Vector<10, Rcpp::PreserveStorage>; TIT = const int*; size_t = long long unsigned int]'
C:/Users/biocbuild/bbs-3.12-bioc/R/library/beachmat/include/beachmat3/lin_matrix.h:595:35:   required from here
C:/Users/biocbuild/bbs-3.12-bioc/R/library/beachmat/include/beachmat3/Csparse_reader.h:250:22: warning: comparison of integer expressions of different signedness: 'const int' and 'const long long unsigned int' [-Wsign-compare]
C:/Users/biocbuild/bbs-3.12-bioc/R/library/beachmat/include/beachmat3/Csparse_reader.h: In instantiation of 'beachmat::sparse_index<OUT, I> beachmat::Csparse_core<TIT, I, P>::get_row(size_t, ALT, I*, size_t, size_t) [with OUT = const double*; ALT = double*; TIT = const int*; I = int; P = long long unsigned int; size_t = long long unsigned int]':
C:/Users/biocbuild/bbs-3.12-bioc/R/library/beachmat/include/beachmat3/Csparse_reader.h:650:73:   required from 'beachmat::sparse_index<OUT, int> beachmat::SparseArraySeed_reader<V, TIT>::get_row(size_t, ALT, int*, size_t, size_t) [with OUT = const double*; ALT = double*; V = Rcpp::Vector<10, Rcpp::PreserveStorage>; TIT = const int*; size_t = long long unsigned int]'
C:/Users/biocbuild/bbs-3.12-bioc/R/library/beachmat/include/beachmat3/lin_matrix.h:602:85:   required from 'beachmat::sparse_index<const double*, int> beachmat::lin_SparseArraySeed<V, TIT>::get_row(size_t, double*, int*, size_t, size_t) [with V = Rcpp::Vector<10, Rcpp::PreserveStorage>; TIT = const int*; size_t = long long unsigned int]'
C:/Users/biocbuild/bbs-3.12-bioc/R/library/beachmat/include/beachmat3/lin_matrix.h:601:38:   required from here
C:/Users/biocbuild/bbs-3.12-bioc/R/library/beachmat/include/beachmat3/Csparse_reader.h:250:22: warning: comparison of integer expressions of different signedness: 'const int' and 'const long long unsigned int' [-Wsign-compare]
C:/rtools40/mingw64/bin/g++ -shared -s -static-libgcc -o BiocSingular.dll tmp.def RcppExports.o compute_scale.o -LC:/extsoft/lib/x64 -LC:/extsoft/lib -LC:/Users/BIOCBU~1/BBS-3~1.12-/R/bin/x64 -lR
installing to C:/Users/biocbuild/bbs-3.12-bioc/meat/BiocSingular.buildbin-libdir/BiocSingular/libs/x64
** testing if installed package can be loaded
* MD5 sums
packaged installation of 'BiocSingular' as BiocSingular_1.6.0.zip
* DONE (BiocSingular)
* installing to library 'C:/Users/biocbuild/bbs-3.12-bioc/R/library'
package 'BiocSingular' successfully unpacked and MD5 sums checked

Tests output

BiocSingular.Rcheck/tests_i386/testthat.Rout


R version 4.0.3 (2020-10-10) -- "Bunny-Wunnies Freak Out"
Copyright (C) 2020 The R Foundation for Statistical Computing
Platform: i386-w64-mingw32/i386 (32-bit)

R is free software and comes with ABSOLUTELY NO WARRANTY.
You are welcome to redistribute it under certain conditions.
Type 'license()' or 'licence()' for distribution details.

R is a collaborative project with many contributors.
Type 'contributors()' for more information and
'citation()' on how to cite R or R packages in publications.

Type 'demo()' for some demos, 'help()' for on-line help, or
'help.start()' for an HTML browser interface to help.
Type 'q()' to quit R.

> library(BiocSingular)
> library(testthat)
> test_check("BiocSingular")
Loading required package: stats4
Loading required package: Matrix
Loading required package: BiocGenerics
Loading required package: parallel

Attaching package: 'BiocGenerics'

The following objects are masked from 'package:parallel':

    clusterApply, clusterApplyLB, clusterCall, clusterEvalQ,
    clusterExport, clusterMap, parApply, parCapply, parLapply,
    parLapplyLB, parRapply, parSapply, parSapplyLB

The following objects are masked from 'package:stats':

    IQR, mad, sd, var, xtabs

The following objects are masked from 'package:base':

    Filter, Find, Map, Position, Reduce, anyDuplicated, append,
    as.data.frame, basename, cbind, colnames, dirname, do.call,
    duplicated, eval, evalq, get, grep, grepl, intersect, is.unsorted,
    lapply, mapply, match, mget, order, paste, pmax, pmax.int, pmin,
    pmin.int, rank, rbind, rownames, sapply, setdiff, sort, table,
    tapply, union, unique, unsplit, which.max, which.min

Loading required package: MatrixGenerics
Loading required package: matrixStats

Attaching package: 'MatrixGenerics'

The following objects are masked from 'package:matrixStats':

    colAlls, colAnyNAs, colAnys, colAvgsPerRowSet, colCollapse,
    colCounts, colCummaxs, colCummins, colCumprods, colCumsums,
    colDiffs, colIQRDiffs, colIQRs, colLogSumExps, colMadDiffs,
    colMads, colMaxs, colMeans2, colMedians, colMins, colOrderStats,
    colProds, colQuantiles, colRanges, colRanks, colSdDiffs, colSds,
    colSums2, colTabulates, colVarDiffs, colVars, colWeightedMads,
    colWeightedMeans, colWeightedMedians, colWeightedSds,
    colWeightedVars, rowAlls, rowAnyNAs, rowAnys, rowAvgsPerColSet,
    rowCollapse, rowCounts, rowCummaxs, rowCummins, rowCumprods,
    rowCumsums, rowDiffs, rowIQRDiffs, rowIQRs, rowLogSumExps,
    rowMadDiffs, rowMads, rowMaxs, rowMeans2, rowMedians, rowMins,
    rowOrderStats, rowProds, rowQuantiles, rowRanges, rowRanks,
    rowSdDiffs, rowSds, rowSums2, rowTabulates, rowVarDiffs, rowVars,
    rowWeightedMads, rowWeightedMeans, rowWeightedMedians,
    rowWeightedSds, rowWeightedVars

Loading required package: S4Vectors

Attaching package: 'S4Vectors'

The following object is masked from 'package:Matrix':

    expand

The following object is masked from 'package:base':

    expand.grid

Loading required package: IRanges

Attaching package: 'IRanges'

The following object is masked from 'package:grDevices':

    windows


Attaching package: 'DelayedArray'

The following objects are masked from 'package:base':

    aperm, apply, rowsum

[ FAIL 0 | WARN 6 | SKIP 0 | PASS 10357 ]
> 
> proc.time()
   user  system elapsed 
  55.78    0.93   56.73 

BiocSingular.Rcheck/tests_x64/testthat.Rout


R version 4.0.3 (2020-10-10) -- "Bunny-Wunnies Freak Out"
Copyright (C) 2020 The R Foundation for Statistical Computing
Platform: x86_64-w64-mingw32/x64 (64-bit)

R is free software and comes with ABSOLUTELY NO WARRANTY.
You are welcome to redistribute it under certain conditions.
Type 'license()' or 'licence()' for distribution details.

R is a collaborative project with many contributors.
Type 'contributors()' for more information and
'citation()' on how to cite R or R packages in publications.

Type 'demo()' for some demos, 'help()' for on-line help, or
'help.start()' for an HTML browser interface to help.
Type 'q()' to quit R.

> library(BiocSingular)
> library(testthat)
> test_check("BiocSingular")
Loading required package: stats4
Loading required package: Matrix
Loading required package: BiocGenerics
Loading required package: parallel

Attaching package: 'BiocGenerics'

The following objects are masked from 'package:parallel':

    clusterApply, clusterApplyLB, clusterCall, clusterEvalQ,
    clusterExport, clusterMap, parApply, parCapply, parLapply,
    parLapplyLB, parRapply, parSapply, parSapplyLB

The following objects are masked from 'package:stats':

    IQR, mad, sd, var, xtabs

The following objects are masked from 'package:base':

    Filter, Find, Map, Position, Reduce, anyDuplicated, append,
    as.data.frame, basename, cbind, colnames, dirname, do.call,
    duplicated, eval, evalq, get, grep, grepl, intersect, is.unsorted,
    lapply, mapply, match, mget, order, paste, pmax, pmax.int, pmin,
    pmin.int, rank, rbind, rownames, sapply, setdiff, sort, table,
    tapply, union, unique, unsplit, which.max, which.min

Loading required package: MatrixGenerics
Loading required package: matrixStats

Attaching package: 'MatrixGenerics'

The following objects are masked from 'package:matrixStats':

    colAlls, colAnyNAs, colAnys, colAvgsPerRowSet, colCollapse,
    colCounts, colCummaxs, colCummins, colCumprods, colCumsums,
    colDiffs, colIQRDiffs, colIQRs, colLogSumExps, colMadDiffs,
    colMads, colMaxs, colMeans2, colMedians, colMins, colOrderStats,
    colProds, colQuantiles, colRanges, colRanks, colSdDiffs, colSds,
    colSums2, colTabulates, colVarDiffs, colVars, colWeightedMads,
    colWeightedMeans, colWeightedMedians, colWeightedSds,
    colWeightedVars, rowAlls, rowAnyNAs, rowAnys, rowAvgsPerColSet,
    rowCollapse, rowCounts, rowCummaxs, rowCummins, rowCumprods,
    rowCumsums, rowDiffs, rowIQRDiffs, rowIQRs, rowLogSumExps,
    rowMadDiffs, rowMads, rowMaxs, rowMeans2, rowMedians, rowMins,
    rowOrderStats, rowProds, rowQuantiles, rowRanges, rowRanks,
    rowSdDiffs, rowSds, rowSums2, rowTabulates, rowVarDiffs, rowVars,
    rowWeightedMads, rowWeightedMeans, rowWeightedMedians,
    rowWeightedSds, rowWeightedVars

Loading required package: S4Vectors

Attaching package: 'S4Vectors'

The following object is masked from 'package:Matrix':

    expand

The following object is masked from 'package:base':

    expand.grid

Loading required package: IRanges

Attaching package: 'IRanges'

The following object is masked from 'package:grDevices':

    windows


Attaching package: 'DelayedArray'

The following objects are masked from 'package:base':

    aperm, apply, rowsum

[ FAIL 0 | WARN 6 | SKIP 0 | PASS 10357 ]
> 
> proc.time()
   user  system elapsed 
  57.84    0.53   58.36 

Example timings

BiocSingular.Rcheck/examples_i386/BiocSingular-Ex.timings

nameusersystemelapsed
BiocSingularParam0.020.000.02
DeferredMatrix0.110.050.16
LowRankMatrix0.080.020.09
runExactSVD0.060.000.06
runIrlbaSVD0.020.000.02
runPCA0.040.010.07
runRandomSVD0.170.020.18
runSVD0.190.000.19

BiocSingular.Rcheck/examples_x64/BiocSingular-Ex.timings

nameusersystemelapsed
BiocSingularParam0.010.000.02
DeferredMatrix0.140.000.14
LowRankMatrix0.070.010.08
runExactSVD0.060.000.06
runIrlbaSVD0.030.000.03
runPCA0.080.000.08
runRandomSVD0.20.00.2
runSVD0.190.000.19