Back to Multiple platform build/check report for BioC 3.12
[A]BCDEFGHIJKLMNOPQRSTUVWXYZ

BUILD report for ABAEnrichment on malbec1

This page was generated on 2021-04-14 12:08:34 -0400 (Wed, 14 Apr 2021).

To the developers/maintainers of the ABAEnrichment package:
Please make sure to use the following settings in order to reproduce any error or warning you see on this page.
Package 7/1974HostnameOS / ArchINSTALLBUILDCHECKBUILD BIN
ABAEnrichment 1.20.0  (landing page)
Steffi Grote
Snapshot Date: 2021-04-13 14:50:13 -0400 (Tue, 13 Apr 2021)
URL: https://git.bioconductor.org/packages/ABAEnrichment
Branch: RELEASE_3_12
Last Commit: 608433a
Last Changed Date: 2020-10-27 11:07:16 -0400 (Tue, 27 Oct 2020)
malbec1Linux (Ubuntu 18.04.5 LTS) / x86_64  OK    OK    OK  UNNEEDED, same version exists in internal repository
tokay1Windows Server 2012 R2 Standard / x64  OK    OK    OK    OK  UNNEEDED, same version exists in internal repository
merida1macOS 10.14.6 Mojave / x86_64  OK    OK    OK    OK  UNNEEDED, same version exists in internal repository

Summary

Package: ABAEnrichment
Version: 1.20.0
Command: /home/biocbuild/bbs-3.12-bioc/R/bin/R CMD build --keep-empty-dirs --no-resave-data ABAEnrichment
StartedAt: 2021-04-13 17:29:00 -0400 (Tue, 13 Apr 2021)
EndedAt: 2021-04-13 17:30:32 -0400 (Tue, 13 Apr 2021)
EllapsedTime: 92.3 seconds
RetCode: 0
Status:   OK  
PackageFile: ABAEnrichment_1.20.0.tar.gz
PackageFileSize: 4.514 MiB

Command output

##############################################################################
##############################################################################
###
### Running command:
###
###   /home/biocbuild/bbs-3.12-bioc/R/bin/R CMD build --keep-empty-dirs --no-resave-data ABAEnrichment
###
##############################################################################
##############################################################################


* checking for file ‘ABAEnrichment/DESCRIPTION’ ... OK
* preparing ‘ABAEnrichment’:
* checking DESCRIPTION meta-information ... OK
* cleaning src
* installing the package to process help pages
* saving partial Rd database
* creating vignettes ... OK
* cleaning src
* checking for LF line-endings in source and make files and shell scripts
* checking for empty or unneeded directories
* looking to see if a ‘data/datalist’ file should be added
* building ‘ABAEnrichment_1.20.0.tar.gz’