Back to Multiple platform build/check report for BioC 3.12
[A]BCDEFGHIJKLMNOPQRSTUVWXYZ

BUILD report for annotatr on tokay1

This page was generated on 2020-08-10 12:21:32 -0400 (Mon, 10 Aug 2020).

TO THE DEVELOPERS/MAINTAINERS OF THE annotatr PACKAGE: Please make sure to use the following settings in order to reproduce any error or warning you see on this page.
Package 65/1882HostnameOS / ArchINSTALLBUILDCHECKBUILD BIN
annotatr 1.15.2
Raymond G. Cavalcante
Snapshot Date: 2020-08-09 14:51:29 -0400 (Sun, 09 Aug 2020)
URL: https://git.bioconductor.org/packages/annotatr
Branch: master
Last Commit: 78eb300
Last Changed Date: 2020-07-07 08:56:57 -0400 (Tue, 07 Jul 2020)
malbec1 Linux (Ubuntu 18.04.4 LTS) / x86_64  OK  OK  OK UNNEEDED, same version exists in internal repository
nebbiolo1 Linux (Ubuntu 20.04.1 LTS) / x86_64  OK  OK  OK 
tokay1 Windows Server 2012 R2 Standard / x64  OK [ OK ] OK  OK UNNEEDED, same version exists in internal repository
merida1 macOS 10.14.6 Mojave / x86_64  OK  OK  ERROR  OK 

Summary

Package: annotatr
Version: 1.15.2
Command: chmod a+r annotatr -R && C:\Users\biocbuild\bbs-3.12-bioc\R\bin\R.exe CMD build --keep-empty-dirs --no-resave-data annotatr
StartedAt: 2020-08-09 21:29:04 -0400 (Sun, 09 Aug 2020)
EndedAt: 2020-08-09 21:31:36 -0400 (Sun, 09 Aug 2020)
EllapsedTime: 151.7 seconds
RetCode: 0
Status:  OK  
PackageFile: annotatr_1.15.2.tar.gz
PackageFileSize: 1.967 MiB

Command output

##############################################################################
##############################################################################
###
### Running command:
###
###   chmod a+r annotatr -R && C:\Users\biocbuild\bbs-3.12-bioc\R\bin\R.exe CMD build --keep-empty-dirs --no-resave-data annotatr
###
##############################################################################
##############################################################################


* checking for file 'annotatr/DESCRIPTION' ... OK
* preparing 'annotatr':
* checking DESCRIPTION meta-information ... OK
* installing the package to build vignettes
* creating vignettes ... OK
* checking for LF line-endings in source and make files and shell scripts
* checking for empty or unneeded directories
* building 'annotatr_1.15.2.tar.gz'