Back to Multiple platform build/check report for BioC 3.12
[A]BCDEFGHIJKLMNOPQRSTUVWXYZ

BUILD report for AgiMicroRna on tokay1

This page was generated on 2020-08-12 11:38:41 -0400 (Wed, 12 Aug 2020).

TO THE DEVELOPERS/MAINTAINERS OF THE AgiMicroRna PACKAGE: Please make sure to use the following settings in order to reproduce any error or warning you see on this page.
Package 38/1885HostnameOS / ArchINSTALLBUILDCHECKBUILD BIN
AgiMicroRna 2.39.0
Pedro Lopez-Romero
Snapshot Date: 2020-08-11 14:50:16 -0400 (Tue, 11 Aug 2020)
URL: https://git.bioconductor.org/packages/AgiMicroRna
Branch: master
Last Commit: bb62809
Last Changed Date: 2020-04-27 14:20:03 -0400 (Mon, 27 Apr 2020)
malbec1 Linux (Ubuntu 18.04.4 LTS) / x86_64  OK  OK  OK UNNEEDED, same version exists in internal repository
nebbiolo1 Linux (Ubuntu 20.04.1 LTS) / x86_64  OK  OK  OK 
tokay1 Windows Server 2012 R2 Standard / x64  OK [ OK ] OK  OK UNNEEDED, same version exists in internal repository
merida1 macOS 10.14.6 Mojave / x86_64  OK  OK  OK  OK UNNEEDED, same version exists in internal repository

Summary

Package: AgiMicroRna
Version: 2.39.0
Command: chmod a+r AgiMicroRna -R && C:\Users\biocbuild\bbs-3.12-bioc\R\bin\R.exe CMD build --keep-empty-dirs --no-resave-data AgiMicroRna
StartedAt: 2020-08-11 19:24:30 -0400 (Tue, 11 Aug 2020)
EndedAt: 2020-08-11 19:26:49 -0400 (Tue, 11 Aug 2020)
EllapsedTime: 139.3 seconds
RetCode: 0
Status:  OK  
PackageFile: AgiMicroRna_2.39.0.tar.gz
PackageFileSize: 3.007 MiB

Command output

##############################################################################
##############################################################################
###
### Running command:
###
###   chmod a+r AgiMicroRna -R && C:\Users\biocbuild\bbs-3.12-bioc\R\bin\R.exe CMD build --keep-empty-dirs --no-resave-data AgiMicroRna
###
##############################################################################
##############################################################################


* checking for file 'AgiMicroRna/DESCRIPTION' ... OK
* preparing 'AgiMicroRna':
* checking DESCRIPTION meta-information ... OK
* installing the package to build vignettes
* creating vignettes ... OK
* checking for LF line-endings in source and make files and shell scripts
* checking for empty or unneeded directories
* looking to see if a 'data/datalist' file should be added
* building 'AgiMicroRna_2.39.0.tar.gz'