Back to Multiple platform build/check report for BioC 3.12
A[B]CDEFGHIJKLMNOPQRSTUVWXYZ

INSTALL report for biosigner on merida1

This page was generated on 2020-08-12 11:59:27 -0400 (Wed, 12 Aug 2020).

TO THE DEVELOPERS/MAINTAINERS OF THE biosigner PACKAGE: Please make sure to use the following settings in order to reproduce any error or warning you see on this page.
Package 176/1885HostnameOS / ArchINSTALLBUILDCHECKBUILD BIN
biosigner 1.17.0
Philippe Rinaudo , Etienne Thevenot
Snapshot Date: 2020-08-11 14:50:16 -0400 (Tue, 11 Aug 2020)
URL: https://git.bioconductor.org/packages/biosigner
Branch: master
Last Commit: a227d42
Last Changed Date: 2020-04-27 14:55:12 -0400 (Mon, 27 Apr 2020)
malbec1 Linux (Ubuntu 18.04.4 LTS) / x86_64  OK  OK  WARNINGS UNNEEDED, same version exists in internal repository
nebbiolo1 Linux (Ubuntu 20.04.1 LTS) / x86_64  OK  OK  WARNINGS 
tokay1 Windows Server 2012 R2 Standard / x64  OK  OK  WARNINGS  OK UNNEEDED, same version exists in internal repository
merida1 macOS 10.14.6 Mojave / x86_64 [ OK ] OK  WARNINGS  OK UNNEEDED, same version exists in internal repository

Summary

Package: biosigner
Version: 1.17.0
Command: /Library/Frameworks/R.framework/Versions/Current/Resources/bin/R CMD INSTALL biosigner
StartedAt: 2020-08-11 16:58:22 -0400 (Tue, 11 Aug 2020)
EndedAt: 2020-08-11 16:59:01 -0400 (Tue, 11 Aug 2020)
EllapsedTime: 39.5 seconds
RetCode: 0
Status:  OK 

Command output

##############################################################################
##############################################################################
###
### Running command:
###
###   /Library/Frameworks/R.framework/Versions/Current/Resources/bin/R CMD INSTALL biosigner
###
##############################################################################
##############################################################################


* installing to library ‘/Library/Frameworks/R.framework/Versions/4.0/Resources/library’
* installing *source* package ‘biosigner’ ...
** using staged installation
** R
** data
** inst
** byte-compile and prepare package for lazy loading
in method for ‘biosign’ with signature ‘x="MultiDataSet"’: no definition for class “MultiDataSet”
** help
*** installing help indices
** building package indices
** installing vignettes
** testing if installed package can be loaded from temporary location
** testing if installed package can be loaded from final location
** testing if installed package keeps a record of temporary installation path
* DONE (biosigner)