Back to Multiple platform build/check report for BioC 3.12
A[B]CDEFGHIJKLMNOPQRSTUVWXYZ

INSTALL report for BrowserViz on tokay1

This page was generated on 2020-08-06 11:59:22 -0400 (Thu, 06 Aug 2020).

TO THE DEVELOPERS/MAINTAINERS OF THE BrowserViz PACKAGE: Please make sure to use the following settings in order to reproduce any error or warning you see on this page.
Package 201/1882HostnameOS / ArchINSTALLBUILDCHECKBUILD BIN
BrowserViz 2.11.0
Paul Shannon
Snapshot Date: 2020-08-05 14:50:59 -0400 (Wed, 05 Aug 2020)
URL: https://git.bioconductor.org/packages/BrowserViz
Branch: master
Last Commit: c965f73
Last Changed Date: 2020-04-27 14:47:02 -0400 (Mon, 27 Apr 2020)
malbec1 Linux (Ubuntu 18.04.4 LTS) / x86_64  OK  OK  OK UNNEEDED, same version exists in internal repository
tokay1 Windows Server 2012 R2 Standard / x64 [ OK ] OK  OK  OK UNNEEDED, same version exists in internal repository
merida1 macOS 10.14.6 Mojave / x86_64  OK  OK  OK  OK UNNEEDED, same version exists in internal repository

Summary

Package: BrowserViz
Version: 2.11.0
Command: C:\cygwin\bin\curl.exe -O https://malbec1.bioconductor.org/BBS/3.12/bioc/src/contrib/BrowserViz_2.11.0.tar.gz && rm -rf BrowserViz.buildbin-libdir && mkdir BrowserViz.buildbin-libdir && C:\Users\biocbuild\bbs-3.12-bioc\R\bin\R.exe CMD INSTALL --merge-multiarch --build --library=BrowserViz.buildbin-libdir BrowserViz_2.11.0.tar.gz && C:\Users\biocbuild\bbs-3.12-bioc\R\bin\R.exe CMD INSTALL BrowserViz_2.11.0.zip && rm BrowserViz_2.11.0.tar.gz BrowserViz_2.11.0.zip
StartedAt: 2020-08-05 16:51:03 -0400 (Wed, 05 Aug 2020)
EndedAt: 2020-08-05 16:51:37 -0400 (Wed, 05 Aug 2020)
EllapsedTime: 34.2 seconds
RetCode: 0
Status:  OK  

Command output

##############################################################################
##############################################################################
###
### Running command:
###
###   C:\cygwin\bin\curl.exe -O https://malbec1.bioconductor.org/BBS/3.12/bioc/src/contrib/BrowserViz_2.11.0.tar.gz && rm -rf BrowserViz.buildbin-libdir && mkdir BrowserViz.buildbin-libdir && C:\Users\biocbuild\bbs-3.12-bioc\R\bin\R.exe CMD INSTALL --merge-multiarch --build --library=BrowserViz.buildbin-libdir BrowserViz_2.11.0.tar.gz && C:\Users\biocbuild\bbs-3.12-bioc\R\bin\R.exe CMD INSTALL BrowserViz_2.11.0.zip && rm BrowserViz_2.11.0.tar.gz BrowserViz_2.11.0.zip
###
##############################################################################
##############################################################################


  % Total    % Received % Xferd  Average Speed   Time    Time     Time  Current
                                 Dload  Upload   Total   Spent    Left  Speed

  0     0    0     0    0     0      0      0 --:--:-- --:--:-- --:--:--     0
100  137k  100  137k    0     0  3377k      0 --:--:-- --:--:-- --:--:-- 3806k

install for i386

* installing *source* package 'BrowserViz' ...
** using staged installation
** R
** inst
** byte-compile and prepare package for lazy loading
** help
*** installing help indices
  converting help for package 'BrowserViz'
    finding HTML links ... done
    BrowserViz-class                        html  
    BrowserViz                              html  
    addRMessageHandler                      html  
    browserResponseReady                    html  
    closeWebSocket                          html  
    dispatchMessage                         html  
    displayHTMLInDiv                        html  
    fromJSON                                html  
    getBrowserInfo                          html  
    getBrowserResponse                      html  
    getBrowserWindowSize                    html  
    getBrowserWindowTitle                   html  
    handleResponse                          html  
    port                                    html  
    ready                                   html  
    roundTripTest                           html  
    send                                    html  
    setBrowserWindowTitle                   html  
    show                                    html  
    toJSON                                  html  
    wait                                    html  
    webBrowserAvailableForTesting           html  
** building package indices
** installing vignettes
** testing if installed package can be loaded from temporary location
** testing if installed package can be loaded from final location
** testing if installed package keeps a record of temporary installation path

install for x64

* installing *source* package 'BrowserViz' ...
** testing if installed package can be loaded
* MD5 sums
packaged installation of 'BrowserViz' as BrowserViz_2.11.0.zip
* DONE (BrowserViz)
* installing to library 'C:/Users/biocbuild/bbs-3.12-bioc/R/library'
package 'BrowserViz' successfully unpacked and MD5 sums checked