Back to Multiple platform build/check report for BioC 3.12
A[B]CDEFGHIJKLMNOPQRSTUVWXYZ

BUILD report for bsseq on tokay1

This page was generated on 2020-08-06 11:54:42 -0400 (Thu, 06 Aug 2020).

TO THE DEVELOPERS/MAINTAINERS OF THE bsseq PACKAGE: Please make sure to use the following settings in order to reproduce any error or warning you see on this page.
Package 203/1882HostnameOS / ArchINSTALLBUILDCHECKBUILD BIN
bsseq 1.25.5
Kasper Daniel Hansen
Snapshot Date: 2020-08-05 14:50:59 -0400 (Wed, 05 Aug 2020)
URL: https://git.bioconductor.org/packages/bsseq
Branch: master
Last Commit: f2728b7
Last Changed Date: 2020-06-28 21:21:07 -0400 (Sun, 28 Jun 2020)
malbec1 Linux (Ubuntu 18.04.4 LTS) / x86_64  OK  OK  WARNINGS UNNEEDED, same version exists in internal repository
tokay1 Windows Server 2012 R2 Standard / x64  OK [ OK ] WARNINGS  OK UNNEEDED, same version exists in internal repository
merida1 macOS 10.14.6 Mojave / x86_64  OK  OK  WARNINGS  OK UNNEEDED, same version exists in internal repository

Summary

Package: bsseq
Version: 1.25.5
Command: chmod a+r bsseq -R && C:\Users\biocbuild\bbs-3.12-bioc\R\bin\R.exe CMD build --keep-empty-dirs --no-resave-data bsseq
StartedAt: 2020-08-05 19:51:52 -0400 (Wed, 05 Aug 2020)
EndedAt: 2020-08-05 19:55:16 -0400 (Wed, 05 Aug 2020)
EllapsedTime: 204.7 seconds
RetCode: 0
Status:  OK  
PackageFile: bsseq_1.25.5.tar.gz
PackageFileSize: 2.618 MiB

Command output

##############################################################################
##############################################################################
###
### Running command:
###
###   chmod a+r bsseq -R && C:\Users\biocbuild\bbs-3.12-bioc\R\bin\R.exe CMD build --keep-empty-dirs --no-resave-data bsseq
###
##############################################################################
##############################################################################


* checking for file 'bsseq/DESCRIPTION' ... OK
* preparing 'bsseq':
* checking DESCRIPTION meta-information ... OK
* cleaning src
* installing the package to build vignettes
* creating vignettes ... OK
* cleaning src
* checking for LF line-endings in source and make files and shell scripts
* checking for empty or unneeded directories
* looking to see if a 'data/datalist' file should be added
* building 'bsseq_1.25.5.tar.gz'