Back to Multiple platform build/check report for BioC 3.12
AB[C]DEFGHIJKLMNOPQRSTUVWXYZ

BUILD BIN report for CAGEr on merida1

This page was generated on 2020-08-06 12:17:14 -0400 (Thu, 06 Aug 2020).

TO THE DEVELOPERS/MAINTAINERS OF THE CAGEr PACKAGE: Please make sure to use the following settings in order to reproduce any error or warning you see on this page.
Package 214/1882HostnameOS / ArchINSTALLBUILDCHECKBUILD BIN
CAGEr 1.31.4
Vanja Haberle , Charles Plessy , Damir Baranasic , Sarvesh Nikumbh
Snapshot Date: 2020-08-05 14:50:59 -0400 (Wed, 05 Aug 2020)
URL: https://git.bioconductor.org/packages/CAGEr
Branch: master
Last Commit: f845b5c
Last Changed Date: 2020-07-14 02:01:55 -0400 (Tue, 14 Jul 2020)
malbec1 Linux (Ubuntu 18.04.4 LTS) / x86_64  OK  OK  OK UNNEEDED, same version exists in internal repository
tokay1 Windows Server 2012 R2 Standard / x64  OK  OK  WARNINGS  OK UNNEEDED, same version exists in internal repository
merida1 macOS 10.14.6 Mojave / x86_64  OK  OK  OK [ OK ]UNNEEDED, same version exists in internal repository

Summary

Package: CAGEr
Version: 1.31.4
Command: rm -rf CAGEr.buildbin-libdir && mkdir CAGEr.buildbin-libdir && /Users/biocbuild/BBS/utils/build-universal.sh CAGEr_1.31.4.tar.gz /Library/Frameworks/R.framework/Versions/Current/Resources/bin/R CAGEr.buildbin-libdir
StartedAt: 2020-08-06 06:29:35 -0400 (Thu, 06 Aug 2020)
EndedAt: 2020-08-06 06:30:36 -0400 (Thu, 06 Aug 2020)
EllapsedTime: 61.8 seconds
RetCode: 0
Status:  OK 
PackageFile: CAGEr_1.31.4.tgz
PackageFileSize: 2.733 MiB

Command output

##############################################################################
##############################################################################
###
### Running command:
###
###   rm -rf CAGEr.buildbin-libdir && mkdir CAGEr.buildbin-libdir && /Users/biocbuild/BBS/utils/build-universal.sh CAGEr_1.31.4.tar.gz /Library/Frameworks/R.framework/Versions/Current/Resources/bin/R CAGEr.buildbin-libdir
###
##############################################################################
##############################################################################


>>>>>>> 
>>>>>>> INSTALLATION WITH 'R CMD INSTALL --preclean --no-multiarch --library=CAGEr.buildbin-libdir CAGEr_1.31.4.tar.gz'
>>>>>>> 

* installing *source* package ‘CAGEr’ ...
** using staged installation
** R
** data
*** moving datasets to lazyload DB
** inst
** byte-compile and prepare package for lazy loading
** help
*** installing help indices
** building package indices
** installing vignettes
** testing if installed package can be loaded from temporary location
** testing if installed package can be loaded from final location
** testing if installed package keeps a record of temporary installation path
* DONE (CAGEr)