Back to Multiple platform build/check report for BioC 3.12
[A]BCDEFGHIJKLMNOPQRSTUVWXYZ

BUILD report for ASpediaFI on tokay1

This page was generated on 2020-08-11 11:49:28 -0400 (Tue, 11 Aug 2020).

TO THE DEVELOPERS/MAINTAINERS OF THE ASpediaFI PACKAGE: Please make sure to use the following settings in order to reproduce any error or warning you see on this page.
Package 88/1885HostnameOS / ArchINSTALLBUILDCHECKBUILD BIN
ASpediaFI 1.3.0
Doyeong Yu
Snapshot Date: 2020-08-10 14:50:56 -0400 (Mon, 10 Aug 2020)
URL: https://git.bioconductor.org/packages/ASpediaFI
Branch: master
Last Commit: 1255415
Last Changed Date: 2020-04-27 15:31:42 -0400 (Mon, 27 Apr 2020)
malbec1 Linux (Ubuntu 18.04.4 LTS) / x86_64  OK  OK  OK UNNEEDED, same version exists in internal repository
nebbiolo1 Linux (Ubuntu 20.04.1 LTS) / x86_64  OK  OK  NA 
tokay1 Windows Server 2012 R2 Standard / x64  OK [ OK ] OK  OK UNNEEDED, same version exists in internal repository
merida1 macOS 10.14.6 Mojave / x86_64  OK  OK  OK  OK UNNEEDED, same version exists in internal repository

Summary

Package: ASpediaFI
Version: 1.3.0
Command: chmod a+r ASpediaFI -R && C:\Users\biocbuild\bbs-3.12-bioc\R\bin\R.exe CMD build --keep-empty-dirs --no-resave-data ASpediaFI
StartedAt: 2020-08-10 22:59:05 -0400 (Mon, 10 Aug 2020)
EndedAt: 2020-08-10 23:11:50 -0400 (Mon, 10 Aug 2020)
EllapsedTime: 764.7 seconds
RetCode: 0
Status:  OK  
PackageFile: ASpediaFI_1.3.0.tar.gz
PackageFileSize: 2.683 MiB

Command output

##############################################################################
##############################################################################
###
### Running command:
###
###   chmod a+r ASpediaFI -R && C:\Users\biocbuild\bbs-3.12-bioc\R\bin\R.exe CMD build --keep-empty-dirs --no-resave-data ASpediaFI
###
##############################################################################
##############################################################################


* checking for file 'ASpediaFI/DESCRIPTION' ... OK
* preparing 'ASpediaFI':
* checking DESCRIPTION meta-information ... OK
* installing the package to build vignettes
* creating vignettes ... OK
* checking for LF line-endings in source and make files and shell scripts
* checking for empty or unneeded directories
* looking to see if a 'data/datalist' file should be added
* building 'ASpediaFI_1.3.0.tar.gz'