Back to Multiple platform build/check report for BioC 3.12
A[B]CDEFGHIJKLMNOPQRSTUVWXYZ

BUILD report for bigPint on tokay1

This page was generated on 2020-08-11 11:48:03 -0400 (Tue, 11 Aug 2020).

TO THE DEVELOPERS/MAINTAINERS OF THE bigPint PACKAGE: Please make sure to use the following settings in order to reproduce any error or warning you see on this page.
Package 142/1885HostnameOS / ArchINSTALLBUILDCHECKBUILD BIN
bigPint 1.5.0
Lindsay Rutter
Snapshot Date: 2020-08-10 14:50:56 -0400 (Mon, 10 Aug 2020)
URL: https://git.bioconductor.org/packages/bigPint
Branch: master
Last Commit: 961ce4a
Last Changed Date: 2020-04-27 15:22:45 -0400 (Mon, 27 Apr 2020)
malbec1 Linux (Ubuntu 18.04.4 LTS) / x86_64  OK  OK  OK UNNEEDED, same version exists in internal repository
nebbiolo1 Linux (Ubuntu 20.04.1 LTS) / x86_64  OK  OK  NA 
tokay1 Windows Server 2012 R2 Standard / x64  OK [ OK ] OK  OK UNNEEDED, same version exists in internal repository
merida1 macOS 10.14.6 Mojave / x86_64  OK  OK  OK  OK UNNEEDED, same version exists in internal repository

Summary

Package: bigPint
Version: 1.5.0
Command: chmod a+r bigPint -R && C:\Users\biocbuild\bbs-3.12-bioc\R\bin\R.exe CMD build --keep-empty-dirs --no-resave-data bigPint
StartedAt: 2020-08-10 22:36:56 -0400 (Mon, 10 Aug 2020)
EndedAt: 2020-08-10 22:38:50 -0400 (Mon, 10 Aug 2020)
EllapsedTime: 113.8 seconds
RetCode: 0
Status:  OK  
PackageFile: bigPint_1.5.0.tar.gz
PackageFileSize: 5.97 MiB

Command output

##############################################################################
##############################################################################
###
### Running command:
###
###   chmod a+r bigPint -R && C:\Users\biocbuild\bbs-3.12-bioc\R\bin\R.exe CMD build --keep-empty-dirs --no-resave-data bigPint
###
##############################################################################
##############################################################################


* checking for file 'bigPint/DESCRIPTION' ... OK
* preparing 'bigPint':
* checking DESCRIPTION meta-information ... OK
* installing the package to build vignettes
* creating vignettes ... OK
* checking for LF line-endings in source and make files and shell scripts
* checking for empty or unneeded directories
* building 'bigPint_1.5.0.tar.gz'