Back to Multiple platform build/check report for BioC 3.12
AB[C]DEFGHIJKLMNOPQRSTUVWXYZ

Multiple platform build/check report for BioC 3.12

All results for package CellTrails

This page was generated on 2021-04-21 12:06:15 -0400 (Wed, 21 Apr 2021).

Package 259/1974HostnameOS / ArchINSTALLBUILDCHECKBUILD BIN
CellTrails 1.8.0  (landing page)
Daniel Ellwanger
Snapshot Date: 2021-04-20 14:50:06 -0400 (Tue, 20 Apr 2021)
URL: https://git.bioconductor.org/packages/CellTrails
Branch: RELEASE_3_12
Last Commit: f0ce473
Last Changed Date: 2020-10-27 11:36:23 -0400 (Tue, 27 Oct 2020)
malbec1Linux (Ubuntu 18.04.5 LTS) / x86_64  OK    OK    OK  UNNEEDED, same version exists in internal repository
tokay1Windows Server 2012 R2 Standard / x64  OK    OK    OK    OK  UNNEEDED, same version exists in internal repository
merida1macOS 10.14.6 Mojave / x86_64  OK    OK    OK    OK  UNNEEDED, same version exists in internal repository