Back to Multiple platform build/check report for BioC 3.12
A[B]CDEFGHIJKLMNOPQRSTUVWXYZ

BUILD report for BDMMAcorrect on tokay1

This page was generated on 2020-08-12 11:48:44 -0400 (Wed, 12 Aug 2020).

TO THE DEVELOPERS/MAINTAINERS OF THE BDMMAcorrect PACKAGE: Please make sure to use the following settings in order to reproduce any error or warning you see on this page.
Package 124/1885HostnameOS / ArchINSTALLBUILDCHECKBUILD BIN
BDMMAcorrect 1.7.0
ZHENWEI DAI
Snapshot Date: 2020-08-11 14:50:16 -0400 (Tue, 11 Aug 2020)
URL: https://git.bioconductor.org/packages/BDMMAcorrect
Branch: master
Last Commit: a783c25
Last Changed Date: 2020-04-27 15:21:40 -0400 (Mon, 27 Apr 2020)
malbec1 Linux (Ubuntu 18.04.4 LTS) / x86_64  OK  OK  OK UNNEEDED, same version exists in internal repository
nebbiolo1 Linux (Ubuntu 20.04.1 LTS) / x86_64  OK  OK  OK 
tokay1 Windows Server 2012 R2 Standard / x64  OK [ OK ] OK  OK UNNEEDED, same version exists in internal repository
merida1 macOS 10.14.6 Mojave / x86_64  OK  OK  OK  OK UNNEEDED, same version exists in internal repository

Summary

Package: BDMMAcorrect
Version: 1.7.0
Command: chmod a+r BDMMAcorrect -R && C:\Users\biocbuild\bbs-3.12-bioc\R\bin\R.exe CMD build --keep-empty-dirs --no-resave-data BDMMAcorrect
StartedAt: 2020-08-11 22:32:19 -0400 (Tue, 11 Aug 2020)
EndedAt: 2020-08-11 22:50:23 -0400 (Tue, 11 Aug 2020)
EllapsedTime: 1083.7 seconds
RetCode: 0
Status:  OK  
PackageFile: BDMMAcorrect_1.7.0.tar.gz
PackageFileSize: 385.3 KiB

Command output

##############################################################################
##############################################################################
###
### Running command:
###
###   chmod a+r BDMMAcorrect -R && C:\Users\biocbuild\bbs-3.12-bioc\R\bin\R.exe CMD build --keep-empty-dirs --no-resave-data BDMMAcorrect
###
##############################################################################
##############################################################################


* checking for file 'BDMMAcorrect/DESCRIPTION' ... OK
* preparing 'BDMMAcorrect':
* checking DESCRIPTION meta-information ... OK
* cleaning src
* installing the package to build vignettes
* creating vignettes ... OK
* cleaning src
* checking for LF line-endings in source and make files and shell scripts
* checking for empty or unneeded directories
* building 'BDMMAcorrect_1.7.0.tar.gz'