Back to Multiple platform build/check report for BioC 3.12
A[B]CDEFGHIJKLMNOPQRSTUVWXYZ

INSTALL report for biocGraph on tokay1

This page was generated on 2020-08-07 11:57:50 -0400 (Fri, 07 Aug 2020).

TO THE DEVELOPERS/MAINTAINERS OF THE biocGraph PACKAGE: Please make sure to use the following settings in order to reproduce any error or warning you see on this page.
Package 153/1882HostnameOS / ArchINSTALLBUILDCHECKBUILD BIN
biocGraph 1.51.0
Florian Hahne
Snapshot Date: 2020-08-06 14:50:46 -0400 (Thu, 06 Aug 2020)
URL: https://git.bioconductor.org/packages/biocGraph
Branch: master
Last Commit: a37dab4
Last Changed Date: 2020-04-27 14:15:24 -0400 (Mon, 27 Apr 2020)
malbec1 Linux (Ubuntu 18.04.4 LTS) / x86_64  OK  OK  OK UNNEEDED, same version exists in internal repository
tokay1 Windows Server 2012 R2 Standard / x64 [ OK ] OK  OK  OK UNNEEDED, same version exists in internal repository
merida1 macOS 10.14.6 Mojave / x86_64  OK  OK  OK  OK UNNEEDED, same version exists in internal repository

Summary

Package: biocGraph
Version: 1.51.0
Command: C:\cygwin\bin\curl.exe -O https://malbec1.bioconductor.org/BBS/3.12/bioc/src/contrib/biocGraph_1.51.0.tar.gz && rm -rf biocGraph.buildbin-libdir && mkdir biocGraph.buildbin-libdir && C:\Users\biocbuild\bbs-3.12-bioc\R\bin\R.exe CMD INSTALL --merge-multiarch --build --library=biocGraph.buildbin-libdir biocGraph_1.51.0.tar.gz && C:\Users\biocbuild\bbs-3.12-bioc\R\bin\R.exe CMD INSTALL biocGraph_1.51.0.zip && rm biocGraph_1.51.0.tar.gz biocGraph_1.51.0.zip
StartedAt: 2020-08-06 17:34:46 -0400 (Thu, 06 Aug 2020)
EndedAt: 2020-08-06 17:35:14 -0400 (Thu, 06 Aug 2020)
EllapsedTime: 28.1 seconds
RetCode: 0
Status:  OK  

Command output

##############################################################################
##############################################################################
###
### Running command:
###
###   C:\cygwin\bin\curl.exe -O https://malbec1.bioconductor.org/BBS/3.12/bioc/src/contrib/biocGraph_1.51.0.tar.gz && rm -rf biocGraph.buildbin-libdir && mkdir biocGraph.buildbin-libdir && C:\Users\biocbuild\bbs-3.12-bioc\R\bin\R.exe CMD INSTALL --merge-multiarch --build --library=biocGraph.buildbin-libdir biocGraph_1.51.0.tar.gz && C:\Users\biocbuild\bbs-3.12-bioc\R\bin\R.exe CMD INSTALL biocGraph_1.51.0.zip && rm biocGraph_1.51.0.tar.gz biocGraph_1.51.0.zip
###
##############################################################################
##############################################################################


  % Total    % Received % Xferd  Average Speed   Time    Time     Time  Current
                                 Dload  Upload   Total   Spent    Left  Speed

  0     0    0     0    0     0      0      0 --:--:-- --:--:-- --:--:--     0
100 31466  100 31466    0     0   188k      0 --:--:-- --:--:-- --:--:--  193k

install for i386

* installing *source* package 'biocGraph' ...
** using staged installation
** R
** byte-compile and prepare package for lazy loading
** help
*** installing help indices
  converting help for package 'biocGraph'
    finding HTML links ... done
    imageMap                                html  
** building package indices
** installing vignettes
** testing if installed package can be loaded from temporary location
** testing if installed package can be loaded from final location
** testing if installed package keeps a record of temporary installation path

install for x64

* installing *source* package 'biocGraph' ...
** testing if installed package can be loaded
* MD5 sums
packaged installation of 'biocGraph' as biocGraph_1.51.0.zip
* DONE (biocGraph)
* installing to library 'C:/Users/biocbuild/bbs-3.12-bioc/R/library'
package 'biocGraph' successfully unpacked and MD5 sums checked