Back to Multiple platform build/check report for BioC 3.12
A[B]CDEFGHIJKLMNOPQRSTUVWXYZ

INSTALL report for BgeeDB on merida1

This page was generated on 2021-02-22 12:41:55 -0500 (Mon, 22 Feb 2021).

To the developers/maintainers of the BgeeDB package:
Please make sure to use the following settings in order to reproduce any error or warning you see on this page.
Package 141/1974HostnameOS / ArchINSTALLBUILDCHECKBUILD BIN
BgeeDB 2.16.0
Julien Wollbrett , Julien Roux , Andrea Komljenovic , Frederic Bastian
Snapshot Date: 2021-02-21 14:52:07 -0500 (Sun, 21 Feb 2021)
URL: https://git.bioconductor.org/packages/BgeeDB
Branch: RELEASE_3_12
Last Commit: ce6dd8f
Last Changed Date: 2020-10-27 11:14:01 -0500 (Tue, 27 Oct 2020)
malbec1Linux (Ubuntu 18.04.5 LTS) / x86_64  OK    OK    OK  UNNEEDED, same version exists in internal repository
nebbiolo1Linux (Ubuntu 20.04.2 LTS) / x86_64  OK    OK    OK  
tokay1Windows Server 2012 R2 Standard / x64  OK    OK    ERROR    OK  
merida1macOS 10.14.6 Mojave / x86_64  OK    OK    OK    OK  UNNEEDED, same version exists in internal repository

Summary

Package: BgeeDB
Version: 2.16.0
Command: /Library/Frameworks/R.framework/Versions/Current/Resources/bin/R CMD INSTALL BgeeDB
StartedAt: 2021-02-21 17:47:45 -0500 (Sun, 21 Feb 2021)
EndedAt: 2021-02-21 17:48:14 -0500 (Sun, 21 Feb 2021)
EllapsedTime: 28.8 seconds
RetCode: 0
Status:   OK  

Command output

##############################################################################
##############################################################################
###
### Running command:
###
###   /Library/Frameworks/R.framework/Versions/Current/Resources/bin/R CMD INSTALL BgeeDB
###
##############################################################################
##############################################################################


* installing to library ‘/Library/Frameworks/R.framework/Versions/4.0/Resources/library’
* installing *source* package ‘BgeeDB’ ...
** using staged installation
** R
** data
** inst
** byte-compile and prepare package for lazy loading

groupGOTerms: 	GOBPTerm, GOMFTerm, GOCCTerm environments built.
** help
*** installing help indices
** building package indices
** installing vignettes
** testing if installed package can be loaded from temporary location

groupGOTerms: 	GOBPTerm, GOMFTerm, GOCCTerm environments built.
** testing if installed package can be loaded from final location

groupGOTerms: 	GOBPTerm, GOMFTerm, GOCCTerm environments built.
** testing if installed package keeps a record of temporary installation path
* DONE (BgeeDB)