Back to Multiple platform build/check report for BioC 3.12
A[B]CDEFGHIJKLMNOPQRSTUVWXYZ

BUILD report for biobroom on merida1

This page was generated on 2020-08-10 12:38:12 -0400 (Mon, 10 Aug 2020).

TO THE DEVELOPERS/MAINTAINERS OF THE biobroom PACKAGE: Please make sure to use the following settings in order to reproduce any error or warning you see on this page.
Package 145/1882HostnameOS / ArchINSTALLBUILDCHECKBUILD BIN
biobroom 1.21.0
John D. Storey and Andrew J. Bass
Snapshot Date: 2020-08-09 14:51:29 -0400 (Sun, 09 Aug 2020)
URL: https://git.bioconductor.org/packages/biobroom
Branch: master
Last Commit: b8fc28f
Last Changed Date: 2020-04-27 14:52:30 -0400 (Mon, 27 Apr 2020)
malbec1 Linux (Ubuntu 18.04.4 LTS) / x86_64  OK  OK  OK UNNEEDED, same version exists in internal repository
nebbiolo1 Linux (Ubuntu 20.04.1 LTS) / x86_64  OK  OK  OK 
tokay1 Windows Server 2012 R2 Standard / x64  OK  OK  WARNINGS  OK UNNEEDED, same version exists in internal repository
merida1 macOS 10.14.6 Mojave / x86_64  OK [ OK ] OK  OK UNNEEDED, same version exists in internal repository

Summary

Package: biobroom
Version: 1.21.0
Command: /Library/Frameworks/R.framework/Versions/Current/Resources/bin/R CMD build --keep-empty-dirs --no-resave-data biobroom
StartedAt: 2020-08-09 19:42:09 -0400 (Sun, 09 Aug 2020)
EndedAt: 2020-08-09 19:43:07 -0400 (Sun, 09 Aug 2020)
EllapsedTime: 58.2 seconds
RetCode: 0
Status:  OK 
PackageFile: biobroom_1.21.0.tar.gz
PackageFileSize: 265.9 KiB

Command output

##############################################################################
##############################################################################
###
### Running command:
###
###   /Library/Frameworks/R.framework/Versions/Current/Resources/bin/R CMD build --keep-empty-dirs --no-resave-data biobroom
###
##############################################################################
##############################################################################


* checking for file ‘biobroom/DESCRIPTION’ ... OK
* preparing ‘biobroom’:
* checking DESCRIPTION meta-information ... OK
* installing the package to build vignettes
* creating vignettes ... OK
* checking for LF line-endings in source and make files and shell scripts
* checking for empty or unneeded directories
* building ‘biobroom_1.21.0.tar.gz’