Back to Multiple platform build/check report for BioC 3.12
[A]BCDEFGHIJKLMNOPQRSTUVWXYZ

INSTALL report for ATACseqQC on malbec1

This page was generated on 2020-08-06 11:40:54 -0400 (Thu, 06 Aug 2020).

TO THE DEVELOPERS/MAINTAINERS OF THE ATACseqQC PACKAGE: Please make sure to use the following settings in order to reproduce any error or warning you see on this page.
Package 93/1882HostnameOS / ArchINSTALLBUILDCHECKBUILD BIN
ATACseqQC 1.13.3
Jianhong Ou
Snapshot Date: 2020-08-05 14:50:59 -0400 (Wed, 05 Aug 2020)
URL: https://git.bioconductor.org/packages/ATACseqQC
Branch: master
Last Commit: 2996d20
Last Changed Date: 2020-05-29 21:55:02 -0400 (Fri, 29 May 2020)
malbec1 Linux (Ubuntu 18.04.4 LTS) / x86_64 [ OK ] OK  OK UNNEEDED, same version exists in internal repository
tokay1 Windows Server 2012 R2 Standard / x64  OK  OK  OK  OK UNNEEDED, same version exists in internal repository
merida1 macOS 10.14.6 Mojave / x86_64  OK  OK  OK  OK UNNEEDED, same version exists in internal repository

Summary

Package: ATACseqQC
Version: 1.13.3
Command: /home/biocbuild/bbs-3.12-bioc/R/bin/R CMD INSTALL ATACseqQC
StartedAt: 2020-08-05 17:10:05 -0400 (Wed, 05 Aug 2020)
EndedAt: 2020-08-05 17:10:53 -0400 (Wed, 05 Aug 2020)
EllapsedTime: 48.0 seconds
RetCode: 0
Status:  OK 

Command output

##############################################################################
##############################################################################
###
### Running command:
###
###   /home/biocbuild/bbs-3.12-bioc/R/bin/R CMD INSTALL ATACseqQC
###
##############################################################################
##############################################################################


* installing to library ‘/home/biocbuild/bbs-3.12-bioc/R/library’
* installing *source* package ‘ATACseqQC’ ...
** using staged installation
** R
** inst
** byte-compile and prepare package for lazy loading
No methods found in package 'IRanges' for request: 'values' when loading 'GenomicScores'
** help
*** installing help indices
** building package indices
** installing vignettes
** testing if installed package can be loaded from temporary location
No methods found in package 'IRanges' for request: 'values' when loading 'GenomicScores'
** testing if installed package can be loaded from final location
No methods found in package 'IRanges' for request: 'values' when loading 'GenomicScores'
** testing if installed package keeps a record of temporary installation path
* DONE (ATACseqQC)