Back to Multiple platform build/check report for BioC 3.12
AB[C]DEFGHIJKLMNOPQRSTUVWXYZ

BUILD report for CARNIVAL on merida1

This page was generated on 2020-08-13 12:01:06 -0400 (Thu, 13 Aug 2020).

TO THE DEVELOPERS/MAINTAINERS OF THE CARNIVAL PACKAGE: Please make sure to use the following settings in order to reproduce any error or warning you see on this page.
Package 225/1885HostnameOS / ArchINSTALLBUILDCHECKBUILD BIN
CARNIVAL 1.1.0
Enio Gjerga
Snapshot Date: 2020-08-12 14:52:00 -0400 (Wed, 12 Aug 2020)
URL: https://git.bioconductor.org/packages/CARNIVAL
Branch: master
Last Commit: 09ec937
Last Changed Date: 2020-04-27 15:36:20 -0400 (Mon, 27 Apr 2020)
malbec1 Linux (Ubuntu 18.04.4 LTS) / x86_64  OK  OK  OK UNNEEDED, same version exists in internal repository
nebbiolo1 Linux (Ubuntu 20.04.1 LTS) / x86_64  OK  OK  OK 
tokay1 Windows Server 2012 R2 Standard / x64  OK  OK  OK  OK UNNEEDED, same version exists in internal repository
merida1 macOS 10.14.6 Mojave / x86_64  OK [ OK ] OK  OK UNNEEDED, same version exists in internal repository

Summary

Package: CARNIVAL
Version: 1.1.0
Command: /Library/Frameworks/R.framework/Versions/Current/Resources/bin/R CMD build --keep-empty-dirs --no-resave-data CARNIVAL
StartedAt: 2020-08-12 22:12:21 -0400 (Wed, 12 Aug 2020)
EndedAt: 2020-08-12 22:13:10 -0400 (Wed, 12 Aug 2020)
EllapsedTime: 48.9 seconds
RetCode: 0
Status:  OK 
PackageFile: CARNIVAL_1.1.0.tar.gz
PackageFileSize: 786.2 KiB

Command output

##############################################################################
##############################################################################
###
### Running command:
###
###   /Library/Frameworks/R.framework/Versions/Current/Resources/bin/R CMD build --keep-empty-dirs --no-resave-data CARNIVAL
###
##############################################################################
##############################################################################


* checking for file ‘CARNIVAL/DESCRIPTION’ ... OK
* preparing ‘CARNIVAL’:
* checking DESCRIPTION meta-information ... OK
* installing the package to build vignettes
* creating vignettes ... OK
* checking for LF line-endings in source and make files and shell scripts
* checking for empty or unneeded directories
* building ‘CARNIVAL_1.1.0.tar.gz’