Back to Multiple platform build/check report for BioC 3.12
AB[C]DEFGHIJKLMNOPQRSTUVWXYZ

BUILD BIN report for CellMixS on merida1

This page was generated on 2020-10-24 11:07:58 -0400 (Sat, 24 Oct 2020).

TO THE DEVELOPERS/MAINTAINERS OF THE CellMixS PACKAGE: Please make sure to use the following settings in order to reproduce any error or warning you see on this page.
Package 255/1974HostnameOS / ArchINSTALLBUILDCHECKBUILD BIN
CellMixS 1.5.2
Almut Lütge
Snapshot Date: 2020-10-23 14:40:36 -0400 (Fri, 23 Oct 2020)
URL: https://git.bioconductor.org/packages/CellMixS
Branch: master
Last Commit: 8bcc521
Last Changed Date: 2020-09-08 02:40:49 -0400 (Tue, 08 Sep 2020)
malbec1 Linux (Ubuntu 18.04.4 LTS) / x86_64  OK  OK  OK UNNEEDED, same version exists in internal repository
nebbiolo1 Linux (Ubuntu 20.04.1 LTS) / x86_64  OK  OK  OK 
tokay1 Windows Server 2012 R2 Standard / x64  OK  OK  OK  OK UNNEEDED, same version exists in internal repository
riesling1 Windows Server 2019 Standard / x64  OK  OK  OK  OK 
merida1 macOS 10.14.6 Mojave / x86_64  OK  OK  OK [ OK ]UNNEEDED, same version exists in internal repository

Summary

Package: CellMixS
Version: 1.5.2
Command: rm -rf CellMixS.buildbin-libdir && mkdir CellMixS.buildbin-libdir && /Users/biocbuild/BBS/utils/build-universal.sh CellMixS_1.5.2.tar.gz /Library/Frameworks/R.framework/Versions/Current/Resources/bin/R CellMixS.buildbin-libdir
StartedAt: 2020-10-24 07:42:40 -0400 (Sat, 24 Oct 2020)
EndedAt: 2020-10-24 07:43:41 -0400 (Sat, 24 Oct 2020)
EllapsedTime: 60.6 seconds
RetCode: 0
Status:  OK 
PackageFile: CellMixS_1.5.2.tgz
PackageFileSize: 1.774 MiB

Command output

##############################################################################
##############################################################################
###
### Running command:
###
###   rm -rf CellMixS.buildbin-libdir && mkdir CellMixS.buildbin-libdir && /Users/biocbuild/BBS/utils/build-universal.sh CellMixS_1.5.2.tar.gz /Library/Frameworks/R.framework/Versions/Current/Resources/bin/R CellMixS.buildbin-libdir
###
##############################################################################
##############################################################################


>>>>>>> 
>>>>>>> INSTALLATION WITH 'R CMD INSTALL --preclean --no-multiarch --library=CellMixS.buildbin-libdir CellMixS_1.5.2.tar.gz'
>>>>>>> 

* installing *source* package ‘CellMixS’ ...
** using staged installation
** R
** inst
** byte-compile and prepare package for lazy loading
** help
*** installing help indices
** building package indices
** installing vignettes
** testing if installed package can be loaded from temporary location
** testing if installed package can be loaded from final location
** testing if installed package keeps a record of temporary installation path
* DONE (CellMixS)