Back to Multiple platform build/check report for BioC 3.12
[A]BCDEFGHIJKLMNOPQRSTUVWXYZ

BUILD report for abseqR on tokay1

This page was generated on 2020-10-30 12:10:42 -0400 (Fri, 30 Oct 2020).

TO THE DEVELOPERS/MAINTAINERS OF THE abseqR PACKAGE: Please make sure to use the following settings in order to reproduce any error or warning you see on this page.
Package 9/1974HostnameOS / ArchINSTALLBUILDCHECKBUILD BIN
abseqR 1.8.0
JiaHong Fong
Snapshot Date: 2020-10-29 14:45:49 -0400 (Thu, 29 Oct 2020)
URL: https://git.bioconductor.org/packages/abseqR
Branch: RELEASE_3_12
Last Commit: 0a4616b
Last Changed Date: 2020-10-27 11:40:24 -0400 (Tue, 27 Oct 2020)
malbec1 Linux (Ubuntu 18.04.4 LTS) / x86_64  OK  OK  OK UNNEEDED, same version exists in internal repository
nebbiolo1 Linux (Ubuntu 20.04.1 LTS) / x86_64  OK  OK  OK 
tokay1 Windows Server 2012 R2 Standard / x64  OK [ OK ] OK  OK UNNEEDED, same version exists in internal repository
merida1 macOS 10.14.6 Mojave / x86_64  OK  OK  OK  OK UNNEEDED, same version exists in internal repository

Summary

Package: abseqR
Version: 1.8.0
Command: chmod a+r abseqR -R && C:\Users\biocbuild\bbs-3.12-bioc\R\bin\R.exe CMD build --keep-empty-dirs --no-resave-data abseqR
StartedAt: 2020-10-29 21:00:03 -0400 (Thu, 29 Oct 2020)
EndedAt: 2020-10-29 21:02:24 -0400 (Thu, 29 Oct 2020)
EllapsedTime: 141.8 seconds
RetCode: 0
Status:  OK  
PackageFile: abseqR_1.8.0.tar.gz
PackageFileSize: 1.469 MiB

Command output

##############################################################################
##############################################################################
###
### Running command:
###
###   chmod a+r abseqR -R && C:\Users\biocbuild\bbs-3.12-bioc\R\bin\R.exe CMD build --keep-empty-dirs --no-resave-data abseqR
###
##############################################################################
##############################################################################


* checking for file 'abseqR/DESCRIPTION' ... OK
* preparing 'abseqR':
* checking DESCRIPTION meta-information ... OK
* installing the package to build vignettes
* creating vignettes ... OK
* checking for LF line-endings in source and make files and shell scripts
* checking for empty or unneeded directories
* building 'abseqR_1.8.0.tar.gz'