Back to Multiple platform build/check report for BioC 3.12
[A]BCDEFGHIJKLMNOPQRSTUVWXYZ

BUILD BIN report for AnnotationDbi on merida1

This page was generated on 2021-03-02 12:19:26 -0500 (Tue, 02 Mar 2021).

To the developers/maintainers of the AnnotationDbi package:
Please make sure to use the following settings in order to reproduce any error or warning you see on this page.
Package 62/1974HostnameOS / ArchINSTALLBUILDCHECKBUILD BIN
AnnotationDbi 1.52.0
Bioconductor Package Maintainer
Snapshot Date: 2021-03-01 14:52:38 -0500 (Mon, 01 Mar 2021)
URL: https://git.bioconductor.org/packages/AnnotationDbi
Branch: RELEASE_3_12
Last Commit: c4e0ca9
Last Changed Date: 2020-10-27 10:29:55 -0500 (Tue, 27 Oct 2020)
malbec1Linux (Ubuntu 18.04.5 LTS) / x86_64  OK    OK    OK  UNNEEDED, same version exists in internal repository
nebbiolo1Linux (Ubuntu 20.04.2 LTS) / x86_64  OK    OK    OK  
tokay1Windows Server 2012 R2 Standard / x64  OK    OK    OK    OK  UNNEEDED, same version exists in internal repository
merida1macOS 10.14.6 Mojave / x86_64  OK    OK    OK    OK  UNNEEDED, same version exists in internal repository

Summary

Package: AnnotationDbi
Version: 1.52.0
Command: rm -rf AnnotationDbi.buildbin-libdir && mkdir AnnotationDbi.buildbin-libdir && /Users/biocbuild/BBS/utils/build-universal.sh AnnotationDbi_1.52.0.tar.gz /Library/Frameworks/R.framework/Versions/Current/Resources/bin/R AnnotationDbi.buildbin-libdir
StartedAt: 2021-03-02 07:50:14 -0500 (Tue, 02 Mar 2021)
EndedAt: 2021-03-02 07:52:30 -0500 (Tue, 02 Mar 2021)
EllapsedTime: 135.9 seconds
RetCode: 0
Status:   OK  
PackageFile: AnnotationDbi_1.52.0.tgz
PackageFileSize: 4.923 MiB

Command output

##############################################################################
##############################################################################
###
### Running command:
###
###   rm -rf AnnotationDbi.buildbin-libdir && mkdir AnnotationDbi.buildbin-libdir && /Users/biocbuild/BBS/utils/build-universal.sh AnnotationDbi_1.52.0.tar.gz /Library/Frameworks/R.framework/Versions/Current/Resources/bin/R AnnotationDbi.buildbin-libdir
###
##############################################################################
##############################################################################


>>>>>>> 
>>>>>>> INSTALLATION WITH 'R CMD INSTALL --preclean --no-multiarch --library=AnnotationDbi.buildbin-libdir AnnotationDbi_1.52.0.tar.gz'
>>>>>>> 

* installing *source* package ‘AnnotationDbi’ ...
** using staged installation
** R
** inst
** byte-compile and prepare package for lazy loading
Creating a new generic function for ‘packageName’ in package ‘AnnotationDbi’
Creating a generic function for ‘ls’ from package ‘base’ in package ‘AnnotationDbi’
Creating a generic function for ‘eapply’ from package ‘base’ in package ‘AnnotationDbi’
Creating a generic function for ‘exists’ from package ‘base’ in package ‘AnnotationDbi’
Creating a generic function for ‘sample’ from package ‘base’ in package ‘AnnotationDbi’
** help
*** installing help indices
** building package indices
** installing vignettes
** testing if installed package can be loaded from temporary location
** testing if installed package can be loaded from final location
** testing if installed package keeps a record of temporary installation path
* DONE (AnnotationDbi)