Back to Multiple platform build/check report for BioC 3.12
AB[C]DEFGHIJKLMNOPQRSTUVWXYZ

INSTALL report for CancerMutationAnalysis on malbec1

This page was generated on 2020-08-10 11:36:03 -0400 (Mon, 10 Aug 2020).

TO THE DEVELOPERS/MAINTAINERS OF THE CancerMutationAnalysis PACKAGE: Please make sure to use the following settings in order to reproduce any error or warning you see on this page.
Package 220/1882HostnameOS / ArchINSTALLBUILDCHECKBUILD BIN
CancerMutationAnalysis 1.31.0
Simina M. Boca
Snapshot Date: 2020-08-09 14:51:29 -0400 (Sun, 09 Aug 2020)
URL: https://git.bioconductor.org/packages/CancerMutationAnalysis
Branch: master
Last Commit: 251c81e
Last Changed Date: 2020-04-27 14:29:21 -0400 (Mon, 27 Apr 2020)
malbec1 Linux (Ubuntu 18.04.4 LTS) / x86_64 [ OK ] OK  OK UNNEEDED, same version exists in internal repository
nebbiolo1 Linux (Ubuntu 20.04.1 LTS) / x86_64  OK  OK  OK 
tokay1 Windows Server 2012 R2 Standard / x64  OK  OK  OK  OK UNNEEDED, same version exists in internal repository
merida1 macOS 10.14.6 Mojave / x86_64  OK  OK  OK  OK UNNEEDED, same version exists in internal repository

Summary

Package: CancerMutationAnalysis
Version: 1.31.0
Command: /home/biocbuild/bbs-3.12-bioc/R/bin/R CMD INSTALL CancerMutationAnalysis
StartedAt: 2020-08-09 16:12:47 -0400 (Sun, 09 Aug 2020)
EndedAt: 2020-08-09 16:13:02 -0400 (Sun, 09 Aug 2020)
EllapsedTime: 14.1 seconds
RetCode: 0
Status:  OK 

Command output

##############################################################################
##############################################################################
###
### Running command:
###
###   /home/biocbuild/bbs-3.12-bioc/R/bin/R CMD INSTALL CancerMutationAnalysis
###
##############################################################################
##############################################################################


* installing to library ‘/home/biocbuild/bbs-3.12-bioc/R/library’
* installing *source* package ‘CancerMutationAnalysis’ ...
** using staged installation
** libs
gcc -I"/home/biocbuild/bbs-3.12-bioc/R/include" -DNDEBUG   -I/usr/local/include   -fpic  -g -O2  -Wall -c get.cdf.het.berns.c -o get.cdf.het.berns.o
gcc -shared -L/home/biocbuild/bbs-3.12-bioc/R/lib -L/usr/local/lib -o CancerMutationAnalysis.so get.cdf.het.berns.o -L/home/biocbuild/bbs-3.12-bioc/R/lib -lR
installing to /home/biocbuild/bbs-3.12-bioc/R/library/00LOCK-CancerMutationAnalysis/00new/CancerMutationAnalysis/libs
** R
** data
** inst
** byte-compile and prepare package for lazy loading
** help
*** installing help indices
** building package indices
** installing vignettes
** testing if installed package can be loaded from temporary location
** checking absolute paths in shared objects and dynamic libraries
** testing if installed package can be loaded from final location
** testing if installed package keeps a record of temporary installation path
* DONE (CancerMutationAnalysis)